BEGIN:VCALENDAR
VERSION:2.0
PRODID:-//wp-events-plugin.com//7.2.3.1//EN
TZID:Europe/Berlin
X-WR-TIMEZONE:Europe/Berlin
BEGIN:VEVENT
UID:762@heilpraktiker-akademie-bayern.de
DTSTART;TZID=Europe/Berlin:20250426T090000
DTEND;TZID=Europe/Berlin:20250426T121500
DTSTAMP:20250302T161751Z
URL:https://heilpraktiker-akademie-bayern.de/events/sportverletzungen-und-
 rehabilitation/
SUMMARY:Sportverletzungen und Rehabilitation
DESCRIPTION:[av_two_third first min_height='' vertical_alignment='av-align-
 top' space='' row_boxshadow='' row_boxshadow_width='10' row_boxshadow_colo
 r='' custom_margin='' margin='0px' av-desktop-margin='' av-medium-margin='
 ' av-small-margin='' av-mini-margin='' mobile_breaking='' mobile_column_or
 der='' border='' border_style='solid' border_color='' radius='' min_col_he
 ight='' padding='' av-desktop-padding='' av-medium-padding='' av-small-pad
 ding='' av-mini-padding='' svg_div_top='' svg_div_top_color='#333333' svg_
 div_top_width='100' svg_div_top_height='50' svg_div_top_max_height='none' 
 svg_div_top_flip='' svg_div_top_invert='' svg_div_top_front='' svg_div_top
 _opacity='' svg_div_top_preview='' svg_div_bottom='' svg_div_bottom_color=
 '#333333' svg_div_bottom_width='100' svg_div_bottom_height='50' svg_div_bo
 ttom_max_height='none' svg_div_bottom_flip='' svg_div_bottom_invert='' svg
 _div_bottom_front='' svg_div_bottom_opacity='' svg_div_bottom_preview='' f
 old_type='' fold_height='' fold_more='Weiterlesen' fold_less='Read less' f
 old_text_style='' fold_btn_align='' column_boxshadow='' column_boxshadow_w
 idth='10' column_boxshadow_color='' background='bg_color' background_color
 ='' background_gradient_direction='vertical' background_gradient_color1='#
 000000' background_gradient_color2='#ffffff' background_gradient_color3=''
  src='' background_position='top left' background_repeat='no-repeat' highl
 ight='' highlight_size='' fold_overlay_color='' fold_text_color='' fold_bt
 n_color='theme-color' fold_btn_bg_color='' fold_btn_font_color='' size-btn
 -text='' av-desktop-font-size-btn-text='' av-medium-font-size-btn-text='' 
 av-small-font-size-btn-text='' av-mini-font-size-btn-text='' animation='' 
 animation_duration='' animation_custom_bg_color='' animation_z_index_curta
 in='100' parallax_parallax='' parallax_parallax_speed='' av-desktop-parall
 ax_parallax='' av-desktop-parallax_parallax_speed='' av-medium-parallax_pa
 rallax='' av-medium-parallax_parallax_speed='' av-small-parallax_parallax=
 '' av-small-parallax_parallax_speed='' av-mini-parallax_parallax='' av-min
 i-parallax_parallax_speed='' fold_timer='' z_index_fold='' css_position=''
  css_position_location='' css_position_z_index='' av-desktop-css_position=
 '' av-desktop-css_position_location='' av-desktop-css_position_z_index='' 
 av-medium-css_position='' av-medium-css_position_location='' av-medium-css
 _position_z_index='' av-small-css_position='' av-small-css_position_locati
 on='' av-small-css_position_z_index='' av-mini-css_position='' av-mini-css
 _position_location='' av-mini-css_position_z_index='' link='' linktarget='
 ' link_hover='' title_attr='' alt_attr='' mobile_display='' mobile_col_pos
 ='0' id='' custom_class='' template_class='' aria_label='' av_uid='av-d04v
 u8' sc_version='1.0']\n\n[av_textblock fold_type='' fold_height='' fold_mo
 re='Weiterlesen' fold_less='Read less' fold_text_style='' fold_btn_align='
 ' textblock_styling_align='' textblock_styling='' textblock_styling_gap=''
  textblock_styling_mobile='' size='' av-desktop-font-size='' av-medium-fon
 t-size='' av-small-font-size='' av-mini-font-size='' font_color='' color='
 ' fold_overlay_color='' fold_text_color='' fold_btn_color='theme-color' fo
 ld_btn_bg_color='' fold_btn_font_color='' size-btn-text='' av-desktop-font
 -size-btn-text='' av-medium-font-size-btn-text='' av-small-font-size-btn-t
 ext='' av-mini-font-size-btn-text='' fold_timer='' z_index_fold='' id='' c
 ustom_class='' template_class='' av_uid='av-lr61av32' sc_version='1.0' adm
 in_preview_bg='']\n[event]#_EVENTNAME[/event]\nVerletzungen\, nicht nur im
  Sport\, sondern auch im Alltag kommen in der Praxis häufig vor. Es werde
 n in diesem Seminar sowohl die möglichen Ursachen als auch die physiologi
 schen Hintergründe beleuchtet. Außerdem werden wir in diesem praxisbezog
 enen Workshop viele naturheilkundliche Gedanken zur Therapie\, Prophylaxe 
 und Nachsorge erarbeiten. Das an diesem Vormittag von dem erfahrenen Refer
 enten vermittelte Wissen kann sofort und effektiv in jeder Praxis umgesetz
 t werden. Eine Fortbildung vom Praktiker für Praktikerinnen und Praktiker
 .\n\nDozent: HP Paul Wagner\, Rosenheim\n\n\n\n[/av_textblock]\n\n[av_text
 block fold_type='' fold_height='' fold_more='Weiterlesen' fold_less='Read 
 less' fold_text_style='' fold_btn_align='' textblock_styling_align='' text
 block_styling='' textblock_styling_gap='' textblock_styling_mobile='' size
 ='' av-desktop-font-size='' av-medium-font-size='' av-small-font-size='' a
 v-mini-font-size='' font_color='' color='' fold_overlay_color='' fold_text
 _color='' fold_btn_color='theme-color' fold_btn_bg_color='' fold_btn_font_
 color='' size-btn-text='' av-desktop-font-size-btn-text='' av-medium-font-
 size-btn-text='' av-small-font-size-btn-text='' av-mini-font-size-btn-text
 ='' fold_timer='' z_index_fold='' id='' custom_class='' template_class='' 
 av_uid='av-lr61cego' sc_version='1.0' admin_preview_bg='']\nVoranmeldung e
 rbeten bei:\n\n\n[av_font_icon icon='ue805' font='entypo-fontello' style='
 ' caption='' link='manually\,jutta.leitner@email.de' linktarget='' size='2
 0px' position='left' color='' av_uid='av-bdojo0' custom_class='inline_cal'
  admin_preview_bg=''][/av_font_icon]Frau Jutta Leitner per E-Mail: jutta.l
 eitner@email.de oder Tel. 09404 6330\n[/av_textblock]\n\n[av_table purpose
 ='tabular' pricing_table_design='avia_pricing_default' pricing_hidden_cell
 s='' caption='' responsive_styling='avia_responsive_table' alb_description
 ='' id='' custom_class='' template_class='' av_uid='av-95d65s' sc_version=
 '1.0']\n[av_row row_style=''][av_cell col_style='avia-highlight-col']Veran
 staltungen der Bezirke sind für Mitglieder kostenfrei.\nDie Teilnahmegeb
 ühr für Nichtmitglieder (zugelassene Heilpraktiker mit Nachweis) beträg
 t € 25\,00 (bei Veranstaltungen von mehr als 4 Stunden € 50\,00). Soll
 ten Sie im Laufe des Kalenderjahres Mitglied im Heilpraktikerverband Bayer
 n e.V. werden\, wird Ihnen die Teilnahmegebühr angerechnet.[/av_cell][/av
 _row]\n[/av_table]\n\n[av_textblock fold_type='' fold_height='' fold_more=
 'Weiterlesen' fold_less='Read less' fold_text_style='' fold_btn_align='' t
 extblock_styling_align='' textblock_styling='' textblock_styling_gap='' te
 xtblock_styling_mobile='' size='' av-desktop-font-size='' av-medium-font-s
 ize='' av-small-font-size='' av-mini-font-size='' font_color='' color='' f
 old_overlay_color='' fold_text_color='' fold_btn_color='theme-color' fold_
 btn_bg_color='' fold_btn_font_color='' size-btn-text='' av-desktop-font-si
 ze-btn-text='' av-medium-font-size-btn-text='' av-small-font-size-btn-text
 ='' av-mini-font-size-btn-text='' fold_timer='' z_index_fold='' id='' cust
 om_class='' template_class='' av_uid='av-m7ru4e9p' sc_version='1.0' admin_
 preview_bg='']\nAußerdem: Neuwahlen! (Ersatztermin)\n[/av_textblock]\n\n[
 /av_two_third][av_one_third min_height='' vertical_alignment='av-align-top
 ' space='' row_boxshadow='' row_boxshadow_width='10' row_boxshadow_color='
 ' custom_margin='' margin='0px' av-desktop-margin='' av-medium-margin='' a
 v-small-margin='' av-mini-margin='' mobile_breaking='' mobile_column_order
 ='' border='' border_style='solid' border_color='' radius='' min_col_heigh
 t='' padding='' av-desktop-padding='' av-medium-padding='' av-small-paddin
 g='' av-mini-padding='' svg_div_top='' svg_div_top_color='#333333' svg_div
 _top_width='100' svg_div_top_height='50' svg_div_top_max_height='none' svg
 _div_top_flip='' svg_div_top_invert='' svg_div_top_front='' svg_div_top_op
 acity='' svg_div_top_preview='' svg_div_bottom='' svg_div_bottom_color='#3
 33333' svg_div_bottom_width='100' svg_div_bottom_height='50' svg_div_botto
 m_max_height='none' svg_div_bottom_flip='' svg_div_bottom_invert='' svg_di
 v_bottom_front='' svg_div_bottom_opacity='' svg_div_bottom_preview='' fold
 _type='' fold_height='' fold_more='Weiterlesen' fold_less='Read less' fold
 _text_style='' fold_btn_align='' column_boxshadow='' column_boxshadow_widt
 h='10' column_boxshadow_color='' background='bg_color' background_color=''
  background_gradient_direction='vertical' background_gradient_color1='#000
 000' background_gradient_color2='#ffffff' background_gradient_color3='' sr
 c='' background_position='top left' background_repeat='no-repeat' highligh
 t='' highlight_size='' fold_overlay_color='' fold_text_color='' fold_btn_c
 olor='theme-color' fold_btn_bg_color='' fold_btn_font_color='' size-btn-te
 xt='' av-desktop-font-size-btn-text='' av-medium-font-size-btn-text='' av-
 small-font-size-btn-text='' av-mini-font-size-btn-text='' animation='' ani
 mation_duration='' animation_custom_bg_color='' animation_z_index_curtain=
 '100' parallax_parallax='' parallax_parallax_speed='' av-desktop-parallax_
 parallax='' av-desktop-parallax_parallax_speed='' av-medium-parallax_paral
 lax='' av-medium-parallax_parallax_speed='' av-small-parallax_parallax='' 
 av-small-parallax_parallax_speed='' av-mini-parallax_parallax='' av-mini-p
 arallax_parallax_speed='' fold_timer='' z_index_fold='' css_position='' cs
 s_position_location='' css_position_z_index='' av-desktop-css_position='' 
 av-desktop-css_position_location='' av-desktop-css_position_z_index='' av-
 medium-css_position='' av-medium-css_position_location='' av-medium-css_po
 sition_z_index='' av-small-css_position='' av-small-css_position_location=
 '' av-small-css_position_z_index='' av-mini-css_position='' av-mini-css_po
 sition_location='' av-mini-css_position_z_index='' link='' linktarget='' l
 ink_hover='' title_attr='' alt_attr='' mobile_display='' mobile_col_pos='0
 ' id='' custom_class='' template_class='' aria_label='' av_uid='av-3zl2k0'
  sc_version='1.0']\n[av_textblock fold_type='' fold_height='' fold_more='W
 eiterlesen' fold_less='Read less' fold_text_style='' fold_btn_align='' tex
 tblock_styling_align='' textblock_styling='' textblock_styling_gap='' text
 block_styling_mobile='' size='' av-desktop-font-size='' av-medium-font-siz
 e='' av-small-font-size='' av-mini-font-size='' font_color='' color='' fol
 d_overlay_color='' fold_text_color='' fold_btn_color='theme-color' fold_bt
 n_bg_color='' fold_btn_font_color='' size-btn-text='' av-desktop-font-size
 -btn-text='' av-medium-font-size-btn-text='' av-small-font-size-btn-text='
 ' av-mini-font-size-btn-text='' fold_timer='' z_index_fold='' id='' custom
 _class='' template_class='' av_uid='av-23ikyo' sc_version='1.0' admin_prev
 iew_bg='']\n[event]Wann\n#_EVENTDATES\n#_EVENTTIMES\n\nUnterrichtsumfang: 
 4 US*\n\n#_EVENTADDTOCALENDAR\n\n\n\n[/event]\n[/av_textblock]\n[/av_one_t
 hird]\n\n[av_textblock fold_type='' fold_height='' fold_more='Weiterlesen'
  fold_less='Read less' fold_text_style='' fold_btn_align='' textblock_styl
 ing_align='' textblock_styling='' textblock_styling_gap='' textblock_styli
 ng_mobile='' size='' av-desktop-font-size='' av-medium-font-size='' av-sma
 ll-font-size='' av-mini-font-size='' font_color='' color='' fold_overlay_c
 olor='' fold_text_color='' fold_btn_color='theme-color' fold_btn_bg_color=
 '' fold_btn_font_color='' size-btn-text='' av-desktop-font-size-btn-text='
 ' av-medium-font-size-btn-text='' av-small-font-size-btn-text='' av-mini-f
 ont-size-btn-text='' fold_timer='' z_index_fold='' av-desktop-hide='' av-m
 edium-hide='' av-small-hide='' av-mini-hide='' id='' custom_class='' templ
 ate_class='' av_uid='av-32sj1p' sc_version='1.0'][/av_textblock]
CATEGORIES:Bezirk Ostbayern,Bezirksveranstaltung
LOCATION:Eckert Schule Regenstauf Malteser Ausbildungszentrum\, Dr.-Robert-
 Eckert-Str. 3\, Regenstauf\, 93128\, Deutschland
GEO:49.113058;12.136663
X-APPLE-STRUCTURED-LOCATION;VALUE=URI;X-ADDRESS=Dr.-Robert-Eckert-Str. 3\, 
 Regenstauf\, 93128\, Deutschland;X-APPLE-RADIUS=100;X-TITLE=Eckert Schule 
 Regenstauf Malteser Ausbildungszentrum:geo:49.113058,12.136663
END:VEVENT
BEGIN:VTIMEZONE
TZID:Europe/Berlin
X-LIC-LOCATION:Europe/Berlin
BEGIN:DAYLIGHT
DTSTART:20250330T030000
TZOFFSETFROM:+0100
TZOFFSETTO:+0200
TZNAME:CEST
END:DAYLIGHT
END:VTIMEZONE
END:VCALENDAR