BEGIN:VCALENDAR
VERSION:2.0
PRODID:-//wp-events-plugin.com//7.2.3.1//EN
TZID:Europe/Berlin
X-WR-TIMEZONE:Europe/Berlin
BEGIN:VEVENT
UID:764@heilpraktiker-akademie-bayern.de
DTSTART;TZID=Europe/Berlin:20251018T090000
DTEND;TZID=Europe/Berlin:20251018T120000
DTSTAMP:20241124T171850Z
URL:https://heilpraktiker-akademie-bayern.de/events/sicherer-umgang-mit-de
 m-gebueh/
SUMMARY:Sicherer Umgang mit dem GebüH
DESCRIPTION:[av_two_third first min_height='' vertical_alignment='av-align-
 top' space='' row_boxshadow='' row_boxshadow_width='10' row_boxshadow_colo
 r='' custom_margin='' margin='0px' av-desktop-margin='' av-medium-margin='
 ' av-small-margin='' av-mini-margin='' mobile_breaking='' mobile_column_or
 der='' border='' border_style='solid' border_color='' radius='' min_col_he
 ight='' padding='' av-desktop-padding='' av-medium-padding='' av-small-pad
 ding='' av-mini-padding='' svg_div_top='' svg_div_top_color='#333333' svg_
 div_top_width='100' svg_div_top_height='50' svg_div_top_max_height='none' 
 svg_div_top_flip='' svg_div_top_invert='' svg_div_top_front='' svg_div_top
 _opacity='' svg_div_top_preview='' svg_div_bottom='' svg_div_bottom_color=
 '#333333' svg_div_bottom_width='100' svg_div_bottom_height='50' svg_div_bo
 ttom_max_height='none' svg_div_bottom_flip='' svg_div_bottom_invert='' svg
 _div_bottom_front='' svg_div_bottom_opacity='' svg_div_bottom_preview='' f
 old_type='' fold_height='' fold_more='Weiterlesen' fold_less='Read less' f
 old_text_style='' fold_btn_align='' column_boxshadow='' column_boxshadow_w
 idth='10' column_boxshadow_color='' background='bg_color' background_color
 ='' background_gradient_direction='vertical' background_gradient_color1='#
 000000' background_gradient_color2='#ffffff' background_gradient_color3=''
  src='' background_position='top left' background_repeat='no-repeat' highl
 ight='' highlight_size='' fold_overlay_color='' fold_text_color='' fold_bt
 n_color='theme-color' fold_btn_bg_color='' fold_btn_font_color='' size-btn
 -text='' av-desktop-font-size-btn-text='' av-medium-font-size-btn-text='' 
 av-small-font-size-btn-text='' av-mini-font-size-btn-text='' animation='' 
 animation_duration='' animation_custom_bg_color='' animation_z_index_curta
 in='100' parallax_parallax='' parallax_parallax_speed='' av-desktop-parall
 ax_parallax='' av-desktop-parallax_parallax_speed='' av-medium-parallax_pa
 rallax='' av-medium-parallax_parallax_speed='' av-small-parallax_parallax=
 '' av-small-parallax_parallax_speed='' av-mini-parallax_parallax='' av-min
 i-parallax_parallax_speed='' fold_timer='' z_index_fold='' css_position=''
  css_position_location='' css_position_z_index='' av-desktop-css_position=
 '' av-desktop-css_position_location='' av-desktop-css_position_z_index='' 
 av-medium-css_position='' av-medium-css_position_location='' av-medium-css
 _position_z_index='' av-small-css_position='' av-small-css_position_locati
 on='' av-small-css_position_z_index='' av-mini-css_position='' av-mini-css
 _position_location='' av-mini-css_position_z_index='' link='' linktarget='
 ' link_hover='' title_attr='' alt_attr='' mobile_display='' mobile_col_pos
 ='0' id='' custom_class='' template_class='' aria_label='' av_uid='av-d04v
 u8' sc_version='1.0']\n\n[av_textblock fold_type='' fold_height='' fold_mo
 re='Weiterlesen' fold_less='Read less' fold_text_style='' fold_btn_align='
 ' textblock_styling_align='' textblock_styling='' textblock_styling_gap=''
  textblock_styling_mobile='' size='' av-desktop-font-size='' av-medium-fon
 t-size='' av-small-font-size='' av-mini-font-size='' font_color='' color='
 ' fold_overlay_color='' fold_text_color='' fold_btn_color='theme-color' fo
 ld_btn_bg_color='' fold_btn_font_color='' size-btn-text='' av-desktop-font
 -size-btn-text='' av-medium-font-size-btn-text='' av-small-font-size-btn-t
 ext='' av-mini-font-size-btn-text='' fold_timer='' z_index_fold='' id='' c
 ustom_class='' template_class='' av_uid='av-lr61av32' sc_version='1.0' adm
 in_preview_bg='']\n[event]#_EVENTNAME[/event]\nDer sichere und sachgerecht
 e Umgang mit dem Gebührenverzeichnis für Heilpraktiker ist – neben der
  fachlichen Kompetenz – eine wichtige Grundlage für eine erfolgreiche P
 raxis. Im ersten Teil des Vortrags geht es um die Systematik des GebüH so
 wie die Erstattungspraxis von PKV und Beihilfe. Anschließend werden wicht
 ige Zifferngruppen besprochen und Wege zur optimalen Rechnungsstellung vor
 gestellt\, sinnvolle und ausgeschlossene Ziffernkombinationen aufgezeigt\,
  sowie die häufigsten Abrechnungsfehler besprochen. Gerne können konkret
 e Fälle aus der Praxis mitgebracht werden.\n\nDozent: HP Ingo Kuhlmann\, 
 Staudach\n\n\n\n[/av_textblock]\n\n[av_textblock fold_type='' fold_height=
 '' fold_more='Weiterlesen' fold_less='Read less' fold_text_style='' fold_b
 tn_align='' textblock_styling_align='' textblock_styling='' textblock_styl
 ing_gap='' textblock_styling_mobile='' size='' av-desktop-font-size='' av-
 medium-font-size='' av-small-font-size='' av-mini-font-size='' font_color=
 '' color='' fold_overlay_color='' fold_text_color='' fold_btn_color='theme
 -color' fold_btn_bg_color='' fold_btn_font_color='' size-btn-text='' av-de
 sktop-font-size-btn-text='' av-medium-font-size-btn-text='' av-small-font-
 size-btn-text='' av-mini-font-size-btn-text='' fold_timer='' z_index_fold=
 '' id='' custom_class='' template_class='' av_uid='av-lr61cego' sc_version
 ='1.0' admin_preview_bg='']\nVoranmeldung erbeten bei:\n\n\n[av_font_icon 
 icon='ue805' font='entypo-fontello' style='' caption='' link='manually\,ju
 tta.leitner@email.de' linktarget='' size='20px' position='left' color='' a
 v_uid='av-bdojo0' custom_class='inline_cal' admin_preview_bg=''][/av_font_
 icon]Frau Jutta Leitner per E-Mail: jutta.leitner@email.de oder Tel. 09404
  6330\n[/av_textblock]\n\n[av_table purpose='tabular' pricing_table_design
 ='avia_pricing_default' pricing_hidden_cells='' caption='' responsive_styl
 ing='avia_responsive_table' av_uid='av-95d65s' custom_class='']\n[av_row r
 ow_style='' av_uid='av-73v7j4'][av_cell col_style='avia-highlight-col' av_
 uid='av-6845u8']Veranstaltungen der Bezirke sind für Mitglieder kostenfre
 i.\nDie Teilnahmegebühr für Nichtmitglieder (zugelassene Heilpraktiker m
 it Nachweis) beträgt € 25\,00 (bei Veranstaltungen von mehr als 4 Stund
 en € 50\,00). Sollten Sie im Laufe des Kalenderjahres Mitglied im Heilpr
 aktikerverband Bayern e.V. werden\, wird Ihnen die Teilnahmegebühr angere
 chnet.[/av_cell][/av_row]\n[/av_table]\n\n[/av_two_third][av_one_third min
 _height='' vertical_alignment='av-align-top' space='' row_boxshadow='' row
 _boxshadow_width='10' row_boxshadow_color='' custom_margin='' margin='0px'
  av-desktop-margin='' av-medium-margin='' av-small-margin='' av-mini-margi
 n='' mobile_breaking='' mobile_column_order='' border='' border_style='sol
 id' border_color='' radius='' min_col_height='' padding='' av-desktop-padd
 ing='' av-medium-padding='' av-small-padding='' av-mini-padding='' svg_div
 _top='' svg_div_top_color='#333333' svg_div_top_width='100' svg_div_top_he
 ight='50' svg_div_top_max_height='none' svg_div_top_flip='' svg_div_top_in
 vert='' svg_div_top_front='' svg_div_top_opacity='' svg_div_top_preview=''
  svg_div_bottom='' svg_div_bottom_color='#333333' svg_div_bottom_width='10
 0' svg_div_bottom_height='50' svg_div_bottom_max_height='none' svg_div_bot
 tom_flip='' svg_div_bottom_invert='' svg_div_bottom_front='' svg_div_botto
 m_opacity='' svg_div_bottom_preview='' fold_type='' fold_height='' fold_mo
 re='Weiterlesen' fold_less='Read less' fold_text_style='' fold_btn_align='
 ' column_boxshadow='' column_boxshadow_width='10' column_boxshadow_color='
 ' background='bg_color' background_color='' background_gradient_direction=
 'vertical' background_gradient_color1='#000000' background_gradient_color2
 ='#ffffff' background_gradient_color3='' src='' background_position='top l
 eft' background_repeat='no-repeat' highlight='' highlight_size='' fold_ove
 rlay_color='' fold_text_color='' fold_btn_color='theme-color' fold_btn_bg_
 color='' fold_btn_font_color='' size-btn-text='' av-desktop-font-size-btn-
 text='' av-medium-font-size-btn-text='' av-small-font-size-btn-text='' av-
 mini-font-size-btn-text='' animation='' animation_duration='' animation_cu
 stom_bg_color='' animation_z_index_curtain='100' parallax_parallax='' para
 llax_parallax_speed='' av-desktop-parallax_parallax='' av-desktop-parallax
 _parallax_speed='' av-medium-parallax_parallax='' av-medium-parallax_paral
 lax_speed='' av-small-parallax_parallax='' av-small-parallax_parallax_spee
 d='' av-mini-parallax_parallax='' av-mini-parallax_parallax_speed='' fold_
 timer='' z_index_fold='' css_position='' css_position_location='' css_posi
 tion_z_index='' av-desktop-css_position='' av-desktop-css_position_locatio
 n='' av-desktop-css_position_z_index='' av-medium-css_position='' av-mediu
 m-css_position_location='' av-medium-css_position_z_index='' av-small-css_
 position='' av-small-css_position_location='' av-small-css_position_z_inde
 x='' av-mini-css_position='' av-mini-css_position_location='' av-mini-css_
 position_z_index='' link='' linktarget='' link_hover='' title_attr='' alt_
 attr='' mobile_display='' mobile_col_pos='0' id='' custom_class='' templat
 e_class='' aria_label='' av_uid='av-3zl2k0' sc_version='1.0']\n[av_textblo
 ck fold_type='' fold_height='' fold_more='Weiterlesen' fold_less='Read les
 s' fold_text_style='' fold_btn_align='' textblock_styling_align='' textblo
 ck_styling='' textblock_styling_gap='' textblock_styling_mobile='' size=''
  av-desktop-font-size='' av-medium-font-size='' av-small-font-size='' av-m
 ini-font-size='' font_color='' color='' fold_overlay_color='' fold_text_co
 lor='' fold_btn_color='theme-color' fold_btn_bg_color='' fold_btn_font_col
 or='' size-btn-text='' av-desktop-font-size-btn-text='' av-medium-font-siz
 e-btn-text='' av-small-font-size-btn-text='' av-mini-font-size-btn-text=''
  fold_timer='' z_index_fold='' id='' custom_class='' template_class='' av_
 uid='av-23ikyo' sc_version='1.0' admin_preview_bg='']\n[event]Wann\n#_EVEN
 TDATES\n#_EVENTTIMES\n\nUnterrichtsumfang: 4 US*\n\n#_EVENTADDTOCALENDAR\n
 \n\n\n[/event]\n[/av_textblock]\n[/av_one_third]\n\n[av_textblock fold_typ
 e='' fold_height='' fold_more='Weiterlesen' fold_less='Read less' fold_tex
 t_style='' fold_btn_align='' textblock_styling_align='' textblock_styling=
 '' textblock_styling_gap='' textblock_styling_mobile='' size='' av-desktop
 -font-size='' av-medium-font-size='' av-small-font-size='' av-mini-font-si
 ze='' font_color='' color='' fold_overlay_color='' fold_text_color='' fold
 _btn_color='theme-color' fold_btn_bg_color='' fold_btn_font_color='' size-
 btn-text='' av-desktop-font-size-btn-text='' av-medium-font-size-btn-text=
 '' av-small-font-size-btn-text='' av-mini-font-size-btn-text='' fold_timer
 ='' z_index_fold='' av-desktop-hide='' av-medium-hide='' av-small-hide='' 
 av-mini-hide='' id='' custom_class='' template_class='' av_uid='' sc_versi
 on='1.0'][/av_textblock]
CATEGORIES:Bezirk Ostbayern,Bezirksveranstaltung
LOCATION:Eckert Schule Regenstauf Malteser Ausbildungszentrum\, Dr.-Robert-
 Eckert-Str. 3\, Regenstauf\, 93128\, Deutschland
GEO:49.113058;12.136663
X-APPLE-STRUCTURED-LOCATION;VALUE=URI;X-ADDRESS=Dr.-Robert-Eckert-Str. 3\, 
 Regenstauf\, 93128\, Deutschland;X-APPLE-RADIUS=100;X-TITLE=Eckert Schule 
 Regenstauf Malteser Ausbildungszentrum:geo:49.113058,12.136663
END:VEVENT
BEGIN:VTIMEZONE
TZID:Europe/Berlin
X-LIC-LOCATION:Europe/Berlin
BEGIN:DAYLIGHT
DTSTART:20250330T030000
TZOFFSETFROM:+0100
TZOFFSETTO:+0200
TZNAME:CEST
END:DAYLIGHT
END:VTIMEZONE
END:VCALENDAR