BEGIN:VCALENDAR
VERSION:2.0
PRODID:-//wp-events-plugin.com//7.2.3.1//EN
TZID:Europe/Berlin
X-WR-TIMEZONE:Europe/Berlin
BEGIN:VEVENT
UID:810@heilpraktiker-akademie-bayern.de
DTSTART;TZID=Europe/Berlin:20260221T090000
DTEND;TZID=Europe/Berlin:20260221T123000
DTSTAMP:20250925T082743Z
URL:https://heilpraktiker-akademie-bayern.de/events/schmerzakupunktur-2026
 /
SUMMARY:Schmerzakupunktur
DESCRIPTION:
CATEGORIES:Bezirk Ostbayern,Bezirksveranstaltung
LOCATION:Eckert Schule Regenstauf Malteser Ausbildungszentrum\, Dr.-Robert-
 Eckert-Str. 3\, Regenstauf\, 93128\, Deutschland
GEO:49.112479;12.136921
X-APPLE-STRUCTURED-LOCATION;VALUE=URI;X-ADDRESS=Dr.-Robert-Eckert-Str. 3\, 
 Regenstauf\, 93128\, Deutschland;X-APPLE-RADIUS=100;X-TITLE=Eckert Schule 
 Regenstauf Malteser Ausbildungszentrum:geo:49.112479,12.136921
END:VEVENT
BEGIN:VTIMEZONE
TZID:Europe/Berlin
X-LIC-LOCATION:Europe/Berlin
BEGIN:STANDARD
DTSTART:20251026T020000
TZOFFSETFROM:+0200
TZOFFSETTO:+0100
TZNAME:CET
END:STANDARD
END:VTIMEZONE
END:VCALENDAR