BEGIN:VCALENDAR
VERSION:2.0
PRODID:-//wp-events-plugin.com//7.2.3.1//EN
TZID:Europe/Berlin
X-WR-TIMEZONE:Europe/Berlin
BEGIN:VEVENT
UID:820@heilpraktiker-akademie-bayern.de
DTSTART;TZID=Europe/Berlin:20260920T090000
DTEND;TZID=Europe/Berlin:20260920T123000
DTSTAMP:20250925T085932Z
URL:https://heilpraktiker-akademie-bayern.de/events/reaktivierung-alter-im
 pfreaktionen/
SUMMARY:Reaktivierung alter Impfreaktionen - erkennen und behandeln
DESCRIPTION:[av_two_third first min_height='' vertical_alignment='av-align-
 top' space='' row_boxshadow='' row_boxshadow_width='10' row_boxshadow_colo
 r='' custom_margin='' margin='0px' av-desktop-margin='' av-medium-margin='
 ' av-small-margin='' av-mini-margin='' mobile_breaking='' mobile_column_or
 der='' border='' border_style='solid' border_color='' radius='' min_col_he
 ight='' padding='' av-desktop-padding='' av-medium-padding='' av-small-pad
 ding='' av-mini-padding='' svg_div_top='' svg_div_top_color='#333333' svg_
 div_top_width='100' svg_div_top_height='50' svg_div_top_max_height='none' 
 svg_div_top_flip='' svg_div_top_invert='' svg_div_top_front='' svg_div_top
 _opacity='' svg_div_top_preview='' svg_div_bottom='' svg_div_bottom_color=
 '#333333' svg_div_bottom_width='100' svg_div_bottom_height='50' svg_div_bo
 ttom_max_height='none' svg_div_bottom_flip='' svg_div_bottom_invert='' svg
 _div_bottom_front='' svg_div_bottom_opacity='' svg_div_bottom_preview='' f
 old_type='' fold_height='' fold_more='Weiterlesen' fold_less='Read less' f
 old_text_style='' fold_btn_align='' column_boxshadow='' column_boxshadow_w
 idth='10' column_boxshadow_color='' background='bg_color' background_color
 ='' background_gradient_direction='vertical' background_gradient_color1='#
 000000' background_gradient_color2='#ffffff' background_gradient_color3=''
  src='' background_position='top left' background_repeat='no-repeat' highl
 ight='' highlight_size='' fold_overlay_color='' fold_text_color='' fold_bt
 n_color='theme-color' fold_btn_bg_color='' fold_btn_font_color='' size-btn
 -text='' av-desktop-font-size-btn-text='' av-medium-font-size-btn-text='' 
 av-small-font-size-btn-text='' av-mini-font-size-btn-text='' animation='' 
 animation_duration='' animation_custom_bg_color='' animation_z_index_curta
 in='100' parallax_parallax='' parallax_parallax_speed='' av-desktop-parall
 ax_parallax='' av-desktop-parallax_parallax_speed='' av-medium-parallax_pa
 rallax='' av-medium-parallax_parallax_speed='' av-small-parallax_parallax=
 '' av-small-parallax_parallax_speed='' av-mini-parallax_parallax='' av-min
 i-parallax_parallax_speed='' fold_timer='' z_index_fold='' css_position=''
  css_position_location='' css_position_z_index='' av-desktop-css_position=
 '' av-desktop-css_position_location='' av-desktop-css_position_z_index='' 
 av-medium-css_position='' av-medium-css_position_location='' av-medium-css
 _position_z_index='' av-small-css_position='' av-small-css_position_locati
 on='' av-small-css_position_z_index='' av-mini-css_position='' av-mini-css
 _position_location='' av-mini-css_position_z_index='' link='' linktarget='
 ' link_hover='' title_attr='' alt_attr='' mobile_display='' mobile_col_pos
 ='0' id='' custom_class='' template_class='' aria_label='' av_uid='av-d04v
 u8' sc_version='1.0']\n\n[av_textblock fold_type='' fold_height='' fold_mo
 re='Weiterlesen' fold_less='Read less' fold_text_style='' fold_btn_align='
 ' textblock_styling_align='' textblock_styling='' textblock_styling_gap=''
  textblock_styling_mobile='' size='' av-desktop-font-size='' av-medium-fon
 t-size='' av-small-font-size='' av-mini-font-size='' font_color='' color='
 ' background='bg_color' background_color='' background_gradient_direction=
 'vertical' background_gradient_color1='#000000' background_gradient_color2
 ='#ffffff' background_gradient_color3='' padding='' padding_sync='true' av
 -desktop-padding='' av-desktop-padding_sync='true' av-medium-padding='' av
 -medium-padding_sync='true' av-small-padding='' av-small-padding_sync='tru
 e' av-mini-padding='' av-mini-padding_sync='true' fold_overlay_color='' fo
 ld_text_color='' fold_btn_color='theme-color' fold_btn_bg_color='' fold_bt
 n_font_color='' size-btn-text='' av-desktop-font-size-btn-text='' av-mediu
 m-font-size-btn-text='' av-small-font-size-btn-text='' av-mini-font-size-b
 tn-text='' fold_timer='' z_index_fold='' id='' custom_class='' template_cl
 ass='' av_uid='av-lr61av32' sc_version='1.0' admin_preview_bg='']\n[event]
 #_EVENTNAME[/event]\nAufgrund der Schwächung des Immunsystems durch die C
 ovid-Maßnahmen auf vielen Ebenen tauchen bei Patientinnen und Patienten v
 ermehrt Symptome verbunden mit einer Erhöhung des cranialen Drucks auf. D
 ies gibt Hinweise auf alte Impfreaktionen in der Kinder- und Jugendzeit. I
 n diesem Kurs wird gezeigt\, wie man den CV4 Test zum Finden der richtigen
  Nosoden einsetzen und die craniale Spannung dadurch lösen kann. Durch Au
 sleitung dieser alten Impfbelastungen erwartet uns (hoffentlich) ein gesü
 nderes Altern.\n\nDozentin: HP Renate Meier\, München\n[/av_textblock]\n\
 n[av_table purpose='tabular' pricing_table_design='avia_pricing_default' p
 ricing_hidden_cells='' caption='' responsive_styling='avia_responsive_tabl
 e' alb_description='' id='' custom_class='' template_class='' av_uid='av-9
 5d65s' sc_version='1.0']\n[av_row row_style='' av_uid='av-3khjbs'][av_cell
  col_style='avia-highlight-col' av_uid='av-2hvd14']Veranstaltungen der Bez
 irke sind für Mitglieder kostenfrei.\nDie Teilnahmegebühr für Nichtmitg
 lieder (zugelassene Heilpraktiker mit Nachweis) beträgt € 30\,00 (bei V
 eranstaltungen von mehr als 4 Stunden € 60\,00). Sollten Sie im Laufe de
 s Kalenderjahres Mitglied im Heilpraktikerverband Bayern e.V. werden\, wir
 d Ihnen die Teilnahmegebühr angerechnet.[/av_cell][/av_row]\n[/av_table]\
 n\n[/av_two_third][av_one_third min_height='' vertical_alignment='av-align
 -top' space='' row_boxshadow='' row_boxshadow_width='10' row_boxshadow_col
 or='' custom_margin='' margin='0px' av-desktop-margin='' av-medium-margin=
 '' av-small-margin='' av-mini-margin='' mobile_breaking='' mobile_column_o
 rder='' border='' border_style='solid' border_color='' radius='' min_col_h
 eight='' padding='' av-desktop-padding='' av-medium-padding='' av-small-pa
 dding='' av-mini-padding='' svg_div_top='' svg_div_top_color='#333333' svg
 _div_top_width='100' svg_div_top_height='50' svg_div_top_max_height='none'
  svg_div_top_flip='' svg_div_top_invert='' svg_div_top_front='' svg_div_to
 p_opacity='' svg_div_top_preview='' svg_div_bottom='' svg_div_bottom_color
 ='#333333' svg_div_bottom_width='100' svg_div_bottom_height='50' svg_div_b
 ottom_max_height='none' svg_div_bottom_flip='' svg_div_bottom_invert='' sv
 g_div_bottom_front='' svg_div_bottom_opacity='' svg_div_bottom_preview='' 
 fold_type='' fold_height='' fold_more='Weiterlesen' fold_less='Read less' 
 fold_text_style='' fold_btn_align='' column_boxshadow='' column_boxshadow_
 width='10' column_boxshadow_color='' background='bg_color' background_colo
 r='' background_gradient_direction='vertical' background_gradient_color1='
 #000000' background_gradient_color2='#ffffff' background_gradient_color3='
 ' src='' background_position='top left' background_repeat='no-repeat' high
 light='' highlight_size='' fold_overlay_color='' fold_text_color='' fold_b
 tn_color='theme-color' fold_btn_bg_color='' fold_btn_font_color='' size-bt
 n-text='' av-desktop-font-size-btn-text='' av-medium-font-size-btn-text=''
  av-small-font-size-btn-text='' av-mini-font-size-btn-text='' animation=''
  animation_duration='' animation_custom_bg_color='' animation_z_index_curt
 ain='100' parallax_parallax='' parallax_parallax_speed='' av-desktop-paral
 lax_parallax='' av-desktop-parallax_parallax_speed='' av-medium-parallax_p
 arallax='' av-medium-parallax_parallax_speed='' av-small-parallax_parallax
 ='' av-small-parallax_parallax_speed='' av-mini-parallax_parallax='' av-mi
 ni-parallax_parallax_speed='' fold_timer='' z_index_fold='' css_position='
 ' css_position_location='' css_position_z_index='' av-desktop-css_position
 ='' av-desktop-css_position_location='' av-desktop-css_position_z_index=''
  av-medium-css_position='' av-medium-css_position_location='' av-medium-cs
 s_position_z_index='' av-small-css_position='' av-small-css_position_locat
 ion='' av-small-css_position_z_index='' av-mini-css_position='' av-mini-cs
 s_position_location='' av-mini-css_position_z_index='' link='' linktarget=
 '' link_hover='' title_attr='' alt_attr='' mobile_display='' mobile_col_po
 s='0' id='' custom_class='' template_class='' aria_label='' av_uid='av-3zl
 2k0' sc_version='1.0']\n[av_textblock fold_type='' fold_height='' fold_mor
 e='Weiterlesen' fold_less='Read less' fold_text_style='' fold_btn_align=''
  textblock_styling_align='' textblock_styling='' textblock_styling_gap='' 
 textblock_styling_mobile='' size='' av-desktop-font-size='' av-medium-font
 -size='' av-small-font-size='' av-mini-font-size='' font_color='' color=''
  fold_overlay_color='' fold_text_color='' fold_btn_color='theme-color' fol
 d_btn_bg_color='' fold_btn_font_color='' size-btn-text='' av-desktop-font-
 size-btn-text='' av-medium-font-size-btn-text='' av-small-font-size-btn-te
 xt='' av-mini-font-size-btn-text='' fold_timer='' z_index_fold='' id='' cu
 stom_class='' template_class='' av_uid='av-23ikyo' sc_version='1.0' admin_
 preview_bg='']\n[event]Wann\n#_EVENTDATES\n#_EVENTTIMES\n\nUnterrichtsumfa
 ng: 4\,5 US*\n\n#_EVENTADDTOCALENDAR\n\n\n\n[/event]\n[/av_textblock]\n[/a
 v_one_third]\n\n[av_textblock fold_type='' fold_height='' fold_more='Weite
 rlesen' fold_less='Read less' fold_text_style='' fold_btn_align='' textblo
 ck_styling_align='' textblock_styling='' textblock_styling_gap='' textbloc
 k_styling_mobile='' size='' av-desktop-font-size='' av-medium-font-size=''
  av-small-font-size='' av-mini-font-size='' font_color='' color='' fold_ov
 erlay_color='' fold_text_color='' fold_btn_color='theme-color' fold_btn_bg
 _color='' fold_btn_font_color='' size-btn-text='' av-desktop-font-size-btn
 -text='' av-medium-font-size-btn-text='' av-small-font-size-btn-text='' av
 -mini-font-size-btn-text='' fold_timer='' z_index_fold='' av-desktop-hide=
 '' av-medium-hide='' av-small-hide='' av-mini-hide='' id='' custom_class='
 ' template_class='' av_uid='av-2sw39m' sc_version='1.0'][/av_textblock]
CATEGORIES:Bezirk Schwaben (Augsburg),Bezirksveranstaltung
LOCATION:BRK – Rettungswache Haunstetten\, Johann-Strauß-Str. 11\, Augsb
 urg\, 86179\, Deutschland
GEO:48.3015868;10.90158109999993
X-APPLE-STRUCTURED-LOCATION;VALUE=URI;X-ADDRESS=Johann-Strauß-Str. 11\, Au
 gsburg\, 86179\, Deutschland;X-APPLE-RADIUS=100;X-TITLE=BRK – Rettungswa
 che Haunstetten:geo:48.3015868,10.90158109999993
END:VEVENT
BEGIN:VTIMEZONE
TZID:Europe/Berlin
X-LIC-LOCATION:Europe/Berlin
BEGIN:DAYLIGHT
DTSTART:20260329T030000
TZOFFSETFROM:+0100
TZOFFSETTO:+0200
TZNAME:CEST
END:DAYLIGHT
END:VTIMEZONE
END:VCALENDAR