BEGIN:VCALENDAR
VERSION:2.0
PRODID:-//wp-events-plugin.com//7.2.3.1//EN
TZID:Europe/Berlin
X-WR-TIMEZONE:Europe/Berlin
BEGIN:VEVENT
UID:761@heilpraktiker-akademie-bayern.de
DTSTART;TZID=Europe/Berlin:20250215T090000
DTEND;TZID=Europe/Berlin:20250215T123000
DTSTAMP:20241124T170836Z
URL:https://heilpraktiker-akademie-bayern.de/events/professionelle-gesprae
 chsfuehrung-in-der-naturheilpraxis/
SUMMARY:Professionelle Gesprächsführung in der Naturheilpraxis
DESCRIPTION:[av_two_third first min_height='' vertical_alignment='av-align-
 top' space='' row_boxshadow='' row_boxshadow_width='10' row_boxshadow_colo
 r='' custom_margin='' margin='0px' av-desktop-margin='' av-medium-margin='
 ' av-small-margin='' av-mini-margin='' mobile_breaking='' mobile_column_or
 der='' border='' border_style='solid' border_color='' radius='' min_col_he
 ight='' padding='' av-desktop-padding='' av-medium-padding='' av-small-pad
 ding='' av-mini-padding='' svg_div_top='' svg_div_top_color='#333333' svg_
 div_top_width='100' svg_div_top_height='50' svg_div_top_max_height='none' 
 svg_div_top_flip='' svg_div_top_invert='' svg_div_top_front='' svg_div_top
 _opacity='' svg_div_top_preview='' svg_div_bottom='' svg_div_bottom_color=
 '#333333' svg_div_bottom_width='100' svg_div_bottom_height='50' svg_div_bo
 ttom_max_height='none' svg_div_bottom_flip='' svg_div_bottom_invert='' svg
 _div_bottom_front='' svg_div_bottom_opacity='' svg_div_bottom_preview='' f
 old_type='' fold_height='' fold_more='Weiterlesen' fold_less='Read less' f
 old_text_style='' fold_btn_align='' column_boxshadow='' column_boxshadow_w
 idth='10' column_boxshadow_color='' background='bg_color' background_color
 ='' background_gradient_direction='vertical' background_gradient_color1='#
 000000' background_gradient_color2='#ffffff' background_gradient_color3=''
  src='' background_position='top left' background_repeat='no-repeat' highl
 ight='' highlight_size='' fold_overlay_color='' fold_text_color='' fold_bt
 n_color='theme-color' fold_btn_bg_color='' fold_btn_font_color='' size-btn
 -text='' av-desktop-font-size-btn-text='' av-medium-font-size-btn-text='' 
 av-small-font-size-btn-text='' av-mini-font-size-btn-text='' animation='' 
 animation_duration='' animation_custom_bg_color='' animation_z_index_curta
 in='100' parallax_parallax='' parallax_parallax_speed='' av-desktop-parall
 ax_parallax='' av-desktop-parallax_parallax_speed='' av-medium-parallax_pa
 rallax='' av-medium-parallax_parallax_speed='' av-small-parallax_parallax=
 '' av-small-parallax_parallax_speed='' av-mini-parallax_parallax='' av-min
 i-parallax_parallax_speed='' fold_timer='' z_index_fold='' css_position=''
  css_position_location='' css_position_z_index='' av-desktop-css_position=
 '' av-desktop-css_position_location='' av-desktop-css_position_z_index='' 
 av-medium-css_position='' av-medium-css_position_location='' av-medium-css
 _position_z_index='' av-small-css_position='' av-small-css_position_locati
 on='' av-small-css_position_z_index='' av-mini-css_position='' av-mini-css
 _position_location='' av-mini-css_position_z_index='' link='' linktarget='
 ' link_hover='' title_attr='' alt_attr='' mobile_display='' mobile_col_pos
 ='0' id='' custom_class='' template_class='' aria_label='' av_uid='av-d04v
 u8' sc_version='1.0']\n\n[av_textblock fold_type='' fold_height='' fold_mo
 re='Weiterlesen' fold_less='Read less' fold_text_style='' fold_btn_align='
 ' textblock_styling_align='' textblock_styling='' textblock_styling_gap=''
  textblock_styling_mobile='' size='' av-desktop-font-size='' av-medium-fon
 t-size='' av-small-font-size='' av-mini-font-size='' font_color='' color='
 ' fold_overlay_color='' fold_text_color='' fold_btn_color='theme-color' fo
 ld_btn_bg_color='' fold_btn_font_color='' size-btn-text='' av-desktop-font
 -size-btn-text='' av-medium-font-size-btn-text='' av-small-font-size-btn-t
 ext='' av-mini-font-size-btn-text='' fold_timer='' z_index_fold='' id='' c
 ustom_class='' template_class='' av_uid='av-lr61av32' sc_version='1.0' adm
 in_preview_bg='']\n[event]#_EVENTNAME[/event]\nOrientiert an der Humanisti
 schen Psychotherapie werden in diesem Seminar die wesentlichen Grundlagen 
 einer professionellen Gesprächsführung vermittelt. Ebenso gibt es wertvo
 lle Empfehlungen zu Telefonkontakt\, Gesprächsanfang und Gesprächsende\,
  sowie zum Umgang mit schwierigen Situationen. Beispiele aus der Praxis k
 önnen gerne mit eingebracht werden.\n\nAußerdem: Neuwahlen!\n\nDozentin:
  HP Karin Wittmann\, Beratzhausen\n\n\n\n[/av_textblock]\n\n[av_textblock 
 fold_type='' fold_height='' fold_more='Weiterlesen' fold_less='Read less' 
 fold_text_style='' fold_btn_align='' textblock_styling_align='' textblock_
 styling='' textblock_styling_gap='' textblock_styling_mobile='' size='' av
 -desktop-font-size='' av-medium-font-size='' av-small-font-size='' av-mini
 -font-size='' font_color='' color='' fold_overlay_color='' fold_text_color
 ='' fold_btn_color='theme-color' fold_btn_bg_color='' fold_btn_font_color=
 '' size-btn-text='' av-desktop-font-size-btn-text='' av-medium-font-size-b
 tn-text='' av-small-font-size-btn-text='' av-mini-font-size-btn-text='' fo
 ld_timer='' z_index_fold='' id='' custom_class='' template_class='' av_uid
 ='av-lr61cego' sc_version='1.0' admin_preview_bg='']\nVoranmeldung erbeten
  bei:\n\n\n[av_font_icon icon='ue805' font='entypo-fontello' style='' capt
 ion='' link='manually\,jutta.leitner@email.de' linktarget='' size='20px' p
 osition='left' color='' av_uid='av-bdojo0' custom_class='inline_cal' admin
 _preview_bg=''][/av_font_icon]Frau Jutta Leitner per E-Mail: jutta.leitner
 @email.de oder Tel. 09404 6330\n[/av_textblock]\n\n[av_table purpose='tabu
 lar' pricing_table_design='avia_pricing_default' pricing_hidden_cells='' c
 aption='' responsive_styling='avia_responsive_table' av_uid='av-95d65s' cu
 stom_class='']\n[av_row row_style='' av_uid='av-73v7j4'][av_cell col_style
 ='avia-highlight-col' av_uid='av-6845u8']Veranstaltungen der Bezirke sind 
 für Mitglieder kostenfrei.\nDie Teilnahmegebühr für Nichtmitglieder (zu
 gelassene Heilpraktiker mit Nachweis) beträgt € 25\,00 (bei Veranstaltu
 ngen von mehr als 4 Stunden € 50\,00). Sollten Sie im Laufe des Kalender
 jahres Mitglied im Heilpraktikerverband Bayern e.V. werden\, wird Ihnen di
 e Teilnahmegebühr angerechnet.[/av_cell][/av_row]\n[/av_table]\n\n[/av_tw
 o_third][av_one_third min_height='' vertical_alignment='av-align-top' spac
 e='' row_boxshadow='' row_boxshadow_width='10' row_boxshadow_color='' cust
 om_margin='' margin='0px' av-desktop-margin='' av-medium-margin='' av-smal
 l-margin='' av-mini-margin='' mobile_breaking='' mobile_column_order='' bo
 rder='' border_style='solid' border_color='' radius='' min_col_height='' p
 adding='' av-desktop-padding='' av-medium-padding='' av-small-padding='' a
 v-mini-padding='' svg_div_top='' svg_div_top_color='#333333' svg_div_top_w
 idth='100' svg_div_top_height='50' svg_div_top_max_height='none' svg_div_t
 op_flip='' svg_div_top_invert='' svg_div_top_front='' svg_div_top_opacity=
 '' svg_div_top_preview='' svg_div_bottom='' svg_div_bottom_color='#333333'
  svg_div_bottom_width='100' svg_div_bottom_height='50' svg_div_bottom_max_
 height='none' svg_div_bottom_flip='' svg_div_bottom_invert='' svg_div_bott
 om_front='' svg_div_bottom_opacity='' svg_div_bottom_preview='' fold_type=
 '' fold_height='' fold_more='Weiterlesen' fold_less='Read less' fold_text_
 style='' fold_btn_align='' column_boxshadow='' column_boxshadow_width='10'
  column_boxshadow_color='' background='bg_color' background_color='' backg
 round_gradient_direction='vertical' background_gradient_color1='#000000' b
 ackground_gradient_color2='#ffffff' background_gradient_color3='' src='' b
 ackground_position='top left' background_repeat='no-repeat' highlight='' h
 ighlight_size='' fold_overlay_color='' fold_text_color='' fold_btn_color='
 theme-color' fold_btn_bg_color='' fold_btn_font_color='' size-btn-text='' 
 av-desktop-font-size-btn-text='' av-medium-font-size-btn-text='' av-small-
 font-size-btn-text='' av-mini-font-size-btn-text='' animation='' animation
 _duration='' animation_custom_bg_color='' animation_z_index_curtain='100' 
 parallax_parallax='' parallax_parallax_speed='' av-desktop-parallax_parall
 ax='' av-desktop-parallax_parallax_speed='' av-medium-parallax_parallax=''
  av-medium-parallax_parallax_speed='' av-small-parallax_parallax='' av-sma
 ll-parallax_parallax_speed='' av-mini-parallax_parallax='' av-mini-paralla
 x_parallax_speed='' fold_timer='' z_index_fold='' css_position='' css_posi
 tion_location='' css_position_z_index='' av-desktop-css_position='' av-des
 ktop-css_position_location='' av-desktop-css_position_z_index='' av-medium
 -css_position='' av-medium-css_position_location='' av-medium-css_position
 _z_index='' av-small-css_position='' av-small-css_position_location='' av-
 small-css_position_z_index='' av-mini-css_position='' av-mini-css_position
 _location='' av-mini-css_position_z_index='' link='' linktarget='' link_ho
 ver='' title_attr='' alt_attr='' mobile_display='' mobile_col_pos='0' id='
 ' custom_class='' template_class='' aria_label='' av_uid='av-3zl2k0' sc_ve
 rsion='1.0']\n\n[av_textblock fold_type='' fold_height='' fold_more='Weite
 rlesen' fold_less='Read less' fold_text_style='' fold_btn_align='' textblo
 ck_styling_align='' textblock_styling='' textblock_styling_gap='' textbloc
 k_styling_mobile='' size='' av-desktop-font-size='' av-medium-font-size=''
  av-small-font-size='' av-mini-font-size='' font_color='' color='' fold_ov
 erlay_color='' fold_text_color='' fold_btn_color='theme-color' fold_btn_bg
 _color='' fold_btn_font_color='' size-btn-text='' av-desktop-font-size-btn
 -text='' av-medium-font-size-btn-text='' av-small-font-size-btn-text='' av
 -mini-font-size-btn-text='' fold_timer='' z_index_fold='' id='' custom_cla
 ss='' template_class='' av_uid='av-23ikyo' sc_version='1.0' admin_preview_
 bg='']\n[event]Wann\n#_EVENTDATES\n#_EVENTTIMES\n\nUnterrichtsumfang: 4\,5
  US*\n\n#_EVENTADDTOCALENDAR\n\n\n\n[/event]\n[/av_textblock]\n\n[/av_one_
 third][av_textblock fold_type='' fold_height='' fold_more='Weiterlesen' fo
 ld_less='Read less' fold_text_style='' fold_btn_align='' textblock_styling
 _align='' textblock_styling='' textblock_styling_gap='' textblock_styling_
 mobile='' size='' av-desktop-font-size='' av-medium-font-size='' av-small-
 font-size='' av-mini-font-size='' font_color='' color='' fold_overlay_colo
 r='' fold_text_color='' fold_btn_color='theme-color' fold_btn_bg_color='' 
 fold_btn_font_color='' size-btn-text='' av-desktop-font-size-btn-text='' a
 v-medium-font-size-btn-text='' av-small-font-size-btn-text='' av-mini-font
 -size-btn-text='' fold_timer='' z_index_fold='' av-desktop-hide='' av-medi
 um-hide='' av-small-hide='' av-mini-hide='' id='' custom_class='' template
 _class='' av_uid='' sc_version='1.0'][/av_textblock]
CATEGORIES:Bezirk Ostbayern,Bezirksveranstaltung
LOCATION:Eckert Schule Regenstauf Malteser Ausbildungszentrum\, Dr.-Robert-
 Eckert-Str. 3\, Regenstauf\, 93128\, Deutschland
GEO:49.113058;12.136663
X-APPLE-STRUCTURED-LOCATION;VALUE=URI;X-ADDRESS=Dr.-Robert-Eckert-Str. 3\, 
 Regenstauf\, 93128\, Deutschland;X-APPLE-RADIUS=100;X-TITLE=Eckert Schule 
 Regenstauf Malteser Ausbildungszentrum:geo:49.113058,12.136663
END:VEVENT
BEGIN:VTIMEZONE
TZID:Europe/Berlin
X-LIC-LOCATION:Europe/Berlin
BEGIN:STANDARD
DTSTART:20241027T020000
TZOFFSETFROM:+0200
TZOFFSETTO:+0100
TZNAME:CET
END:STANDARD
END:VTIMEZONE
END:VCALENDAR