BEGIN:VCALENDAR
VERSION:2.0
PRODID:-//wp-events-plugin.com//7.2.3.1//EN
TZID:Europe/Berlin
X-WR-TIMEZONE:Europe/Berlin
BEGIN:VEVENT
UID:756@heilpraktiker-akademie-bayern.de
DTSTART;TZID=Europe/Berlin:20250628T100000
DTEND;TZID=Europe/Berlin:20250628T130000
DTSTAMP:20241123T211945Z
URL:https://heilpraktiker-akademie-bayern.de/events/phytotherapie-fuer-fra
 uen/
SUMMARY:Phytotherapie für Frauen – vom Kräuterweiblein und alten Heilwi
 ssen\, Teetrinken und von modernen Extrakten
DESCRIPTION:[av_two_third first min_height='' vertical_alignment='av-align-
 top' space='' row_boxshadow='' row_boxshadow_width='10' row_boxshadow_colo
 r='' custom_margin='' margin='0px' av-desktop-margin='' av-medium-margin='
 ' av-small-margin='' av-mini-margin='' mobile_breaking='' mobile_column_or
 der='' border='' border_style='solid' border_color='' radius='' min_col_he
 ight='' padding='' av-desktop-padding='' av-medium-padding='' av-small-pad
 ding='' av-mini-padding='' svg_div_top='' svg_div_top_color='#333333' svg_
 div_top_width='100' svg_div_top_height='50' svg_div_top_max_height='none' 
 svg_div_top_flip='' svg_div_top_invert='' svg_div_top_front='' svg_div_top
 _opacity='' svg_div_top_preview='' svg_div_bottom='' svg_div_bottom_color=
 '#333333' svg_div_bottom_width='100' svg_div_bottom_height='50' svg_div_bo
 ttom_max_height='none' svg_div_bottom_flip='' svg_div_bottom_invert='' svg
 _div_bottom_front='' svg_div_bottom_opacity='' svg_div_bottom_preview='' f
 old_type='' fold_height='' fold_more='Weiterlesen' fold_less='Read less' f
 old_text_style='' fold_btn_align='' column_boxshadow='' column_boxshadow_w
 idth='10' column_boxshadow_color='' background='bg_color' background_color
 ='' background_gradient_direction='vertical' background_gradient_color1='#
 000000' background_gradient_color2='#ffffff' background_gradient_color3=''
  src='' background_position='top left' background_repeat='no-repeat' highl
 ight='' highlight_size='' fold_overlay_color='' fold_text_color='' fold_bt
 n_color='theme-color' fold_btn_bg_color='' fold_btn_font_color='' size-btn
 -text='' av-desktop-font-size-btn-text='' av-medium-font-size-btn-text='' 
 av-small-font-size-btn-text='' av-mini-font-size-btn-text='' animation='' 
 animation_duration='' animation_custom_bg_color='' animation_z_index_curta
 in='100' parallax_parallax='' parallax_parallax_speed='' av-desktop-parall
 ax_parallax='' av-desktop-parallax_parallax_speed='' av-medium-parallax_pa
 rallax='' av-medium-parallax_parallax_speed='' av-small-parallax_parallax=
 '' av-small-parallax_parallax_speed='' av-mini-parallax_parallax='' av-min
 i-parallax_parallax_speed='' fold_timer='' z_index_fold='' css_position=''
  css_position_location='' css_position_z_index='' av-desktop-css_position=
 '' av-desktop-css_position_location='' av-desktop-css_position_z_index='' 
 av-medium-css_position='' av-medium-css_position_location='' av-medium-css
 _position_z_index='' av-small-css_position='' av-small-css_position_locati
 on='' av-small-css_position_z_index='' av-mini-css_position='' av-mini-css
 _position_location='' av-mini-css_position_z_index='' link='' linktarget='
 ' link_hover='' title_attr='' alt_attr='' mobile_display='' mobile_col_pos
 ='0' id='' custom_class='' template_class='' aria_label='' av_uid='av-d04v
 u8' sc_version='1.0']\n\n[av_textblock fold_type='' fold_height='' fold_mo
 re='Weiterlesen' fold_less='Read less' fold_text_style='' fold_btn_align='
 ' textblock_styling_align='' textblock_styling='' textblock_styling_gap=''
  textblock_styling_mobile='' size='' av-desktop-font-size='' av-medium-fon
 t-size='' av-small-font-size='' av-mini-font-size='' font_color='' color='
 ' fold_overlay_color='' fold_text_color='' fold_btn_color='theme-color' fo
 ld_btn_bg_color='' fold_btn_font_color='' size-btn-text='' av-desktop-font
 -size-btn-text='' av-medium-font-size-btn-text='' av-small-font-size-btn-t
 ext='' av-mini-font-size-btn-text='' fold_timer='' z_index_fold='' id='' c
 ustom_class='' template_class='' av_uid='av-lr61av32' sc_version='1.0' adm
 in_preview_bg='']\n[event]#_EVENTNAME[/event]\nHeilpflanzen sind so alt wi
 e die Menschheit selbst – und doch aktuell wie nie.\n\nDie Phytotherapie
  hält besonders für Frauen für viele Bereiche Wertvolles parat. Zyklus 
 und Wechseljahre können mit Heilpflanzen ebenso unterstützt werden wie s
 tarke Nerven\, gesunde Haut\, Wohlbefinden und ein guter Schlaf.\n\nDozent
 : HP Alexia Jaschinski\, München\n\n\n\n[/av_textblock]\n\n[av_textblock 
 fold_type='' fold_height='' fold_more='Weiterlesen' fold_less='Read less' 
 fold_text_style='' fold_btn_align='' textblock_styling_align='' textblock_
 styling='' textblock_styling_gap='' textblock_styling_mobile='' size='' av
 -desktop-font-size='' av-medium-font-size='' av-small-font-size='' av-mini
 -font-size='' font_color='' color='' fold_overlay_color='' fold_text_color
 ='' fold_btn_color='theme-color' fold_btn_bg_color='' fold_btn_font_color=
 '' size-btn-text='' av-desktop-font-size-btn-text='' av-medium-font-size-b
 tn-text='' av-small-font-size-btn-text='' av-mini-font-size-btn-text='' fo
 ld_timer='' z_index_fold='' id='' custom_class='' template_class='' av_uid
 ='av-lr61cego' sc_version='1.0' admin_preview_bg='']\nVoranmeldung erforde
 rlich unter:\n\n[av_font_icon icon='ue805' font='entypo-fontello' style=''
  caption='' link='manually\,info@naturheilpraxis-bachhuber.de' linktarget=
 '' size='20px' position='left' color='' av_uid='av-bdojo0' custom_class='i
 nline_cal' admin_preview_bg=''][/av_font_icon]info@naturheilpraxis-bachhub
 er.de - nur wenn nicht per E-Mail möglich: Tel. 089 55062936\n[/av_textbl
 ock]\n\n[av_table purpose='tabular' pricing_table_design='avia_pricing_def
 ault' pricing_hidden_cells='' caption='' responsive_styling='avia_responsi
 ve_table' av_uid='av-95d65s' custom_class='']\n[av_row row_style='' av_uid
 ='av-73v7j4'][av_cell col_style='avia-highlight-col' av_uid='av-6845u8']Ve
 ranstaltungen der Bezirke sind für Mitglieder kostenfrei.\nDie Teilnahmeg
 ebühr für Nichtmitglieder (zugelassene Heilpraktiker mit Nachweis) betr
 ägt € 25\,00 (bei Veranstaltungen von mehr als 4 Stunden € 50\,00). S
 ollten Sie im Laufe des Kalenderjahres Mitglied im Heilpraktikerverband Ba
 yern e.V. werden\, wird Ihnen die Teilnahmegebühr angerechnet.[/av_cell][
 /av_row]\n[/av_table]\n\n[/av_two_third][av_one_third min_height='' vertic
 al_alignment='av-align-top' space='' row_boxshadow='' row_boxshadow_width=
 '10' row_boxshadow_color='' custom_margin='' margin='0px' av-desktop-margi
 n='' av-medium-margin='' av-small-margin='' av-mini-margin='' mobile_break
 ing='' mobile_column_order='' border='' border_style='solid' border_color=
 '' radius='' min_col_height='' padding='' av-desktop-padding='' av-medium-
 padding='' av-small-padding='' av-mini-padding='' svg_div_top='' svg_div_t
 op_color='#333333' svg_div_top_width='100' svg_div_top_height='50' svg_div
 _top_max_height='none' svg_div_top_flip='' svg_div_top_invert='' svg_div_t
 op_front='' svg_div_top_opacity='' svg_div_top_preview='' svg_div_bottom='
 ' svg_div_bottom_color='#333333' svg_div_bottom_width='100' svg_div_bottom
 _height='50' svg_div_bottom_max_height='none' svg_div_bottom_flip='' svg_d
 iv_bottom_invert='' svg_div_bottom_front='' svg_div_bottom_opacity='' svg_
 div_bottom_preview='' fold_type='' fold_height='' fold_more='Weiterlesen' 
 fold_less='Read less' fold_text_style='' fold_btn_align='' column_boxshado
 w='' column_boxshadow_width='10' column_boxshadow_color='' background='bg_
 color' background_color='' background_gradient_direction='vertical' backgr
 ound_gradient_color1='#000000' background_gradient_color2='#ffffff' backgr
 ound_gradient_color3='' src='' background_position='top left' background_r
 epeat='no-repeat' highlight='' highlight_size='' fold_overlay_color='' fol
 d_text_color='' fold_btn_color='theme-color' fold_btn_bg_color='' fold_btn
 _font_color='' size-btn-text='' av-desktop-font-size-btn-text='' av-medium
 -font-size-btn-text='' av-small-font-size-btn-text='' av-mini-font-size-bt
 n-text='' animation='' animation_duration='' animation_custom_bg_color='' 
 animation_z_index_curtain='100' parallax_parallax='' parallax_parallax_spe
 ed='' av-desktop-parallax_parallax='' av-desktop-parallax_parallax_speed='
 ' av-medium-parallax_parallax='' av-medium-parallax_parallax_speed='' av-s
 mall-parallax_parallax='' av-small-parallax_parallax_speed='' av-mini-para
 llax_parallax='' av-mini-parallax_parallax_speed='' fold_timer='' z_index_
 fold='' css_position='' css_position_location='' css_position_z_index='' a
 v-desktop-css_position='' av-desktop-css_position_location='' av-desktop-c
 ss_position_z_index='' av-medium-css_position='' av-medium-css_position_lo
 cation='' av-medium-css_position_z_index='' av-small-css_position='' av-sm
 all-css_position_location='' av-small-css_position_z_index='' av-mini-css_
 position='' av-mini-css_position_location='' av-mini-css_position_z_index=
 '' link='' linktarget='' link_hover='' title_attr='' alt_attr='' mobile_di
 splay='' mobile_col_pos='0' id='' custom_class='' template_class='' aria_l
 abel='' av_uid='av-3zl2k0' sc_version='1.0']\n[av_textblock fold_type='' f
 old_height='' fold_more='Weiterlesen' fold_less='Read less' fold_text_styl
 e='' fold_btn_align='' textblock_styling_align='' textblock_styling='' tex
 tblock_styling_gap='' textblock_styling_mobile='' size='' av-desktop-font-
 size='' av-medium-font-size='' av-small-font-size='' av-mini-font-size='' 
 font_color='' color='' fold_overlay_color='' fold_text_color='' fold_btn_c
 olor='theme-color' fold_btn_bg_color='' fold_btn_font_color='' size-btn-te
 xt='' av-desktop-font-size-btn-text='' av-medium-font-size-btn-text='' av-
 small-font-size-btn-text='' av-mini-font-size-btn-text='' fold_timer='' z_
 index_fold='' id='' custom_class='' template_class='' av_uid='av-23ikyo' s
 c_version='1.0' admin_preview_bg='']\n[event]Wann\n#_EVENTDATES\n#_EVENTTI
 MES\n\nUnterrichtsumfang: 4 US*\n\n#_EVENTADDTOCALENDAR\n\n\n\n[/event]\n[
 /av_textblock]\n[/av_one_third]\n\n[av_textblock fold_type='' fold_height=
 '' fold_more='Weiterlesen' fold_less='Read less' fold_text_style='' fold_b
 tn_align='' textblock_styling_align='' textblock_styling='' textblock_styl
 ing_gap='' textblock_styling_mobile='' size='' av-desktop-font-size='' av-
 medium-font-size='' av-small-font-size='' av-mini-font-size='' font_color=
 '' color='' fold_overlay_color='' fold_text_color='' fold_btn_color='theme
 -color' fold_btn_bg_color='' fold_btn_font_color='' size-btn-text='' av-de
 sktop-font-size-btn-text='' av-medium-font-size-btn-text='' av-small-font-
 size-btn-text='' av-mini-font-size-btn-text='' fold_timer='' z_index_fold=
 '' av-desktop-hide='' av-medium-hide='' av-small-hide='' av-mini-hide='' i
 d='' custom_class='' template_class='' av_uid='av-2bgy34' sc_version='1.0'
 ][/av_textblock]
CATEGORIES:Bezirk Oberbayern West,Bezirksveranstaltung
LOCATION:Heilpraktiker Schule »Josef Angerer«\, Berufsfachschule für Nat
 urheilweisen\, Baumkirchner Straße 20/Rgb\, München\, 81673 \, Deutschla
 nd
GEO:48.128721;11.631176200000027
X-APPLE-STRUCTURED-LOCATION;VALUE=URI;X-ADDRESS=Baumkirchner Straße 20/Rgb
 \, München\, 81673 \, Deutschland;X-APPLE-RADIUS=100;X-TITLE=Heilpraktike
 r Schule »Josef Angerer«\, Berufsfachschule für Naturheilweisen:geo:48.
 128721,11.631176200000027
END:VEVENT
BEGIN:VTIMEZONE
TZID:Europe/Berlin
X-LIC-LOCATION:Europe/Berlin
BEGIN:DAYLIGHT
DTSTART:20250330T030000
TZOFFSETFROM:+0100
TZOFFSETTO:+0200
TZNAME:CEST
END:DAYLIGHT
END:VTIMEZONE
END:VCALENDAR