BEGIN:VCALENDAR
VERSION:2.0
PRODID:-//wp-events-plugin.com//7.2.3.1//EN
TZID:Europe/Berlin
X-WR-TIMEZONE:Europe/Berlin
BEGIN:VEVENT
UID:758@heilpraktiker-akademie-bayern.de
DTSTART;TZID=Europe/Berlin:20250510T140000
DTEND;TZID=Europe/Berlin:20250510T170000
DTSTAMP:20250321T141719Z
URL:https://heilpraktiker-akademie-bayern.de/events/orthomolekulare-therap
 ie/
SUMMARY:Orthomolekulare Therapie
DESCRIPTION:[av_two_third first min_height='' vertical_alignment='av-align-
 top' space='' row_boxshadow='' row_boxshadow_width='10' row_boxshadow_colo
 r='' custom_margin='' margin='0px' av-desktop-margin='' av-medium-margin='
 ' av-small-margin='' av-mini-margin='' mobile_breaking='' mobile_column_or
 der='' border='' border_style='solid' border_color='' radius='' min_col_he
 ight='' padding='' av-desktop-padding='' av-medium-padding='' av-small-pad
 ding='' av-mini-padding='' svg_div_top='' svg_div_top_color='#333333' svg_
 div_top_width='100' svg_div_top_height='50' svg_div_top_max_height='none' 
 svg_div_top_flip='' svg_div_top_invert='' svg_div_top_front='' svg_div_top
 _opacity='' svg_div_top_preview='' svg_div_bottom='' svg_div_bottom_color=
 '#333333' svg_div_bottom_width='100' svg_div_bottom_height='50' svg_div_bo
 ttom_max_height='none' svg_div_bottom_flip='' svg_div_bottom_invert='' svg
 _div_bottom_front='' svg_div_bottom_opacity='' svg_div_bottom_preview='' f
 old_type='' fold_height='' fold_more='Weiterlesen' fold_less='Read less' f
 old_text_style='' fold_btn_align='' column_boxshadow='' column_boxshadow_w
 idth='10' column_boxshadow_color='' background='bg_color' background_color
 ='' background_gradient_direction='vertical' background_gradient_color1='#
 000000' background_gradient_color2='#ffffff' background_gradient_color3=''
  src='' background_position='top left' background_repeat='no-repeat' highl
 ight='' highlight_size='' fold_overlay_color='' fold_text_color='' fold_bt
 n_color='theme-color' fold_btn_bg_color='' fold_btn_font_color='' size-btn
 -text='' av-desktop-font-size-btn-text='' av-medium-font-size-btn-text='' 
 av-small-font-size-btn-text='' av-mini-font-size-btn-text='' animation='' 
 animation_duration='' animation_custom_bg_color='' animation_z_index_curta
 in='100' parallax_parallax='' parallax_parallax_speed='' av-desktop-parall
 ax_parallax='' av-desktop-parallax_parallax_speed='' av-medium-parallax_pa
 rallax='' av-medium-parallax_parallax_speed='' av-small-parallax_parallax=
 '' av-small-parallax_parallax_speed='' av-mini-parallax_parallax='' av-min
 i-parallax_parallax_speed='' fold_timer='' z_index_fold='' css_position=''
  css_position_location='' css_position_z_index='' av-desktop-css_position=
 '' av-desktop-css_position_location='' av-desktop-css_position_z_index='' 
 av-medium-css_position='' av-medium-css_position_location='' av-medium-css
 _position_z_index='' av-small-css_position='' av-small-css_position_locati
 on='' av-small-css_position_z_index='' av-mini-css_position='' av-mini-css
 _position_location='' av-mini-css_position_z_index='' link='' linktarget='
 ' link_hover='' title_attr='' alt_attr='' mobile_display='' mobile_col_pos
 ='0' id='' custom_class='' template_class='' aria_label='' av_uid='av-d04v
 u8' sc_version='1.0']\n\n[av_textblock fold_type='' fold_height='' fold_mo
 re='Weiterlesen' fold_less='Read less' fold_text_style='' fold_btn_align='
 ' textblock_styling_align='' textblock_styling='' textblock_styling_gap=''
  textblock_styling_mobile='' size='' av-desktop-font-size='' av-medium-fon
 t-size='' av-small-font-size='' av-mini-font-size='' font_color='' color='
 ' fold_overlay_color='' fold_text_color='' fold_btn_color='theme-color' fo
 ld_btn_bg_color='' fold_btn_font_color='' size-btn-text='' av-desktop-font
 -size-btn-text='' av-medium-font-size-btn-text='' av-small-font-size-btn-t
 ext='' av-mini-font-size-btn-text='' fold_timer='' z_index_fold='' id='' c
 ustom_class='' template_class='' av_uid='av-lr61av32' sc_version='1.0' adm
 in_preview_bg='']\n[event]#_EVENTNAME[/event]\nMikronährstoffe bilden ein
 en wichtigen Aspekt in der alternativen Medizin. Vitamine\, Mineralstoffe\
 , Spurenelemente sind durch die heutige Ernährung häufig im Mangel und f
 ühren zu den verschiedensten Krankheiten.\n\nDoch viele dieser Untersuchu
 ngen sind auch teuer für Patientinnen und Patienten. Darum gilt es\, durc
 h die Anamnese festzustellen\, welche Untersuchungen sinnvoll sind und wel
 che nicht.\n\nErfahren Sie – auch im Dialog – welche Krankheiten mit w
 elchem Mangel in Zusammenhang stehen oder auch welche Symptome zu den rich
 tigen Untersuchungen führen.\n\nDozent: HP Michael Manig\, Bamberg\n\nDas
  Seminar findet ONLINE statt.\n\n\n\n[/av_textblock]\n\n[av_textblock fold
 _type='' fold_height='' fold_more='Weiterlesen' fold_less='Read less' fold
 _text_style='' fold_btn_align='' textblock_styling_align='' textblock_styl
 ing='' textblock_styling_gap='' textblock_styling_mobile='' size='' av-des
 ktop-font-size='' av-medium-font-size='' av-small-font-size='' av-mini-fon
 t-size='' font_color='' color='' fold_overlay_color='' fold_text_color='' 
 fold_btn_color='theme-color' fold_btn_bg_color='' fold_btn_font_color='' s
 ize-btn-text='' av-desktop-font-size-btn-text='' av-medium-font-size-btn-t
 ext='' av-small-font-size-btn-text='' av-mini-font-size-btn-text='' fold_t
 imer='' z_index_fold='' id='' custom_class='' template_class='' av_uid='av
 -lr61cego' sc_version='1.0' admin_preview_bg='']\nVoranmeldung erbeten\n\n
 [av_font_icon icon='ue805' font='entypo-fontello' style='' caption='' link
 ='manually\,info@physio-rose.de' linktarget='' size='20px' position='left'
  color='' av_uid='av-bdojo0' custom_class='inline_cal' admin_preview_bg=''
 ][/av_font_icon]Wir bitten um Anmeldung bei der Bezirks-Fachfortbildungsle
 iterin Katrin Rose unter info@physio-rose.de\n[/av_textblock]\n\n[av_table
  purpose='tabular' pricing_table_design='avia_pricing_default' pricing_hid
 den_cells='' caption='' responsive_styling='avia_responsive_table' av_uid=
 'av-95d65s' custom_class='']\n[av_row row_style='' av_uid='av-73v7j4'][av_
 cell col_style='avia-highlight-col' av_uid='av-6845u8']Veranstaltungen der
  Bezirke sind für Mitglieder kostenfrei.\nDie Teilnahmegebühr für Nicht
 mitglieder (zugelassene Heilpraktiker mit Nachweis) beträgt € 25\,00 (b
 ei Veranstaltungen von mehr als 4 Stunden € 50\,00). Sollten Sie im Lauf
 e des Kalenderjahres Mitglied im Heilpraktikerverband Bayern e.V. werden\,
  wird Ihnen die Teilnahmegebühr angerechnet.[/av_cell][/av_row]\n[/av_tab
 le]\n\n[/av_two_third][av_one_third min_height='' vertical_alignment='av-a
 lign-top' space='' row_boxshadow='' row_boxshadow_width='10' row_boxshadow
 _color='' custom_margin='' margin='0px' av-desktop-margin='' av-medium-mar
 gin='' av-small-margin='' av-mini-margin='' mobile_breaking='' mobile_colu
 mn_order='' border='' border_style='solid' border_color='' radius='' min_c
 ol_height='' padding='' av-desktop-padding='' av-medium-padding='' av-smal
 l-padding='' av-mini-padding='' svg_div_top='' svg_div_top_color='#333333'
  svg_div_top_width='100' svg_div_top_height='50' svg_div_top_max_height='n
 one' svg_div_top_flip='' svg_div_top_invert='' svg_div_top_front='' svg_di
 v_top_opacity='' svg_div_top_preview='' svg_div_bottom='' svg_div_bottom_c
 olor='#333333' svg_div_bottom_width='100' svg_div_bottom_height='50' svg_d
 iv_bottom_max_height='none' svg_div_bottom_flip='' svg_div_bottom_invert='
 ' svg_div_bottom_front='' svg_div_bottom_opacity='' svg_div_bottom_preview
 ='' fold_type='' fold_height='' fold_more='Weiterlesen' fold_less='Read le
 ss' fold_text_style='' fold_btn_align='' column_boxshadow='' column_boxsha
 dow_width='10' column_boxshadow_color='' background='bg_color' background_
 color='' background_gradient_direction='vertical' background_gradient_colo
 r1='#000000' background_gradient_color2='#ffffff' background_gradient_colo
 r3='' src='' background_position='top left' background_repeat='no-repeat' 
 highlight='' highlight_size='' fold_overlay_color='' fold_text_color='' fo
 ld_btn_color='theme-color' fold_btn_bg_color='' fold_btn_font_color='' siz
 e-btn-text='' av-desktop-font-size-btn-text='' av-medium-font-size-btn-tex
 t='' av-small-font-size-btn-text='' av-mini-font-size-btn-text='' animatio
 n='' animation_duration='' animation_custom_bg_color='' animation_z_index_
 curtain='100' parallax_parallax='' parallax_parallax_speed='' av-desktop-p
 arallax_parallax='' av-desktop-parallax_parallax_speed='' av-medium-parall
 ax_parallax='' av-medium-parallax_parallax_speed='' av-small-parallax_para
 llax='' av-small-parallax_parallax_speed='' av-mini-parallax_parallax='' a
 v-mini-parallax_parallax_speed='' fold_timer='' z_index_fold='' css_positi
 on='' css_position_location='' css_position_z_index='' av-desktop-css_posi
 tion='' av-desktop-css_position_location='' av-desktop-css_position_z_inde
 x='' av-medium-css_position='' av-medium-css_position_location='' av-mediu
 m-css_position_z_index='' av-small-css_position='' av-small-css_position_l
 ocation='' av-small-css_position_z_index='' av-mini-css_position='' av-min
 i-css_position_location='' av-mini-css_position_z_index='' link='' linktar
 get='' link_hover='' title_attr='' alt_attr='' mobile_display='' mobile_co
 l_pos='0' id='' custom_class='' template_class='' aria_label='' av_uid='av
 -3zl2k0' sc_version='1.0']\n[av_textblock fold_type='' fold_height='' fold
 _more='Weiterlesen' fold_less='Read less' fold_text_style='' fold_btn_alig
 n='' textblock_styling_align='' textblock_styling='' textblock_styling_gap
 ='' textblock_styling_mobile='' size='' av-desktop-font-size='' av-medium-
 font-size='' av-small-font-size='' av-mini-font-size='' font_color='' colo
 r='' fold_overlay_color='' fold_text_color='' fold_btn_color='theme-color'
  fold_btn_bg_color='' fold_btn_font_color='' size-btn-text='' av-desktop-f
 ont-size-btn-text='' av-medium-font-size-btn-text='' av-small-font-size-bt
 n-text='' av-mini-font-size-btn-text='' fold_timer='' z_index_fold='' id='
 ' custom_class='' template_class='' av_uid='av-23ikyo' sc_version='1.0' ad
 min_preview_bg='']\n[event]Wann\n#_EVENTDATES\n#_EVENTTIMES\n\nUnterrichts
 umfang: 4 US*\n\n#_EVENTADDTOCALENDAR\n\n\n\n[/event]\n[/av_textblock]\n[/
 av_one_third]\n\n[av_textblock fold_type='' fold_height='' fold_more='Weit
 erlesen' fold_less='Read less' fold_text_style='' fold_btn_align='' textbl
 ock_styling_align='' textblock_styling='' textblock_styling_gap='' textblo
 ck_styling_mobile='' size='' av-desktop-font-size='' av-medium-font-size='
 ' av-small-font-size='' av-mini-font-size='' font_color='' color='' fold_o
 verlay_color='' fold_text_color='' fold_btn_color='theme-color' fold_btn_b
 g_color='' fold_btn_font_color='' size-btn-text='' av-desktop-font-size-bt
 n-text='' av-medium-font-size-btn-text='' av-small-font-size-btn-text='' a
 v-mini-font-size-btn-text='' fold_timer='' z_index_fold='' av-desktop-hide
 ='' av-medium-hide='' av-small-hide='' av-mini-hide='' id='' custom_class=
 '' template_class='' av_uid='av-2xi76t' sc_version='1.0'][/av_textblock]
CATEGORIES:Bezirk Oberfranken,Bezirksveranstaltung,Online-Fachfortbildung
LOCATION:Online-Fachfortbildung\, Heilpraktikerverband Bayern e.V. Baumkirc
 hner Straße 20/Rgb\, München\, 81673\, Deutschland
GEO:48.12878;11.63127
X-APPLE-STRUCTURED-LOCATION;VALUE=URI;X-ADDRESS=Heilpraktikerverband Bayern
  e.V. Baumkirchner Straße 20/Rgb\, München\, 81673\, Deutschland;X-APPLE
 -RADIUS=100;X-TITLE=Online-Fachfortbildung:geo:48.12878,11.63127
END:VEVENT
BEGIN:VTIMEZONE
TZID:Europe/Berlin
X-LIC-LOCATION:Europe/Berlin
BEGIN:DAYLIGHT
DTSTART:20250330T030000
TZOFFSETFROM:+0100
TZOFFSETTO:+0200
TZNAME:CEST
END:DAYLIGHT
END:VTIMEZONE
END:VCALENDAR