BEGIN:VCALENDAR
VERSION:2.0
PRODID:-//wp-events-plugin.com//7.2.3.1//EN
TZID:Europe/Berlin
X-WR-TIMEZONE:Europe/Berlin
BEGIN:VEVENT
UID:760@heilpraktiker-akademie-bayern.de
DTSTART;TZID=Europe/Berlin:20250125T090000
DTEND;TZID=Europe/Berlin:20250125T120000
DTSTAMP:20241124T172016Z
URL:https://heilpraktiker-akademie-bayern.de/events/naturheilkundliche-the
 rapiekonzepte-bei-augenerkrankungen/
SUMMARY:Naturheilkundliche Therapiekonzepte bei Augenerkrankungen und Einf
 ührung und Umsetzung der Spenglersan-Therapie in der NHP (2 Vorträge)
DESCRIPTION:[av_two_third first min_height='' vertical_alignment='av-align-
 top' space='' row_boxshadow='' row_boxshadow_width='10' row_boxshadow_colo
 r='' custom_margin='' margin='0px' av-desktop-margin='' av-medium-margin='
 ' av-small-margin='' av-mini-margin='' mobile_breaking='' mobile_column_or
 der='' border='' border_style='solid' border_color='' radius='' min_col_he
 ight='' padding='' av-desktop-padding='' av-medium-padding='' av-small-pad
 ding='' av-mini-padding='' svg_div_top='' svg_div_top_color='#333333' svg_
 div_top_width='100' svg_div_top_height='50' svg_div_top_max_height='none' 
 svg_div_top_flip='' svg_div_top_invert='' svg_div_top_front='' svg_div_top
 _opacity='' svg_div_top_preview='' svg_div_bottom='' svg_div_bottom_color=
 '#333333' svg_div_bottom_width='100' svg_div_bottom_height='50' svg_div_bo
 ttom_max_height='none' svg_div_bottom_flip='' svg_div_bottom_invert='' svg
 _div_bottom_front='' svg_div_bottom_opacity='' svg_div_bottom_preview='' f
 old_type='' fold_height='' fold_more='Weiterlesen' fold_less='Read less' f
 old_text_style='' fold_btn_align='' column_boxshadow='' column_boxshadow_w
 idth='10' column_boxshadow_color='' background='bg_color' background_color
 ='' background_gradient_direction='vertical' background_gradient_color1='#
 000000' background_gradient_color2='#ffffff' background_gradient_color3=''
  src='' background_position='top left' background_repeat='no-repeat' highl
 ight='' highlight_size='' fold_overlay_color='' fold_text_color='' fold_bt
 n_color='theme-color' fold_btn_bg_color='' fold_btn_font_color='' size-btn
 -text='' av-desktop-font-size-btn-text='' av-medium-font-size-btn-text='' 
 av-small-font-size-btn-text='' av-mini-font-size-btn-text='' animation='' 
 animation_duration='' animation_custom_bg_color='' animation_z_index_curta
 in='100' parallax_parallax='' parallax_parallax_speed='' av-desktop-parall
 ax_parallax='' av-desktop-parallax_parallax_speed='' av-medium-parallax_pa
 rallax='' av-medium-parallax_parallax_speed='' av-small-parallax_parallax=
 '' av-small-parallax_parallax_speed='' av-mini-parallax_parallax='' av-min
 i-parallax_parallax_speed='' fold_timer='' z_index_fold='' css_position=''
  css_position_location='' css_position_z_index='' av-desktop-css_position=
 '' av-desktop-css_position_location='' av-desktop-css_position_z_index='' 
 av-medium-css_position='' av-medium-css_position_location='' av-medium-css
 _position_z_index='' av-small-css_position='' av-small-css_position_locati
 on='' av-small-css_position_z_index='' av-mini-css_position='' av-mini-css
 _position_location='' av-mini-css_position_z_index='' link='' linktarget='
 ' link_hover='' title_attr='' alt_attr='' mobile_display='' mobile_col_pos
 ='0' id='' custom_class='' template_class='' aria_label='' av_uid='av-d04v
 u8' sc_version='1.0']\n\n[av_textblock fold_type='' fold_height='' fold_mo
 re='Weiterlesen' fold_less='Read less' fold_text_style='' fold_btn_align='
 ' textblock_styling_align='' textblock_styling='' textblock_styling_gap=''
  textblock_styling_mobile='' size='' av-desktop-font-size='' av-medium-fon
 t-size='' av-small-font-size='' av-mini-font-size='' font_color='' color='
 ' fold_overlay_color='' fold_text_color='' fold_btn_color='theme-color' fo
 ld_btn_bg_color='' fold_btn_font_color='' size-btn-text='' av-desktop-font
 -size-btn-text='' av-medium-font-size-btn-text='' av-small-font-size-btn-t
 ext='' av-mini-font-size-btn-text='' fold_timer='' z_index_fold='' id='' c
 ustom_class='' template_class='' av_uid='av-lr61av32' sc_version='1.0' adm
 in_preview_bg='']\n[event]#_EVENTNAME[/event]\nDas Auge ist eines unserer 
 wichtigsten Sinnesorgane\, es kann pro Sekunde ca. 10 Mio. Informationen a
 ufnehmen und an das Gehirn weiterleiten. Eine Beeinträchtigung des Auges 
 wird oft als besonders belastend empfunden. Der Referent wird uns bewährt
 e Therapiekonzepte zu den bekanntesten Augenerkrankungen näherbringen. Im
  Wesentlichen sind das Makuladegeneration\, Konjunktivitis\, Blepharitis\,
  Katarakt\, Glaukom\, Glaskörpertrübung sowie Sehstörungen bei Long Cov
 id.\n\nDie Spenglersan-Kolloide sind Arzneimittel\, die aufgrund ihrer Eig
 enschaften sowohl zur Therapie als auch zur Testung (Diagnose) geeignet si
 nd. Sie stellen mikrobiologische Immunmodulatoren dar und bestehen aus Ant
 igenen und Antitoxinen verschiedener Bakterienstämme und sind auf D9 pote
 nziert.\n\nIm Vortrag werden die verschiedenen Spenglersan-Kolloide und Ih
 re möglichen Einsatzgebiete in der NHP vorgestellt.\n\nDozent: Dr. Oliver
  Ploss\, Ippenbüren\n\nDieses Seminar findet ONLINE statt.\n\n\n\n[/av_te
 xtblock]\n\n[av_textblock fold_type='' fold_height='' fold_more='Weiterles
 en' fold_less='Read less' fold_text_style='' fold_btn_align='' textblock_s
 tyling_align='' textblock_styling='' textblock_styling_gap='' textblock_st
 yling_mobile='' size='' av-desktop-font-size='' av-medium-font-size='' av-
 small-font-size='' av-mini-font-size='' font_color='' color='' fold_overla
 y_color='' fold_text_color='' fold_btn_color='theme-color' fold_btn_bg_col
 or='' fold_btn_font_color='' size-btn-text='' av-desktop-font-size-btn-tex
 t='' av-medium-font-size-btn-text='' av-small-font-size-btn-text='' av-min
 i-font-size-btn-text='' fold_timer='' z_index_fold='' id='' custom_class='
 ' template_class='' av_uid='av-lr61cego' sc_version='1.0' admin_preview_bg
 ='']\nVoranmeldung erbeten bei:\n\n\n[av_font_icon icon='ue805' font='enty
 po-fontello' style='' caption='' link='manually\,jutta.leitner@email.de' l
 inktarget='' size='20px' position='left' color='' av_uid='av-bdojo0' custo
 m_class='inline_cal' admin_preview_bg=''][/av_font_icon]Frau Jutta Leitner
  per E-Mail: jutta.leitner@email.de oder Tel. 09404 6330\n[/av_textblock]\
 n\n[av_table purpose='tabular' pricing_table_design='avia_pricing_default'
  pricing_hidden_cells='' caption='' responsive_styling='avia_responsive_ta
 ble' av_uid='av-95d65s' custom_class='']\n[av_row row_style='' av_uid='av-
 73v7j4'][av_cell col_style='avia-highlight-col' av_uid='av-6845u8']Veranst
 altungen der Bezirke sind für Mitglieder kostenfrei.\nDie Teilnahmegebüh
 r für Nichtmitglieder (zugelassene Heilpraktiker mit Nachweis) beträgt 
 € 25\,00 (bei Veranstaltungen von mehr als 4 Stunden € 50\,00). Sollte
 n Sie im Laufe des Kalenderjahres Mitglied im Heilpraktikerverband Bayern 
 e.V. werden\, wird Ihnen die Teilnahmegebühr angerechnet.[/av_cell][/av_r
 ow]\n[/av_table]\n\n[/av_two_third][av_one_third min_height='' vertical_al
 ignment='av-align-top' space='' row_boxshadow='' row_boxshadow_width='10' 
 row_boxshadow_color='' custom_margin='' margin='0px' av-desktop-margin='' 
 av-medium-margin='' av-small-margin='' av-mini-margin='' mobile_breaking='
 ' mobile_column_order='' border='' border_style='solid' border_color='' ra
 dius='' min_col_height='' padding='' av-desktop-padding='' av-medium-paddi
 ng='' av-small-padding='' av-mini-padding='' svg_div_top='' svg_div_top_co
 lor='#333333' svg_div_top_width='100' svg_div_top_height='50' svg_div_top_
 max_height='none' svg_div_top_flip='' svg_div_top_invert='' svg_div_top_fr
 ont='' svg_div_top_opacity='' svg_div_top_preview='' svg_div_bottom='' svg
 _div_bottom_color='#333333' svg_div_bottom_width='100' svg_div_bottom_heig
 ht='50' svg_div_bottom_max_height='none' svg_div_bottom_flip='' svg_div_bo
 ttom_invert='' svg_div_bottom_front='' svg_div_bottom_opacity='' svg_div_b
 ottom_preview='' fold_type='' fold_height='' fold_more='Weiterlesen' fold_
 less='Read less' fold_text_style='' fold_btn_align='' column_boxshadow='' 
 column_boxshadow_width='10' column_boxshadow_color='' background='bg_color
 ' background_color='' background_gradient_direction='vertical' background_
 gradient_color1='#000000' background_gradient_color2='#ffffff' background_
 gradient_color3='' src='' background_position='top left' background_repeat
 ='no-repeat' highlight='' highlight_size='' fold_overlay_color='' fold_tex
 t_color='' fold_btn_color='theme-color' fold_btn_bg_color='' fold_btn_font
 _color='' size-btn-text='' av-desktop-font-size-btn-text='' av-medium-font
 -size-btn-text='' av-small-font-size-btn-text='' av-mini-font-size-btn-tex
 t='' animation='' animation_duration='' animation_custom_bg_color='' anima
 tion_z_index_curtain='100' parallax_parallax='' parallax_parallax_speed=''
  av-desktop-parallax_parallax='' av-desktop-parallax_parallax_speed='' av-
 medium-parallax_parallax='' av-medium-parallax_parallax_speed='' av-small-
 parallax_parallax='' av-small-parallax_parallax_speed='' av-mini-parallax_
 parallax='' av-mini-parallax_parallax_speed='' fold_timer='' z_index_fold=
 '' css_position='' css_position_location='' css_position_z_index='' av-des
 ktop-css_position='' av-desktop-css_position_location='' av-desktop-css_po
 sition_z_index='' av-medium-css_position='' av-medium-css_position_locatio
 n='' av-medium-css_position_z_index='' av-small-css_position='' av-small-c
 ss_position_location='' av-small-css_position_z_index='' av-mini-css_posit
 ion='' av-mini-css_position_location='' av-mini-css_position_z_index='' li
 nk='' linktarget='' link_hover='' title_attr='' alt_attr='' mobile_display
 ='' mobile_col_pos='0' id='' custom_class='' template_class='' aria_label=
 '' av_uid='av-3zl2k0' sc_version='1.0']\n[av_textblock fold_type='' fold_h
 eight='' fold_more='Weiterlesen' fold_less='Read less' fold_text_style='' 
 fold_btn_align='' textblock_styling_align='' textblock_styling='' textbloc
 k_styling_gap='' textblock_styling_mobile='' size='' av-desktop-font-size=
 '' av-medium-font-size='' av-small-font-size='' av-mini-font-size='' font_
 color='' color='' fold_overlay_color='' fold_text_color='' fold_btn_color=
 'theme-color' fold_btn_bg_color='' fold_btn_font_color='' size-btn-text=''
  av-desktop-font-size-btn-text='' av-medium-font-size-btn-text='' av-small
 -font-size-btn-text='' av-mini-font-size-btn-text='' fold_timer='' z_index
 _fold='' id='' custom_class='' template_class='' av_uid='av-23ikyo' sc_ver
 sion='1.0' admin_preview_bg='']\n[event]Wann\n#_EVENTDATES\n#_EVENTTIMES\n
 \nUnterrichtsumfang: 4 US*\n\n#_EVENTADDTOCALENDAR\n\n\n\n[/event]\n[/av_t
 extblock]\n[/av_one_third]\n\n[av_textblock fold_type='' fold_height='' fo
 ld_more='Weiterlesen' fold_less='Read less' fold_text_style='' fold_btn_al
 ign='' textblock_styling_align='' textblock_styling='' textblock_styling_g
 ap='' textblock_styling_mobile='' size='' av-desktop-font-size='' av-mediu
 m-font-size='' av-small-font-size='' av-mini-font-size='' font_color='' co
 lor='' fold_overlay_color='' fold_text_color='' fold_btn_color='theme-colo
 r' fold_btn_bg_color='' fold_btn_font_color='' size-btn-text='' av-desktop
 -font-size-btn-text='' av-medium-font-size-btn-text='' av-small-font-size-
 btn-text='' av-mini-font-size-btn-text='' fold_timer='' z_index_fold='' av
 -desktop-hide='' av-medium-hide='' av-small-hide='' av-mini-hide='' id='' 
 custom_class='' template_class='' av_uid='' sc_version='1.0'][/av_textbloc
 k]
CATEGORIES:Bezirk Ostbayern,Bezirksveranstaltung,Online-Fachfortbildung
LOCATION:Online-Fachfortbildung\, Heilpraktikerverband Bayern e.V. Baumkirc
 hner Straße 20/Rgb\, München\, 81673\, Deutschland
GEO:48.12878;11.63127
X-APPLE-STRUCTURED-LOCATION;VALUE=URI;X-ADDRESS=Heilpraktikerverband Bayern
  e.V. Baumkirchner Straße 20/Rgb\, München\, 81673\, Deutschland;X-APPLE
 -RADIUS=100;X-TITLE=Online-Fachfortbildung:geo:48.12878,11.63127
END:VEVENT
BEGIN:VTIMEZONE
TZID:Europe/Berlin
X-LIC-LOCATION:Europe/Berlin
BEGIN:STANDARD
DTSTART:20241027T020000
TZOFFSETFROM:+0200
TZOFFSETTO:+0100
TZNAME:CET
END:STANDARD
END:VTIMEZONE
END:VCALENDAR