BEGIN:VCALENDAR
VERSION:2.0
PRODID:-//wp-events-plugin.com//7.2.3.1//EN
TZID:Europe/Berlin
X-WR-TIMEZONE:Europe/Berlin
BEGIN:VEVENT
UID:753@heilpraktiker-akademie-bayern.de
DTSTART;TZID=Europe/Berlin:20250222T100000
DTEND;TZID=Europe/Berlin:20250222T140000
DTSTAMP:20241123T205253Z
URL:https://heilpraktiker-akademie-bayern.de/events/naturheilkunde-in-der-
 akutklinik/
SUMMARY:Naturheilkunde in der Akutklinik – Praxistag in dem führenden Kr
 ankenhaus für Naturheilkunde!
DESCRIPTION:[av_two_third first min_height='' vertical_alignment='av-align-
 top' space='' row_boxshadow='' row_boxshadow_width='10' row_boxshadow_colo
 r='' custom_margin='' margin='0px' av-desktop-margin='' av-medium-margin='
 ' av-small-margin='' av-mini-margin='' mobile_breaking='' mobile_column_or
 der='' border='' border_style='solid' border_color='' radius='' min_col_he
 ight='' padding='' av-desktop-padding='' av-medium-padding='' av-small-pad
 ding='' av-mini-padding='' svg_div_top='' svg_div_top_color='#333333' svg_
 div_top_width='100' svg_div_top_height='50' svg_div_top_max_height='none' 
 svg_div_top_flip='' svg_div_top_invert='' svg_div_top_front='' svg_div_top
 _opacity='' svg_div_top_preview='' svg_div_bottom='' svg_div_bottom_color=
 '#333333' svg_div_bottom_width='100' svg_div_bottom_height='50' svg_div_bo
 ttom_max_height='none' svg_div_bottom_flip='' svg_div_bottom_invert='' svg
 _div_bottom_front='' svg_div_bottom_opacity='' svg_div_bottom_preview='' f
 old_type='' fold_height='' fold_more='Weiterlesen' fold_less='Read less' f
 old_text_style='' fold_btn_align='' column_boxshadow='' column_boxshadow_w
 idth='10' column_boxshadow_color='' background='bg_color' background_color
 ='' background_gradient_direction='vertical' background_gradient_color1='#
 000000' background_gradient_color2='#ffffff' background_gradient_color3=''
  src='' background_position='top left' background_repeat='no-repeat' highl
 ight='' highlight_size='' fold_overlay_color='' fold_text_color='' fold_bt
 n_color='theme-color' fold_btn_bg_color='' fold_btn_font_color='' size-btn
 -text='' av-desktop-font-size-btn-text='' av-medium-font-size-btn-text='' 
 av-small-font-size-btn-text='' av-mini-font-size-btn-text='' animation='' 
 animation_duration='' animation_custom_bg_color='' animation_z_index_curta
 in='100' parallax_parallax='' parallax_parallax_speed='' av-desktop-parall
 ax_parallax='' av-desktop-parallax_parallax_speed='' av-medium-parallax_pa
 rallax='' av-medium-parallax_parallax_speed='' av-small-parallax_parallax=
 '' av-small-parallax_parallax_speed='' av-mini-parallax_parallax='' av-min
 i-parallax_parallax_speed='' fold_timer='' z_index_fold='' css_position=''
  css_position_location='' css_position_z_index='' av-desktop-css_position=
 '' av-desktop-css_position_location='' av-desktop-css_position_z_index='' 
 av-medium-css_position='' av-medium-css_position_location='' av-medium-css
 _position_z_index='' av-small-css_position='' av-small-css_position_locati
 on='' av-small-css_position_z_index='' av-mini-css_position='' av-mini-css
 _position_location='' av-mini-css_position_z_index='' link='' linktarget='
 ' link_hover='' title_attr='' alt_attr='' mobile_display='' mobile_col_pos
 ='0' id='' custom_class='' template_class='' aria_label='' av_uid='av-d04v
 u8' sc_version='1.0']\n\n[av_textblock fold_type='' fold_height='' fold_mo
 re='Weiterlesen' fold_less='Read less' fold_text_style='' fold_btn_align='
 ' textblock_styling_align='' textblock_styling='' textblock_styling_gap=''
  textblock_styling_mobile='' size='' av-desktop-font-size='' av-medium-fon
 t-size='' av-small-font-size='' av-mini-font-size='' font_color='' color='
 ' fold_overlay_color='' fold_text_color='' fold_btn_color='theme-color' fo
 ld_btn_bg_color='' fold_btn_font_color='' size-btn-text='' av-desktop-font
 -size-btn-text='' av-medium-font-size-btn-text='' av-small-font-size-btn-t
 ext='' av-mini-font-size-btn-text='' fold_timer='' z_index_fold='' id='' c
 ustom_class='' template_class='' av_uid='av-lr61av32' sc_version='1.0' adm
 in_preview_bg='']\n[event]#_EVENTNAME[/event]\nIm Krankenhaus für Naturhe
 ilweisen (KfN) werden seit über 140 Jahren Patient*innen aller Kassen bei
  internistischen Erkrankungen integrativ stationär behandelt.\n\nDas KfN 
 gibt in dieser Fachfortbildung Einblicke hinter die Kulissen. Welche Krank
 heiten werden hier behandelt? Welche naturheilkundlichen Methoden werden i
 n Diagnose und Therapie angewendet? Und was macht das KfN so besonders? Ne
 ben Vorträgen werden auch Anwendungsbeispiele aus und in der Praxis gezei
 gt.\n\nDie Fachfortbildung findet direkt im KfN statt. Wir empfehlen dring
 end die Anreise mit öffentlichen Verkehrsmitteln\, da nur sehr begrenzt P
 arkplätze zur Verfügung stehen.\n\nBitte unbedingt vorher anmelden\, da 
 die Zahl der Teilnehmenden begrenzt ist.\n\nAchtung anderer Veranstaltungs
 ort!\n\n\n\n[/av_textblock]\n\n[av_textblock fold_type='' fold_height='' f
 old_more='Weiterlesen' fold_less='Read less' fold_text_style='' fold_btn_a
 lign='' textblock_styling_align='' textblock_styling='' textblock_styling_
 gap='' textblock_styling_mobile='' size='' av-desktop-font-size='' av-medi
 um-font-size='' av-small-font-size='' av-mini-font-size='' font_color='' c
 olor='' fold_overlay_color='' fold_text_color='' fold_btn_color='theme-col
 or' fold_btn_bg_color='' fold_btn_font_color='' size-btn-text='' av-deskto
 p-font-size-btn-text='' av-medium-font-size-btn-text='' av-small-font-size
 -btn-text='' av-mini-font-size-btn-text='' fold_timer='' z_index_fold='' i
 d='' custom_class='' template_class='' av_uid='av-lr61cego' sc_version='1.
 0' admin_preview_bg='']\nVoranmeldung erforderlich unter:\n\n[av_font_icon
  icon='ue805' font='entypo-fontello' style='' caption='' link='manually\,i
 nfo@naturheilpraxis-bachhuber.de' linktarget='' size='20px' position='left
 ' color='' av_uid='av-bdojo0' custom_class='inline_cal' admin_preview_bg='
 '][/av_font_icon]info@naturheilpraxis-bachhuber.de - nur wenn nicht per E-
 Mail möglich: Tel. 089 55062936\n[/av_textblock]\n\n[av_table purpose='ta
 bular' pricing_table_design='avia_pricing_default' pricing_hidden_cells=''
  caption='' responsive_styling='avia_responsive_table' av_uid='av-95d65s' 
 custom_class='']\n[av_row row_style='' av_uid='av-73v7j4'][av_cell col_sty
 le='avia-highlight-col' av_uid='av-6845u8']Veranstaltungen der Bezirke sin
 d für Mitglieder kostenfrei.\nDie Teilnahmegebühr für Nichtmitglieder (
 zugelassene Heilpraktiker mit Nachweis) beträgt € 25\,00 (bei Veranstal
 tungen von mehr als 4 Stunden € 50\,00). Sollten Sie im Laufe des Kalend
 erjahres Mitglied im Heilpraktikerverband Bayern e.V. werden\, wird Ihnen 
 die Teilnahmegebühr angerechnet.[/av_cell][/av_row]\n[/av_table]\n\n[/av_
 two_third][av_one_third min_height='' vertical_alignment='av-align-top' sp
 ace='' row_boxshadow='' row_boxshadow_width='10' row_boxshadow_color='' cu
 stom_margin='' margin='0px' av-desktop-margin='' av-medium-margin='' av-sm
 all-margin='' av-mini-margin='' mobile_breaking='' mobile_column_order='' 
 border='' border_style='solid' border_color='' radius='' min_col_height=''
  padding='' av-desktop-padding='' av-medium-padding='' av-small-padding=''
  av-mini-padding='' svg_div_top='' svg_div_top_color='#333333' svg_div_top
 _width='100' svg_div_top_height='50' svg_div_top_max_height='none' svg_div
 _top_flip='' svg_div_top_invert='' svg_div_top_front='' svg_div_top_opacit
 y='' svg_div_top_preview='' svg_div_bottom='' svg_div_bottom_color='#33333
 3' svg_div_bottom_width='100' svg_div_bottom_height='50' svg_div_bottom_ma
 x_height='none' svg_div_bottom_flip='' svg_div_bottom_invert='' svg_div_bo
 ttom_front='' svg_div_bottom_opacity='' svg_div_bottom_preview='' fold_typ
 e='' fold_height='' fold_more='Weiterlesen' fold_less='Read less' fold_tex
 t_style='' fold_btn_align='' column_boxshadow='' column_boxshadow_width='1
 0' column_boxshadow_color='' background='bg_color' background_color='' bac
 kground_gradient_direction='vertical' background_gradient_color1='#000000'
  background_gradient_color2='#ffffff' background_gradient_color3='' src=''
  background_position='top left' background_repeat='no-repeat' highlight=''
  highlight_size='' fold_overlay_color='' fold_text_color='' fold_btn_color
 ='theme-color' fold_btn_bg_color='' fold_btn_font_color='' size-btn-text='
 ' av-desktop-font-size-btn-text='' av-medium-font-size-btn-text='' av-smal
 l-font-size-btn-text='' av-mini-font-size-btn-text='' animation='' animati
 on_duration='' animation_custom_bg_color='' animation_z_index_curtain='100
 ' parallax_parallax='' parallax_parallax_speed='' av-desktop-parallax_para
 llax='' av-desktop-parallax_parallax_speed='' av-medium-parallax_parallax=
 '' av-medium-parallax_parallax_speed='' av-small-parallax_parallax='' av-s
 mall-parallax_parallax_speed='' av-mini-parallax_parallax='' av-mini-paral
 lax_parallax_speed='' fold_timer='' z_index_fold='' css_position='' css_po
 sition_location='' css_position_z_index='' av-desktop-css_position='' av-d
 esktop-css_position_location='' av-desktop-css_position_z_index='' av-medi
 um-css_position='' av-medium-css_position_location='' av-medium-css_positi
 on_z_index='' av-small-css_position='' av-small-css_position_location='' a
 v-small-css_position_z_index='' av-mini-css_position='' av-mini-css_positi
 on_location='' av-mini-css_position_z_index='' link='' linktarget='' link_
 hover='' title_attr='' alt_attr='' mobile_display='' mobile_col_pos='0' id
 ='' custom_class='' template_class='' aria_label='' av_uid='av-3zl2k0' sc_
 version='1.0']\n\n[av_textblock fold_type='' fold_height='' fold_more='Wei
 terlesen' fold_less='Read less' fold_text_style='' fold_btn_align='' textb
 lock_styling_align='' textblock_styling='' textblock_styling_gap='' textbl
 ock_styling_mobile='' size='' av-desktop-font-size='' av-medium-font-size=
 '' av-small-font-size='' av-mini-font-size='' font_color='' color='' fold_
 overlay_color='' fold_text_color='' fold_btn_color='theme-color' fold_btn_
 bg_color='' fold_btn_font_color='' size-btn-text='' av-desktop-font-size-b
 tn-text='' av-medium-font-size-btn-text='' av-small-font-size-btn-text='' 
 av-mini-font-size-btn-text='' fold_timer='' z_index_fold='' id='' custom_c
 lass='' template_class='' av_uid='av-23ikyo' sc_version='1.0' admin_previe
 w_bg='']\n[event]Wann\n#_EVENTDATES\n#_EVENTTIMES\n\nUnterrichtsumfang: 5 
 US*\n\n#_EVENTADDTOCALENDAR\n\n\n\n[/event]\n[/av_textblock]\n\n[/av_one_t
 hird][av_textblock fold_type='' fold_height='' fold_more='Weiterlesen' fol
 d_less='Read less' fold_text_style='' fold_btn_align='' textblock_styling_
 align='' textblock_styling='' textblock_styling_gap='' textblock_styling_m
 obile='' size='' av-desktop-font-size='' av-medium-font-size='' av-small-f
 ont-size='' av-mini-font-size='' font_color='' color='' fold_overlay_color
 ='' fold_text_color='' fold_btn_color='theme-color' fold_btn_bg_color='' f
 old_btn_font_color='' size-btn-text='' av-desktop-font-size-btn-text='' av
 -medium-font-size-btn-text='' av-small-font-size-btn-text='' av-mini-font-
 size-btn-text='' fold_timer='' z_index_fold='' av-desktop-hide='' av-mediu
 m-hide='' av-small-hide='' av-mini-hide='' id='' custom_class='' template_
 class='' av_uid='' sc_version='1.0'][/av_textblock]
CATEGORIES:Bezirk Oberbayern West,Bezirksveranstaltung
LOCATION:KfN - Krankenhaus für Naturheilweisen\, Seybothstr. 65\, München
 \, 81545\, Deutschland
GEO:48.084712;11.559581
X-APPLE-STRUCTURED-LOCATION;VALUE=URI;X-ADDRESS=Seybothstr. 65\, München\,
  81545\, Deutschland;X-APPLE-RADIUS=100;X-TITLE=KfN - Krankenhaus für Nat
 urheilweisen:geo:48.084712,11.559581
END:VEVENT
BEGIN:VTIMEZONE
TZID:Europe/Berlin
X-LIC-LOCATION:Europe/Berlin
BEGIN:STANDARD
DTSTART:20241027T020000
TZOFFSETFROM:+0200
TZOFFSETTO:+0100
TZNAME:CET
END:STANDARD
END:VTIMEZONE
END:VCALENDAR