BEGIN:VCALENDAR
VERSION:2.0
PRODID:-//wp-events-plugin.com//7.2.3.1//EN
TZID:Europe/Berlin
X-WR-TIMEZONE:Europe/Berlin
BEGIN:VEVENT
UID:824@heilpraktiker-akademie-bayern.de
DTSTART;TZID=Europe/Berlin:20261024T100000
DTEND;TZID=Europe/Berlin:20261024T130000
DTSTAMP:20250925T091251Z
URL:https://heilpraktiker-akademie-bayern.de/events/mit-haut-und-haaren-ei
 ne-humorale-betrachtung/
SUMMARY:Mit Haut und Haaren - eine humorale Betrachtung
DESCRIPTION:[av_two_third first min_height='' vertical_alignment='av-align-
 top' space='' row_boxshadow='' row_boxshadow_width='10' row_boxshadow_colo
 r='' custom_margin='' margin='0px' av-desktop-margin='' av-medium-margin='
 ' av-small-margin='' av-mini-margin='' mobile_breaking='' mobile_column_or
 der='' border='' border_style='solid' border_color='' radius='' min_col_he
 ight='' padding='' av-desktop-padding='' av-medium-padding='' av-small-pad
 ding='' av-mini-padding='' svg_div_top='' svg_div_top_color='#333333' svg_
 div_top_width='100' svg_div_top_height='50' svg_div_top_max_height='none' 
 svg_div_top_flip='' svg_div_top_invert='' svg_div_top_front='' svg_div_top
 _opacity='' svg_div_top_preview='' svg_div_bottom='' svg_div_bottom_color=
 '#333333' svg_div_bottom_width='100' svg_div_bottom_height='50' svg_div_bo
 ttom_max_height='none' svg_div_bottom_flip='' svg_div_bottom_invert='' svg
 _div_bottom_front='' svg_div_bottom_opacity='' svg_div_bottom_preview='' f
 old_type='' fold_height='' fold_more='Weiterlesen' fold_less='Read less' f
 old_text_style='' fold_btn_align='' column_boxshadow='' column_boxshadow_w
 idth='10' column_boxshadow_color='' background='bg_color' background_color
 ='' background_gradient_direction='vertical' background_gradient_color1='#
 000000' background_gradient_color2='#ffffff' background_gradient_color3=''
  src='' background_position='top left' background_repeat='no-repeat' highl
 ight='' highlight_size='' fold_overlay_color='' fold_text_color='' fold_bt
 n_color='theme-color' fold_btn_bg_color='' fold_btn_font_color='' size-btn
 -text='' av-desktop-font-size-btn-text='' av-medium-font-size-btn-text='' 
 av-small-font-size-btn-text='' av-mini-font-size-btn-text='' animation='' 
 animation_duration='' animation_custom_bg_color='' animation_z_index_curta
 in='100' parallax_parallax='' parallax_parallax_speed='' av-desktop-parall
 ax_parallax='' av-desktop-parallax_parallax_speed='' av-medium-parallax_pa
 rallax='' av-medium-parallax_parallax_speed='' av-small-parallax_parallax=
 '' av-small-parallax_parallax_speed='' av-mini-parallax_parallax='' av-min
 i-parallax_parallax_speed='' fold_timer='' z_index_fold='' css_position=''
  css_position_location='' css_position_z_index='' av-desktop-css_position=
 '' av-desktop-css_position_location='' av-desktop-css_position_z_index='' 
 av-medium-css_position='' av-medium-css_position_location='' av-medium-css
 _position_z_index='' av-small-css_position='' av-small-css_position_locati
 on='' av-small-css_position_z_index='' av-mini-css_position='' av-mini-css
 _position_location='' av-mini-css_position_z_index='' link='' linktarget='
 ' link_hover='' title_attr='' alt_attr='' mobile_display='' mobile_col_pos
 ='0' id='' custom_class='' template_class='' aria_label='' av_uid='av-d04v
 u8' sc_version='1.0']\n\n[av_textblock fold_type='' fold_height='' fold_mo
 re='Weiterlesen' fold_less='Read less' fold_text_style='' fold_btn_align='
 ' textblock_styling_align='' textblock_styling='' textblock_styling_gap=''
  textblock_styling_mobile='' size='' av-desktop-font-size='' av-medium-fon
 t-size='' av-small-font-size='' av-mini-font-size='' font_color='' color='
 ' background='bg_color' background_color='' background_gradient_direction=
 'vertical' background_gradient_color1='#000000' background_gradient_color2
 ='#ffffff' background_gradient_color3='' padding='' padding_sync='true' av
 -desktop-padding='' av-desktop-padding_sync='true' av-medium-padding='' av
 -medium-padding_sync='true' av-small-padding='' av-small-padding_sync='tru
 e' av-mini-padding='' av-mini-padding_sync='true' fold_overlay_color='' fo
 ld_text_color='' fold_btn_color='theme-color' fold_btn_bg_color='' fold_bt
 n_font_color='' size-btn-text='' av-desktop-font-size-btn-text='' av-mediu
 m-font-size-btn-text='' av-small-font-size-btn-text='' av-mini-font-size-b
 tn-text='' fold_timer='' z_index_fold='' id='' custom_class='' template_cl
 ass='' av_uid='av-lr61av32' sc_version='1.0' admin_preview_bg='']\n[event]
 #_EVENTNAME[/event]\nDas System der äußeren Häute (Haut\, Schleimhaut) 
 wird als das "unedelste" aller Organsysteme betrachtet. Mit dieser Zuordnu
 ng hat die alte Medizin das Haut-Schleimhaut-System nicht für wertlos erk
 lärt. Vielmehr wird es zum Diener und Erhalter aller edleren Organe. Der 
 Unterste wird der Oberste sein!\nDiese konsensuelle Vernetzung mit edleren
  Organen macht eine rein cutane Behandlung von Hauterscheinungen absurd. Z
 ugleich wird die Notwendigkeit einer Einbeziehung der Haut in einen Therap
 ieplan zur Behandlung innerer Störungen als absolut notwendig erkannt.\nE
 s wird ein Bogen geschlagen von den Wirkungen der Geschmacksrichtung im Ra
 hmen der Behandlung der äußeren Häute hin zu zugeordneten Heilpflanzen 
 und biochemischen Mitteln.\nÜber den Inhalt des Vortrags hinaus kann man 
 ein tieferes Verständnis für alte "humorale" Behandlungsansätze gewinne
 n\, welche das Haut- und Schleimhautfeld benutzen\, z.B. Baunscheidt-Thera
 pie\, Rödersche Nasenbehandlung\, Schröpfen\, Hautbürsten.\n\nDozent: H
 P Arnold Mayer\, TEM\, Bußmannshausen\n\n\n[/av_textblock]\n\n[av_textblo
 ck fold_type='' fold_height='' fold_more='Weiterlesen' fold_less='Read les
 s' fold_text_style='' fold_btn_align='' textblock_styling_align='' textblo
 ck_styling='' textblock_styling_gap='' textblock_styling_mobile='' size=''
  av-desktop-font-size='' av-medium-font-size='' av-small-font-size='' av-m
 ini-font-size='' font_color='' color='' background='bg_color' background_c
 olor='' background_gradient_direction='vertical' background_gradient_color
 1='#000000' background_gradient_color2='#ffffff' background_gradient_color
 3='' padding='' padding_sync='true' av-desktop-padding='' av-desktop-paddi
 ng_sync='true' av-medium-padding='' av-medium-padding_sync='true' av-small
 -padding='' av-small-padding_sync='true' av-mini-padding='' av-mini-paddin
 g_sync='true' fold_overlay_color='' fold_text_color='' fold_btn_color='the
 me-color' fold_btn_bg_color='' fold_btn_font_color='' size-btn-text='' av-
 desktop-font-size-btn-text='' av-medium-font-size-btn-text='' av-small-fon
 t-size-btn-text='' av-mini-font-size-btn-text='' fold_timer='' z_index_fol
 d='' id='' custom_class='' template_class='' av_uid='av-lr61cego' sc_versi
 on='1.0' admin_preview_bg='']\nVoranmeldung wird erbeten bei:\n\n[av_font_
 icon icon='ue805' font='entypo-fontello' style='' caption='' link='manuall
 y\,karin@goegelein-karin.de' linktarget='' size='20px' position='left' col
 or='' av_uid='av-bdojo0' custom_class='inline_cal' admin_preview_bg=''][/a
 v_font_icon]Frau Karin Gögelein unter karin@goegelein-karin.de (bitte mit
  Angabe der Mitgliedsnummer und Tel.-Nr.)\n[/av_textblock]\n\n[av_table pu
 rpose='tabular' pricing_table_design='avia_pricing_default' pricing_hidden
 _cells='' caption='' responsive_styling='avia_responsive_table' alb_descri
 ption='' id='' custom_class='' template_class='' av_uid='av-95d65s' sc_ver
 sion='1.0']\n[av_row row_style='' av_uid='av-4ocia6'][av_cell col_style='a
 via-highlight-col' av_uid='av-22h3by']Veranstaltungen der Bezirke sind fü
 r Mitglieder kostenfrei.\nDie Teilnahmegebühr für Nichtmitglieder (zugel
 assene Heilpraktiker mit Nachweis) beträgt € 30\,00 (bei Veranstaltunge
 n von mehr als 4 Stunden € 60\,00). Sollten Sie im Laufe des Kalenderjah
 res Mitglied im Heilpraktikerverband Bayern e.V. werden\, wird Ihnen die T
 eilnahmegebühr angerechnet.[/av_cell][/av_row]\n[/av_table]\n\n[/av_two_t
 hird][av_one_third min_height='' vertical_alignment='av-align-top' space='
 ' row_boxshadow='' row_boxshadow_width='10' row_boxshadow_color='' custom_
 margin='' margin='0px' av-desktop-margin='' av-medium-margin='' av-small-m
 argin='' av-mini-margin='' mobile_breaking='' mobile_column_order='' borde
 r='' border_style='solid' border_color='' radius='' min_col_height='' padd
 ing='' av-desktop-padding='' av-medium-padding='' av-small-padding='' av-m
 ini-padding='' svg_div_top='' svg_div_top_color='#333333' svg_div_top_widt
 h='100' svg_div_top_height='50' svg_div_top_max_height='none' svg_div_top_
 flip='' svg_div_top_invert='' svg_div_top_front='' svg_div_top_opacity='' 
 svg_div_top_preview='' svg_div_bottom='' svg_div_bottom_color='#333333' sv
 g_div_bottom_width='100' svg_div_bottom_height='50' svg_div_bottom_max_hei
 ght='none' svg_div_bottom_flip='' svg_div_bottom_invert='' svg_div_bottom_
 front='' svg_div_bottom_opacity='' svg_div_bottom_preview='' fold_type='' 
 fold_height='' fold_more='Weiterlesen' fold_less='Read less' fold_text_sty
 le='' fold_btn_align='' column_boxshadow='' column_boxshadow_width='10' co
 lumn_boxshadow_color='' background='bg_color' background_color='' backgrou
 nd_gradient_direction='vertical' background_gradient_color1='#000000' back
 ground_gradient_color2='#ffffff' background_gradient_color3='' src='' back
 ground_position='top left' background_repeat='no-repeat' highlight='' high
 light_size='' fold_overlay_color='' fold_text_color='' fold_btn_color='the
 me-color' fold_btn_bg_color='' fold_btn_font_color='' size-btn-text='' av-
 desktop-font-size-btn-text='' av-medium-font-size-btn-text='' av-small-fon
 t-size-btn-text='' av-mini-font-size-btn-text='' animation='' animation_du
 ration='' animation_custom_bg_color='' animation_z_index_curtain='100' par
 allax_parallax='' parallax_parallax_speed='' av-desktop-parallax_parallax=
 '' av-desktop-parallax_parallax_speed='' av-medium-parallax_parallax='' av
 -medium-parallax_parallax_speed='' av-small-parallax_parallax='' av-small-
 parallax_parallax_speed='' av-mini-parallax_parallax='' av-mini-parallax_p
 arallax_speed='' fold_timer='' z_index_fold='' css_position='' css_positio
 n_location='' css_position_z_index='' av-desktop-css_position='' av-deskto
 p-css_position_location='' av-desktop-css_position_z_index='' av-medium-cs
 s_position='' av-medium-css_position_location='' av-medium-css_position_z_
 index='' av-small-css_position='' av-small-css_position_location='' av-sma
 ll-css_position_z_index='' av-mini-css_position='' av-mini-css_position_lo
 cation='' av-mini-css_position_z_index='' link='' linktarget='' link_hover
 ='' title_attr='' alt_attr='' mobile_display='' mobile_col_pos='0' id='' c
 ustom_class='' template_class='' aria_label='' av_uid='av-3zl2k0' sc_versi
 on='1.0']\n\n[av_textblock fold_type='' fold_height='' fold_more='Weiterle
 sen' fold_less='Read less' fold_text_style='' fold_btn_align='' textblock_
 styling_align='' textblock_styling='' textblock_styling_gap='' textblock_s
 tyling_mobile='' size='' av-desktop-font-size='' av-medium-font-size='' av
 -small-font-size='' av-mini-font-size='' font_color='' color='' background
 ='bg_color' background_color='' background_gradient_direction='vertical' b
 ackground_gradient_color1='#000000' background_gradient_color2='#ffffff' b
 ackground_gradient_color3='' padding='' padding_sync='true' av-desktop-pad
 ding='' av-desktop-padding_sync='true' av-medium-padding='' av-medium-padd
 ing_sync='true' av-small-padding='' av-small-padding_sync='true' av-mini-p
 adding='' av-mini-padding_sync='true' fold_overlay_color='' fold_text_colo
 r='' fold_btn_color='theme-color' fold_btn_bg_color='' fold_btn_font_color
 ='' size-btn-text='' av-desktop-font-size-btn-text='' av-medium-font-size-
 btn-text='' av-small-font-size-btn-text='' av-mini-font-size-btn-text='' f
 old_timer='' z_index_fold='' id='' custom_class='' template_class='' av_ui
 d='av-23ikyo' sc_version='1.0' admin_preview_bg='']\n[event]Wann\n#_EVENTD
 ATES\n#_EVENTTIMES\n\nUnterrichtsumfang: 4 US*\n\n#_EVENTADDTOCALENDAR\n\n
 \n\n[/event]\n[/av_textblock]\n\n[/av_one_third][av_textblock fold_type=''
  fold_height='' fold_more='Weiterlesen' fold_less='Read less' fold_text_st
 yle='' fold_btn_align='' textblock_styling_align='' textblock_styling='' t
 extblock_styling_gap='' textblock_styling_mobile='' size='' av-desktop-fon
 t-size='' av-medium-font-size='' av-small-font-size='' av-mini-font-size='
 ' font_color='' color='' fold_overlay_color='' fold_text_color='' fold_btn
 _color='theme-color' fold_btn_bg_color='' fold_btn_font_color='' size-btn-
 text='' av-desktop-font-size-btn-text='' av-medium-font-size-btn-text='' a
 v-small-font-size-btn-text='' av-mini-font-size-btn-text='' fold_timer='' 
 z_index_fold='' av-desktop-hide='' av-medium-hide='' av-small-hide='' av-m
 ini-hide='' id='' custom_class='' template_class='' av_uid='av-4cxu5s' sc_
 version='1.0'][/av_textblock]\n\n
CATEGORIES:Bezirk Unterfranken,Bezirksveranstaltung
LOCATION:Hotel Amberger\, Ludwigstr. 17\, Würzburg\, 97070\, Deutschland
GEO:49.796511;9.938457
X-APPLE-STRUCTURED-LOCATION;VALUE=URI;X-ADDRESS=Ludwigstr. 17\, Würzburg\,
  97070\, Deutschland;X-APPLE-RADIUS=100;X-TITLE=Hotel Amberger:geo:49.7965
 11,9.938457
END:VEVENT
BEGIN:VTIMEZONE
TZID:Europe/Berlin
X-LIC-LOCATION:Europe/Berlin
BEGIN:DAYLIGHT
DTSTART:20260329T030000
TZOFFSETFROM:+0100
TZOFFSETTO:+0200
TZNAME:CEST
END:DAYLIGHT
END:VTIMEZONE
END:VCALENDAR