BEGIN:VCALENDAR
VERSION:2.0
PRODID:-//wp-events-plugin.com//7.2.3.1//EN
TZID:Europe/Berlin
X-WR-TIMEZONE:Europe/Berlin
BEGIN:VEVENT
UID:754@heilpraktiker-akademie-bayern.de
DTSTART;TZID=Europe/Berlin:20250322T090000
DTEND;TZID=Europe/Berlin:20250322T123000
DTSTAMP:20241123T205946Z
URL:https://heilpraktiker-akademie-bayern.de/events/maennertraumen/
SUMMARY:Männertraumen – Vom Waschlappen zum ganzen Kerl
DESCRIPTION:[av_two_third first min_height='' vertical_alignment='av-align-
 top' space='' row_boxshadow='' row_boxshadow_width='10' row_boxshadow_colo
 r='' custom_margin='' margin='0px' av-desktop-margin='' av-medium-margin='
 ' av-small-margin='' av-mini-margin='' mobile_breaking='' mobile_column_or
 der='' border='' border_style='solid' border_color='' radius='' min_col_he
 ight='' padding='' av-desktop-padding='' av-medium-padding='' av-small-pad
 ding='' av-mini-padding='' svg_div_top='' svg_div_top_color='#333333' svg_
 div_top_width='100' svg_div_top_height='50' svg_div_top_max_height='none' 
 svg_div_top_flip='' svg_div_top_invert='' svg_div_top_front='' svg_div_top
 _opacity='' svg_div_top_preview='' svg_div_bottom='' svg_div_bottom_color=
 '#333333' svg_div_bottom_width='100' svg_div_bottom_height='50' svg_div_bo
 ttom_max_height='none' svg_div_bottom_flip='' svg_div_bottom_invert='' svg
 _div_bottom_front='' svg_div_bottom_opacity='' svg_div_bottom_preview='' f
 old_type='' fold_height='' fold_more='Weiterlesen' fold_less='Read less' f
 old_text_style='' fold_btn_align='' column_boxshadow='' column_boxshadow_w
 idth='10' column_boxshadow_color='' background='bg_color' background_color
 ='' background_gradient_direction='vertical' background_gradient_color1='#
 000000' background_gradient_color2='#ffffff' background_gradient_color3=''
  src='' background_position='top left' background_repeat='no-repeat' highl
 ight='' highlight_size='' fold_overlay_color='' fold_text_color='' fold_bt
 n_color='theme-color' fold_btn_bg_color='' fold_btn_font_color='' size-btn
 -text='' av-desktop-font-size-btn-text='' av-medium-font-size-btn-text='' 
 av-small-font-size-btn-text='' av-mini-font-size-btn-text='' animation='' 
 animation_duration='' animation_custom_bg_color='' animation_z_index_curta
 in='100' parallax_parallax='' parallax_parallax_speed='' av-desktop-parall
 ax_parallax='' av-desktop-parallax_parallax_speed='' av-medium-parallax_pa
 rallax='' av-medium-parallax_parallax_speed='' av-small-parallax_parallax=
 '' av-small-parallax_parallax_speed='' av-mini-parallax_parallax='' av-min
 i-parallax_parallax_speed='' fold_timer='' z_index_fold='' css_position=''
  css_position_location='' css_position_z_index='' av-desktop-css_position=
 '' av-desktop-css_position_location='' av-desktop-css_position_z_index='' 
 av-medium-css_position='' av-medium-css_position_location='' av-medium-css
 _position_z_index='' av-small-css_position='' av-small-css_position_locati
 on='' av-small-css_position_z_index='' av-mini-css_position='' av-mini-css
 _position_location='' av-mini-css_position_z_index='' link='' linktarget='
 ' link_hover='' title_attr='' alt_attr='' mobile_display='' mobile_col_pos
 ='0' id='' custom_class='' template_class='' aria_label='' av_uid='av-d04v
 u8' sc_version='1.0']\n\n[av_textblock fold_type='' fold_height='' fold_mo
 re='Weiterlesen' fold_less='Read less' fold_text_style='' fold_btn_align='
 ' textblock_styling_align='' textblock_styling='' textblock_styling_gap=''
  textblock_styling_mobile='' size='' av-desktop-font-size='' av-medium-fon
 t-size='' av-small-font-size='' av-mini-font-size='' font_color='' color='
 ' fold_overlay_color='' fold_text_color='' fold_btn_color='theme-color' fo
 ld_btn_bg_color='' fold_btn_font_color='' size-btn-text='' av-desktop-font
 -size-btn-text='' av-medium-font-size-btn-text='' av-small-font-size-btn-t
 ext='' av-mini-font-size-btn-text='' fold_timer='' z_index_fold='' id='' c
 ustom_class='' template_class='' av_uid='av-lr61av32' sc_version='1.0' adm
 in_preview_bg='']\n[event]#_EVENTNAME[/event]\nDie ängstliche Kontrolle v
 on Abläufen und die Macht über Menschen kennzeichnet den verunsicherten 
 Mann. Tiefe Risse in seiner Männlichkeit kennen wir von Lycopodium ebenso
  wie von Lac caninum. Dennoch sind beide Arzneimittel grundverschieden in 
 ihrer Genese\, erst recht im Heben des Schatzes sowie in der Verwirklichun
 g des innewohnenden Potentials.\n\nMannomann – der Weg lohnt sich (auch 
 für Frauen)!!!\n\nDozent: HP Alfons Pollak\, München\n\n\n\n[/av_textblo
 ck]\n\n[av_textblock fold_type='' fold_height='' fold_more='Weiterlesen' f
 old_less='Read less' fold_text_style='' fold_btn_align='' textblock_stylin
 g_align='' textblock_styling='' textblock_styling_gap='' textblock_styling
 _mobile='' size='' av-desktop-font-size='' av-medium-font-size='' av-small
 -font-size='' av-mini-font-size='' font_color='' color='' fold_overlay_col
 or='' fold_text_color='' fold_btn_color='theme-color' fold_btn_bg_color=''
  fold_btn_font_color='' size-btn-text='' av-desktop-font-size-btn-text='' 
 av-medium-font-size-btn-text='' av-small-font-size-btn-text='' av-mini-fon
 t-size-btn-text='' fold_timer='' z_index_fold='' id='' custom_class='' tem
 plate_class='' av_uid='av-lr61cego' sc_version='1.0' admin_preview_bg='']\
 nVoranmeldung erforderlich unter:\n\n[av_font_icon icon='ue805' font='enty
 po-fontello' style='' caption='' link='manually\,info@naturheilpraxis-bach
 huber.de' linktarget='' size='20px' position='left' color='' av_uid='av-bd
 ojo0' custom_class='inline_cal' admin_preview_bg=''][/av_font_icon]info@na
 turheilpraxis-bachhuber.de - nur wenn nicht per E-Mail möglich: Tel. 089 
 55062936\n[/av_textblock]\n\n[av_table purpose='tabular' pricing_table_des
 ign='avia_pricing_default' pricing_hidden_cells='' caption='' responsive_s
 tyling='avia_responsive_table' av_uid='av-95d65s' custom_class='']\n[av_ro
 w row_style='' av_uid='av-73v7j4'][av_cell col_style='avia-highlight-col' 
 av_uid='av-6845u8']Veranstaltungen der Bezirke sind für Mitglieder kosten
 frei.\nDie Teilnahmegebühr für Nichtmitglieder (zugelassene Heilpraktike
 r mit Nachweis) beträgt € 25\,00 (bei Veranstaltungen von mehr als 4 St
 unden € 50\,00). Sollten Sie im Laufe des Kalenderjahres Mitglied im Hei
 lpraktikerverband Bayern e.V. werden\, wird Ihnen die Teilnahmegebühr ang
 erechnet.[/av_cell][/av_row]\n[/av_table]\n\n[/av_two_third][av_one_third 
 min_height='' vertical_alignment='av-align-top' space='' row_boxshadow='' 
 row_boxshadow_width='10' row_boxshadow_color='' custom_margin='' margin='0
 px' av-desktop-margin='' av-medium-margin='' av-small-margin='' av-mini-ma
 rgin='' mobile_breaking='' mobile_column_order='' border='' border_style='
 solid' border_color='' radius='' min_col_height='' padding='' av-desktop-p
 adding='' av-medium-padding='' av-small-padding='' av-mini-padding='' svg_
 div_top='' svg_div_top_color='#333333' svg_div_top_width='100' svg_div_top
 _height='50' svg_div_top_max_height='none' svg_div_top_flip='' svg_div_top
 _invert='' svg_div_top_front='' svg_div_top_opacity='' svg_div_top_preview
 ='' svg_div_bottom='' svg_div_bottom_color='#333333' svg_div_bottom_width=
 '100' svg_div_bottom_height='50' svg_div_bottom_max_height='none' svg_div_
 bottom_flip='' svg_div_bottom_invert='' svg_div_bottom_front='' svg_div_bo
 ttom_opacity='' svg_div_bottom_preview='' fold_type='' fold_height='' fold
 _more='Weiterlesen' fold_less='Read less' fold_text_style='' fold_btn_alig
 n='' column_boxshadow='' column_boxshadow_width='10' column_boxshadow_colo
 r='' background='bg_color' background_color='' background_gradient_directi
 on='vertical' background_gradient_color1='#000000' background_gradient_col
 or2='#ffffff' background_gradient_color3='' src='' background_position='to
 p left' background_repeat='no-repeat' highlight='' highlight_size='' fold_
 overlay_color='' fold_text_color='' fold_btn_color='theme-color' fold_btn_
 bg_color='' fold_btn_font_color='' size-btn-text='' av-desktop-font-size-b
 tn-text='' av-medium-font-size-btn-text='' av-small-font-size-btn-text='' 
 av-mini-font-size-btn-text='' animation='' animation_duration='' animation
 _custom_bg_color='' animation_z_index_curtain='100' parallax_parallax='' p
 arallax_parallax_speed='' av-desktop-parallax_parallax='' av-desktop-paral
 lax_parallax_speed='' av-medium-parallax_parallax='' av-medium-parallax_pa
 rallax_speed='' av-small-parallax_parallax='' av-small-parallax_parallax_s
 peed='' av-mini-parallax_parallax='' av-mini-parallax_parallax_speed='' fo
 ld_timer='' z_index_fold='' css_position='' css_position_location='' css_p
 osition_z_index='' av-desktop-css_position='' av-desktop-css_position_loca
 tion='' av-desktop-css_position_z_index='' av-medium-css_position='' av-me
 dium-css_position_location='' av-medium-css_position_z_index='' av-small-c
 ss_position='' av-small-css_position_location='' av-small-css_position_z_i
 ndex='' av-mini-css_position='' av-mini-css_position_location='' av-mini-c
 ss_position_z_index='' link='' linktarget='' link_hover='' title_attr='' a
 lt_attr='' mobile_display='' mobile_col_pos='0' id='' custom_class='' temp
 late_class='' aria_label='' av_uid='av-3zl2k0' sc_version='1.0']\n\n[av_te
 xtblock fold_type='' fold_height='' fold_more='Weiterlesen' fold_less='Rea
 d less' fold_text_style='' fold_btn_align='' textblock_styling_align='' te
 xtblock_styling='' textblock_styling_gap='' textblock_styling_mobile='' si
 ze='' av-desktop-font-size='' av-medium-font-size='' av-small-font-size=''
  av-mini-font-size='' font_color='' color='' fold_overlay_color='' fold_te
 xt_color='' fold_btn_color='theme-color' fold_btn_bg_color='' fold_btn_fon
 t_color='' size-btn-text='' av-desktop-font-size-btn-text='' av-medium-fon
 t-size-btn-text='' av-small-font-size-btn-text='' av-mini-font-size-btn-te
 xt='' fold_timer='' z_index_fold='' id='' custom_class='' template_class='
 ' av_uid='av-23ikyo' sc_version='1.0' admin_preview_bg='']\n[event]Wann\n#
 _EVENTDATES\n#_EVENTTIMES\n\nUnterrichtsumfang: 4\,5 US*\n\n#_EVENTADDTOCA
 LENDAR\n\n\n\n[/event]\n[/av_textblock]\n\n[/av_one_third][av_textblock fo
 ld_type='' fold_height='' fold_more='Weiterlesen' fold_less='Read less' fo
 ld_text_style='' fold_btn_align='' textblock_styling_align='' textblock_st
 yling='' textblock_styling_gap='' textblock_styling_mobile='' size='' av-d
 esktop-font-size='' av-medium-font-size='' av-small-font-size='' av-mini-f
 ont-size='' font_color='' color='' fold_overlay_color='' fold_text_color='
 ' fold_btn_color='theme-color' fold_btn_bg_color='' fold_btn_font_color=''
  size-btn-text='' av-desktop-font-size-btn-text='' av-medium-font-size-btn
 -text='' av-small-font-size-btn-text='' av-mini-font-size-btn-text='' fold
 _timer='' z_index_fold='' av-desktop-hide='' av-medium-hide='' av-small-hi
 de='' av-mini-hide='' id='' custom_class='' template_class='' av_uid='' sc
 _version='1.0'][/av_textblock]
CATEGORIES:Bezirk Oberbayern West,Bezirksveranstaltung
LOCATION:Heilpraktiker Schule »Josef Angerer«\, Berufsfachschule für Nat
 urheilweisen\, Baumkirchner Straße 20/Rgb\, München\, 81673 \, Deutschla
 nd
GEO:48.128721;11.631176200000027
X-APPLE-STRUCTURED-LOCATION;VALUE=URI;X-ADDRESS=Baumkirchner Straße 20/Rgb
 \, München\, 81673 \, Deutschland;X-APPLE-RADIUS=100;X-TITLE=Heilpraktike
 r Schule »Josef Angerer«\, Berufsfachschule für Naturheilweisen:geo:48.
 128721,11.631176200000027
END:VEVENT
BEGIN:VTIMEZONE
TZID:Europe/Berlin
X-LIC-LOCATION:Europe/Berlin
BEGIN:STANDARD
DTSTART:20241027T020000
TZOFFSETFROM:+0200
TZOFFSETTO:+0100
TZNAME:CET
END:STANDARD
END:VTIMEZONE
END:VCALENDAR