BEGIN:VCALENDAR
VERSION:2.0
PRODID:-//wp-events-plugin.com//7.2.3.1//EN
TZID:Europe/Berlin
X-WR-TIMEZONE:Europe/Berlin
BEGIN:VEVENT
UID:763@heilpraktiker-akademie-bayern.de
DTSTART;TZID=Europe/Berlin:20250517T090000
DTEND;TZID=Europe/Berlin:20250517T120000
DTSTAMP:20241124T171536Z
URL:https://heilpraktiker-akademie-bayern.de/events/kraeuterwanderung-in-s
 traubing/
SUMMARY:Kräuterwanderung in Straubing
DESCRIPTION:[av_two_third first min_height='' vertical_alignment='av-align-
 top' space='' row_boxshadow='' row_boxshadow_width='10' row_boxshadow_colo
 r='' custom_margin='' margin='0px' av-desktop-margin='' av-medium-margin='
 ' av-small-margin='' av-mini-margin='' mobile_breaking='' mobile_column_or
 der='' border='' border_style='solid' border_color='' radius='' min_col_he
 ight='' padding='' av-desktop-padding='' av-medium-padding='' av-small-pad
 ding='' av-mini-padding='' svg_div_top='' svg_div_top_color='#333333' svg_
 div_top_width='100' svg_div_top_height='50' svg_div_top_max_height='none' 
 svg_div_top_flip='' svg_div_top_invert='' svg_div_top_front='' svg_div_top
 _opacity='' svg_div_top_preview='' svg_div_bottom='' svg_div_bottom_color=
 '#333333' svg_div_bottom_width='100' svg_div_bottom_height='50' svg_div_bo
 ttom_max_height='none' svg_div_bottom_flip='' svg_div_bottom_invert='' svg
 _div_bottom_front='' svg_div_bottom_opacity='' svg_div_bottom_preview='' f
 old_type='' fold_height='' fold_more='Weiterlesen' fold_less='Read less' f
 old_text_style='' fold_btn_align='' column_boxshadow='' column_boxshadow_w
 idth='10' column_boxshadow_color='' background='bg_color' background_color
 ='' background_gradient_direction='vertical' background_gradient_color1='#
 000000' background_gradient_color2='#ffffff' background_gradient_color3=''
  src='' background_position='top left' background_repeat='no-repeat' highl
 ight='' highlight_size='' fold_overlay_color='' fold_text_color='' fold_bt
 n_color='theme-color' fold_btn_bg_color='' fold_btn_font_color='' size-btn
 -text='' av-desktop-font-size-btn-text='' av-medium-font-size-btn-text='' 
 av-small-font-size-btn-text='' av-mini-font-size-btn-text='' animation='' 
 animation_duration='' animation_custom_bg_color='' animation_z_index_curta
 in='100' parallax_parallax='' parallax_parallax_speed='' av-desktop-parall
 ax_parallax='' av-desktop-parallax_parallax_speed='' av-medium-parallax_pa
 rallax='' av-medium-parallax_parallax_speed='' av-small-parallax_parallax=
 '' av-small-parallax_parallax_speed='' av-mini-parallax_parallax='' av-min
 i-parallax_parallax_speed='' fold_timer='' z_index_fold='' css_position=''
  css_position_location='' css_position_z_index='' av-desktop-css_position=
 '' av-desktop-css_position_location='' av-desktop-css_position_z_index='' 
 av-medium-css_position='' av-medium-css_position_location='' av-medium-css
 _position_z_index='' av-small-css_position='' av-small-css_position_locati
 on='' av-small-css_position_z_index='' av-mini-css_position='' av-mini-css
 _position_location='' av-mini-css_position_z_index='' link='' linktarget='
 ' link_hover='' title_attr='' alt_attr='' mobile_display='' mobile_col_pos
 ='0' id='' custom_class='' template_class='' aria_label='' av_uid='av-d04v
 u8' sc_version='1.0']\n\n[av_textblock fold_type='' fold_height='' fold_mo
 re='Weiterlesen' fold_less='Read less' fold_text_style='' fold_btn_align='
 ' textblock_styling_align='' textblock_styling='' textblock_styling_gap=''
  textblock_styling_mobile='' size='' av-desktop-font-size='' av-medium-fon
 t-size='' av-small-font-size='' av-mini-font-size='' font_color='' color='
 ' fold_overlay_color='' fold_text_color='' fold_btn_color='theme-color' fo
 ld_btn_bg_color='' fold_btn_font_color='' size-btn-text='' av-desktop-font
 -size-btn-text='' av-medium-font-size-btn-text='' av-small-font-size-btn-t
 ext='' av-mini-font-size-btn-text='' fold_timer='' z_index_fold='' id='' c
 ustom_class='' template_class='' av_uid='av-lr61av32' sc_version='1.0' adm
 in_preview_bg='']\n[event]#_EVENTNAME[/event]\nWir gehen von Pfatter aus z
 ur Donau durch eine schöne Auenlandschaft. Entlang von Feuchtwiesen zum D
 onaudamm\, wo wir Pflanzen des Magerrasens finden können. Wir freuen uns 
 auf eine interessante und kurzweilige Wanderung mit einem versierten Phyto
 therapeuten\, der es immer wieder schafft\, Pflanzen mit ihren Wirkstoffen
  verständlich und umfassend nahe zu bringen.\n\nEs bietet sich zum Abschl
 uss der Veranstaltung die Möglichkeit der geselligen Einkehr.\n\nTreffpun
 kt: Wertstoffhof Pfatter\, Zehentstraße 3\, 93102 Pfatter\n\nDozent: HP B
 ernd Hertling\, Grafing\n\n\n\n[/av_textblock]\n\n[av_textblock fold_type=
 '' fold_height='' fold_more='Weiterlesen' fold_less='Read less' fold_text_
 style='' fold_btn_align='' textblock_styling_align='' textblock_styling=''
  textblock_styling_gap='' textblock_styling_mobile='' size='' av-desktop-f
 ont-size='' av-medium-font-size='' av-small-font-size='' av-mini-font-size
 ='' font_color='' color='' fold_overlay_color='' fold_text_color='' fold_b
 tn_color='theme-color' fold_btn_bg_color='' fold_btn_font_color='' size-bt
 n-text='' av-desktop-font-size-btn-text='' av-medium-font-size-btn-text=''
  av-small-font-size-btn-text='' av-mini-font-size-btn-text='' fold_timer='
 ' z_index_fold='' id='' custom_class='' template_class='' av_uid='av-lr61c
 ego' sc_version='1.0' admin_preview_bg='']\nVoranmeldung erbeten bei:\n\n\
 n[av_font_icon icon='ue805' font='entypo-fontello' style='' caption='' lin
 k='manually\,jutta.leitner@email.de' linktarget='' size='20px' position='l
 eft' color='' av_uid='av-bdojo0' custom_class='inline_cal' admin_preview_b
 g=''][/av_font_icon]Frau Jutta Leitner per E-Mail: jutta.leitner@email.de 
 oder Tel. 09404 6330\n[/av_textblock]\n\n[av_table purpose='tabular' prici
 ng_table_design='avia_pricing_default' pricing_hidden_cells='' caption='' 
 responsive_styling='avia_responsive_table' av_uid='av-95d65s' custom_class
 ='']\n[av_row row_style='' av_uid='av-73v7j4'][av_cell col_style='avia-hig
 hlight-col' av_uid='av-6845u8']Veranstaltungen der Bezirke sind für Mitgl
 ieder kostenfrei.\nDie Teilnahmegebühr für Nichtmitglieder (zugelassene 
 Heilpraktiker mit Nachweis) beträgt € 25\,00 (bei Veranstaltungen von m
 ehr als 4 Stunden € 50\,00). Sollten Sie im Laufe des Kalenderjahres Mit
 glied im Heilpraktikerverband Bayern e.V. werden\, wird Ihnen die Teilnahm
 egebühr angerechnet.[/av_cell][/av_row]\n[/av_table]\n\n[/av_two_third][a
 v_one_third min_height='' vertical_alignment='av-align-top' space='' row_b
 oxshadow='' row_boxshadow_width='10' row_boxshadow_color='' custom_margin=
 '' margin='0px' av-desktop-margin='' av-medium-margin='' av-small-margin='
 ' av-mini-margin='' mobile_breaking='' mobile_column_order='' border='' bo
 rder_style='solid' border_color='' radius='' min_col_height='' padding='' 
 av-desktop-padding='' av-medium-padding='' av-small-padding='' av-mini-pad
 ding='' svg_div_top='' svg_div_top_color='#333333' svg_div_top_width='100'
  svg_div_top_height='50' svg_div_top_max_height='none' svg_div_top_flip=''
  svg_div_top_invert='' svg_div_top_front='' svg_div_top_opacity='' svg_div
 _top_preview='' svg_div_bottom='' svg_div_bottom_color='#333333' svg_div_b
 ottom_width='100' svg_div_bottom_height='50' svg_div_bottom_max_height='no
 ne' svg_div_bottom_flip='' svg_div_bottom_invert='' svg_div_bottom_front='
 ' svg_div_bottom_opacity='' svg_div_bottom_preview='' fold_type='' fold_he
 ight='' fold_more='Weiterlesen' fold_less='Read less' fold_text_style='' f
 old_btn_align='' column_boxshadow='' column_boxshadow_width='10' column_bo
 xshadow_color='' background='bg_color' background_color='' background_grad
 ient_direction='vertical' background_gradient_color1='#000000' background_
 gradient_color2='#ffffff' background_gradient_color3='' src='' background_
 position='top left' background_repeat='no-repeat' highlight='' highlight_s
 ize='' fold_overlay_color='' fold_text_color='' fold_btn_color='theme-colo
 r' fold_btn_bg_color='' fold_btn_font_color='' size-btn-text='' av-desktop
 -font-size-btn-text='' av-medium-font-size-btn-text='' av-small-font-size-
 btn-text='' av-mini-font-size-btn-text='' animation='' animation_duration=
 '' animation_custom_bg_color='' animation_z_index_curtain='100' parallax_p
 arallax='' parallax_parallax_speed='' av-desktop-parallax_parallax='' av-d
 esktop-parallax_parallax_speed='' av-medium-parallax_parallax='' av-medium
 -parallax_parallax_speed='' av-small-parallax_parallax='' av-small-paralla
 x_parallax_speed='' av-mini-parallax_parallax='' av-mini-parallax_parallax
 _speed='' fold_timer='' z_index_fold='' css_position='' css_position_locat
 ion='' css_position_z_index='' av-desktop-css_position='' av-desktop-css_p
 osition_location='' av-desktop-css_position_z_index='' av-medium-css_posit
 ion='' av-medium-css_position_location='' av-medium-css_position_z_index='
 ' av-small-css_position='' av-small-css_position_location='' av-small-css_
 position_z_index='' av-mini-css_position='' av-mini-css_position_location=
 '' av-mini-css_position_z_index='' link='' linktarget='' link_hover='' tit
 le_attr='' alt_attr='' mobile_display='' mobile_col_pos='0' id='' custom_c
 lass='' template_class='' aria_label='' av_uid='av-3zl2k0' sc_version='1.0
 ']\n[av_textblock fold_type='' fold_height='' fold_more='Weiterlesen' fold
 _less='Read less' fold_text_style='' fold_btn_align='' textblock_styling_a
 lign='' textblock_styling='' textblock_styling_gap='' textblock_styling_mo
 bile='' size='' av-desktop-font-size='' av-medium-font-size='' av-small-fo
 nt-size='' av-mini-font-size='' font_color='' color='' fold_overlay_color=
 '' fold_text_color='' fold_btn_color='theme-color' fold_btn_bg_color='' fo
 ld_btn_font_color='' size-btn-text='' av-desktop-font-size-btn-text='' av-
 medium-font-size-btn-text='' av-small-font-size-btn-text='' av-mini-font-s
 ize-btn-text='' fold_timer='' z_index_fold='' id='' custom_class='' templa
 te_class='' av_uid='av-23ikyo' sc_version='1.0' admin_preview_bg='']\n[eve
 nt]Wann\n#_EVENTDATES\n#_EVENTTIMES\n\nUnterrichtsumfang: 4 US*\n\n#_EVENT
 ADDTOCALENDAR\n\n\n\n[/event]\n[/av_textblock]\n[/av_one_third]\n\n[av_tex
 tblock fold_type='' fold_height='' fold_more='Weiterlesen' fold_less='Read
  less' fold_text_style='' fold_btn_align='' textblock_styling_align='' tex
 tblock_styling='' textblock_styling_gap='' textblock_styling_mobile='' siz
 e='' av-desktop-font-size='' av-medium-font-size='' av-small-font-size='' 
 av-mini-font-size='' font_color='' color='' fold_overlay_color='' fold_tex
 t_color='' fold_btn_color='theme-color' fold_btn_bg_color='' fold_btn_font
 _color='' size-btn-text='' av-desktop-font-size-btn-text='' av-medium-font
 -size-btn-text='' av-small-font-size-btn-text='' av-mini-font-size-btn-tex
 t='' fold_timer='' z_index_fold='' av-desktop-hide='' av-medium-hide='' av
 -small-hide='' av-mini-hide='' id='' custom_class='' template_class='' av_
 uid='' sc_version='1.0'][/av_textblock]
CATEGORIES:Bezirk Ostbayern,Bezirksveranstaltung
LOCATION:Wertstoffhof Pfatter\, Zehentstraße 3\, Pfatter\, 93102\, Deutsch
 land
GEO:48.967128;12.387779
X-APPLE-STRUCTURED-LOCATION;VALUE=URI;X-ADDRESS=Zehentstraße 3\, Pfatter\,
  93102\, Deutschland;X-APPLE-RADIUS=100;X-TITLE=Wertstoffhof Pfatter:geo:4
 8.967128,12.387779
END:VEVENT
BEGIN:VTIMEZONE
TZID:Europe/Berlin
X-LIC-LOCATION:Europe/Berlin
BEGIN:DAYLIGHT
DTSTART:20250330T030000
TZOFFSETFROM:+0100
TZOFFSETTO:+0200
TZNAME:CEST
END:DAYLIGHT
END:VTIMEZONE
END:VCALENDAR