BEGIN:VCALENDAR
VERSION:2.0
PRODID:-//wp-events-plugin.com//7.2.3.1//EN
TZID:Europe/Berlin
X-WR-TIMEZONE:Europe/Berlin
BEGIN:VEVENT
UID:765@heilpraktiker-akademie-bayern.de
DTSTART;TZID=Europe/Berlin:20250112T090000
DTEND;TZID=Europe/Berlin:20250112T123000
DTSTAMP:20241124T180838Z
URL:https://heilpraktiker-akademie-bayern.de/events/interaktive-manualmedi
 zin-fuer-hws-und-ctue/
SUMMARY:Interaktive Manualmedizin für HWS und CTÜ
DESCRIPTION:[av_two_third first min_height='' vertical_alignment='av-align-
 top' space='' row_boxshadow='' row_boxshadow_width='10' row_boxshadow_colo
 r='' custom_margin='' margin='0px' av-desktop-margin='' av-medium-margin='
 ' av-small-margin='' av-mini-margin='' mobile_breaking='' mobile_column_or
 der='' border='' border_style='solid' border_color='' radius='' min_col_he
 ight='' padding='' av-desktop-padding='' av-medium-padding='' av-small-pad
 ding='' av-mini-padding='' svg_div_top='' svg_div_top_color='#333333' svg_
 div_top_width='100' svg_div_top_height='50' svg_div_top_max_height='none' 
 svg_div_top_flip='' svg_div_top_invert='' svg_div_top_front='' svg_div_top
 _opacity='' svg_div_top_preview='' svg_div_bottom='' svg_div_bottom_color=
 '#333333' svg_div_bottom_width='100' svg_div_bottom_height='50' svg_div_bo
 ttom_max_height='none' svg_div_bottom_flip='' svg_div_bottom_invert='' svg
 _div_bottom_front='' svg_div_bottom_opacity='' svg_div_bottom_preview='' f
 old_type='' fold_height='' fold_more='Weiterlesen' fold_less='Read less' f
 old_text_style='' fold_btn_align='' column_boxshadow='' column_boxshadow_w
 idth='10' column_boxshadow_color='' background='bg_color' background_color
 ='' background_gradient_direction='vertical' background_gradient_color1='#
 000000' background_gradient_color2='#ffffff' background_gradient_color3=''
  src='' background_position='top left' background_repeat='no-repeat' highl
 ight='' highlight_size='' fold_overlay_color='' fold_text_color='' fold_bt
 n_color='theme-color' fold_btn_bg_color='' fold_btn_font_color='' size-btn
 -text='' av-desktop-font-size-btn-text='' av-medium-font-size-btn-text='' 
 av-small-font-size-btn-text='' av-mini-font-size-btn-text='' animation='' 
 animation_duration='' animation_custom_bg_color='' animation_z_index_curta
 in='100' parallax_parallax='' parallax_parallax_speed='' av-desktop-parall
 ax_parallax='' av-desktop-parallax_parallax_speed='' av-medium-parallax_pa
 rallax='' av-medium-parallax_parallax_speed='' av-small-parallax_parallax=
 '' av-small-parallax_parallax_speed='' av-mini-parallax_parallax='' av-min
 i-parallax_parallax_speed='' fold_timer='' z_index_fold='' css_position=''
  css_position_location='' css_position_z_index='' av-desktop-css_position=
 '' av-desktop-css_position_location='' av-desktop-css_position_z_index='' 
 av-medium-css_position='' av-medium-css_position_location='' av-medium-css
 _position_z_index='' av-small-css_position='' av-small-css_position_locati
 on='' av-small-css_position_z_index='' av-mini-css_position='' av-mini-css
 _position_location='' av-mini-css_position_z_index='' link='' linktarget='
 ' link_hover='' title_attr='' alt_attr='' mobile_display='' mobile_col_pos
 ='0' id='' custom_class='' template_class='' aria_label='' av_uid='av-d04v
 u8' sc_version='1.0']\n\n[av_textblock fold_type='' fold_height='' fold_mo
 re='Weiterlesen' fold_less='Read less' fold_text_style='' fold_btn_align='
 ' textblock_styling_align='' textblock_styling='' textblock_styling_gap=''
  textblock_styling_mobile='' size='' av-desktop-font-size='' av-medium-fon
 t-size='' av-small-font-size='' av-mini-font-size='' font_color='' color='
 ' fold_overlay_color='' fold_text_color='' fold_btn_color='theme-color' fo
 ld_btn_bg_color='' fold_btn_font_color='' size-btn-text='' av-desktop-font
 -size-btn-text='' av-medium-font-size-btn-text='' av-small-font-size-btn-t
 ext='' av-mini-font-size-btn-text='' fold_timer='' z_index_fold='' id='' c
 ustom_class='' template_class='' av_uid='av-lr61av32' sc_version='1.0' adm
 in_preview_bg='']\n[event]#_EVENTNAME[/event]\nUnter dem Motto „Bremsen 
 lösen sowohl muskulär\, faszial\, als auch ossär“ wollen wir an diese
 m Tag bewährte Methoden wählen\, wie wir bei unseren verspannten/ blocki
 erten Patient*innen die HWS und den CTÜ „frei“ bekommen. So werden Me
 thoden aus Chiropraktik/Osteopathie\, Sympathikustherapie und allg. Manual
 -/Faszientherapie gezeigt und eingeübt. Die Praxis steht – wie immer 
 – im Vordergrund.\n\nAußerdem: Neuwahlen!\n\nDozent: HP Michael Knödls
 eder\, München\n[/av_textblock]\n\n[av_table purpose='tabular' pricing_ta
 ble_design='avia_pricing_default' pricing_hidden_cells='' caption='' respo
 nsive_styling='avia_responsive_table' av_uid='av-95d65s' custom_class='']\
 n[av_row row_style='' av_uid='av-73v7j4'][av_cell col_style='avia-highligh
 t-col' av_uid='av-6845u8']Veranstaltungen der Bezirke sind für Mitglieder
  kostenfrei.\nDie Teilnahmegebühr für Nichtmitglieder (zugelassene Heilp
 raktiker mit Nachweis) beträgt € 25\,00 (bei Veranstaltungen von mehr a
 ls 4 Stunden € 50\,00). Sollten Sie im Laufe des Kalenderjahres Mitglied
  im Heilpraktikerverband Bayern e.V. werden\, wird Ihnen die Teilnahmegeb
 ühr angerechnet.[/av_cell][/av_row]\n[/av_table]\n\n[/av_two_third][av_on
 e_third min_height='' vertical_alignment='av-align-top' space='' row_boxsh
 adow='' row_boxshadow_width='10' row_boxshadow_color='' custom_margin='' m
 argin='0px' av-desktop-margin='' av-medium-margin='' av-small-margin='' av
 -mini-margin='' mobile_breaking='' mobile_column_order='' border='' border
 _style='solid' border_color='' radius='' min_col_height='' padding='' av-d
 esktop-padding='' av-medium-padding='' av-small-padding='' av-mini-padding
 ='' svg_div_top='' svg_div_top_color='#333333' svg_div_top_width='100' svg
 _div_top_height='50' svg_div_top_max_height='none' svg_div_top_flip='' svg
 _div_top_invert='' svg_div_top_front='' svg_div_top_opacity='' svg_div_top
 _preview='' svg_div_bottom='' svg_div_bottom_color='#333333' svg_div_botto
 m_width='100' svg_div_bottom_height='50' svg_div_bottom_max_height='none' 
 svg_div_bottom_flip='' svg_div_bottom_invert='' svg_div_bottom_front='' sv
 g_div_bottom_opacity='' svg_div_bottom_preview='' fold_type='' fold_height
 ='' fold_more='Weiterlesen' fold_less='Read less' fold_text_style='' fold_
 btn_align='' column_boxshadow='' column_boxshadow_width='10' column_boxsha
 dow_color='' background='bg_color' background_color='' background_gradient
 _direction='vertical' background_gradient_color1='#000000' background_grad
 ient_color2='#ffffff' background_gradient_color3='' src='' background_posi
 tion='top left' background_repeat='no-repeat' highlight='' highlight_size=
 '' fold_overlay_color='' fold_text_color='' fold_btn_color='theme-color' f
 old_btn_bg_color='' fold_btn_font_color='' size-btn-text='' av-desktop-fon
 t-size-btn-text='' av-medium-font-size-btn-text='' av-small-font-size-btn-
 text='' av-mini-font-size-btn-text='' animation='' animation_duration='' a
 nimation_custom_bg_color='' animation_z_index_curtain='100' parallax_paral
 lax='' parallax_parallax_speed='' av-desktop-parallax_parallax='' av-deskt
 op-parallax_parallax_speed='' av-medium-parallax_parallax='' av-medium-par
 allax_parallax_speed='' av-small-parallax_parallax='' av-small-parallax_pa
 rallax_speed='' av-mini-parallax_parallax='' av-mini-parallax_parallax_spe
 ed='' fold_timer='' z_index_fold='' css_position='' css_position_location=
 '' css_position_z_index='' av-desktop-css_position='' av-desktop-css_posit
 ion_location='' av-desktop-css_position_z_index='' av-medium-css_position=
 '' av-medium-css_position_location='' av-medium-css_position_z_index='' av
 -small-css_position='' av-small-css_position_location='' av-small-css_posi
 tion_z_index='' av-mini-css_position='' av-mini-css_position_location='' a
 v-mini-css_position_z_index='' link='' linktarget='' link_hover='' title_a
 ttr='' alt_attr='' mobile_display='' mobile_col_pos='0' id='' custom_class
 ='' template_class='' aria_label='' av_uid='av-3zl2k0' sc_version='1.0']\n
 [av_textblock fold_type='' fold_height='' fold_more='Weiterlesen' fold_les
 s='Read less' fold_text_style='' fold_btn_align='' textblock_styling_align
 ='' textblock_styling='' textblock_styling_gap='' textblock_styling_mobile
 ='' size='' av-desktop-font-size='' av-medium-font-size='' av-small-font-s
 ize='' av-mini-font-size='' font_color='' color='' fold_overlay_color='' f
 old_text_color='' fold_btn_color='theme-color' fold_btn_bg_color='' fold_b
 tn_font_color='' size-btn-text='' av-desktop-font-size-btn-text='' av-medi
 um-font-size-btn-text='' av-small-font-size-btn-text='' av-mini-font-size-
 btn-text='' fold_timer='' z_index_fold='' id='' custom_class='' template_c
 lass='' av_uid='av-23ikyo' sc_version='1.0' admin_preview_bg='']\n[event]W
 ann\n#_EVENTDATES\n#_EVENTTIMES\n\nUnterrichtsumfang: 4\,5 US*\n\n#_EVENTA
 DDTOCALENDAR\n\n\n\n[/event]\n[/av_textblock]\n[/av_one_third]\n\n[av_text
 block fold_type='' fold_height='' fold_more='Weiterlesen' fold_less='Read 
 less' fold_text_style='' fold_btn_align='' textblock_styling_align='' text
 block_styling='' textblock_styling_gap='' textblock_styling_mobile='' size
 ='' av-desktop-font-size='' av-medium-font-size='' av-small-font-size='' a
 v-mini-font-size='' font_color='' color='' fold_overlay_color='' fold_text
 _color='' fold_btn_color='theme-color' fold_btn_bg_color='' fold_btn_font_
 color='' size-btn-text='' av-desktop-font-size-btn-text='' av-medium-font-
 size-btn-text='' av-small-font-size-btn-text='' av-mini-font-size-btn-text
 ='' fold_timer='' z_index_fold='' av-desktop-hide='' av-medium-hide='' av-
 small-hide='' av-mini-hide='' id='' custom_class='' template_class='' av_u
 id='' sc_version='1.0'][/av_textblock]
CATEGORIES:Bezirk Schwaben (Augsburg),Bezirksveranstaltung
LOCATION:BRK – Rettungswache Haunstetten\, Johann-Strauß-Str. 11\, Augsb
 urg\, 86179\, Deutschland
GEO:48.301587;10.901581
X-APPLE-STRUCTURED-LOCATION;VALUE=URI;X-ADDRESS=Johann-Strauß-Str. 11\, Au
 gsburg\, 86179\, Deutschland;X-APPLE-RADIUS=100;X-TITLE=BRK – Rettungswa
 che Haunstetten:geo:48.301587,10.901581
END:VEVENT
BEGIN:VTIMEZONE
TZID:Europe/Berlin
X-LIC-LOCATION:Europe/Berlin
BEGIN:STANDARD
DTSTART:20241027T020000
TZOFFSETFROM:+0200
TZOFFSETTO:+0100
TZNAME:CET
END:STANDARD
END:VTIMEZONE
END:VCALENDAR