BEGIN:VCALENDAR
VERSION:2.0
PRODID:-//wp-events-plugin.com//7.2.3.1//EN
TZID:Europe/Berlin
X-WR-TIMEZONE:Europe/Berlin
BEGIN:VEVENT
UID:817@heilpraktiker-akademie-bayern.de
DTSTART;TZID=Europe/Berlin:20260315T090000
DTEND;TZID=Europe/Berlin:20260315T123000
DTSTAMP:20250925T085342Z
URL:https://heilpraktiker-akademie-bayern.de/events/faszienmassage-mit-cup
 ping-2026/
SUMMARY:Faszienmassage mit Cupping
DESCRIPTION:[av_two_third first min_height='' vertical_alignment='av-align-
 top' space='' row_boxshadow='' row_boxshadow_width='10' row_boxshadow_colo
 r='' custom_margin='' margin='0px' av-desktop-margin='' av-medium-margin='
 ' av-small-margin='' av-mini-margin='' mobile_breaking='' mobile_column_or
 der='' border='' border_style='solid' border_color='' radius='' min_col_he
 ight='' padding='' av-desktop-padding='' av-medium-padding='' av-small-pad
 ding='' av-mini-padding='' svg_div_top='' svg_div_top_color='#333333' svg_
 div_top_width='100' svg_div_top_height='50' svg_div_top_max_height='none' 
 svg_div_top_flip='' svg_div_top_invert='' svg_div_top_front='' svg_div_top
 _opacity='' svg_div_top_preview='' svg_div_bottom='' svg_div_bottom_color=
 '#333333' svg_div_bottom_width='100' svg_div_bottom_height='50' svg_div_bo
 ttom_max_height='none' svg_div_bottom_flip='' svg_div_bottom_invert='' svg
 _div_bottom_front='' svg_div_bottom_opacity='' svg_div_bottom_preview='' f
 old_type='' fold_height='' fold_more='Weiterlesen' fold_less='Read less' f
 old_text_style='' fold_btn_align='' column_boxshadow='' column_boxshadow_w
 idth='10' column_boxshadow_color='' background='bg_color' background_color
 ='' background_gradient_direction='vertical' background_gradient_color1='#
 000000' background_gradient_color2='#ffffff' background_gradient_color3=''
  src='' background_position='top left' background_repeat='no-repeat' highl
 ight='' highlight_size='' fold_overlay_color='' fold_text_color='' fold_bt
 n_color='theme-color' fold_btn_bg_color='' fold_btn_font_color='' size-btn
 -text='' av-desktop-font-size-btn-text='' av-medium-font-size-btn-text='' 
 av-small-font-size-btn-text='' av-mini-font-size-btn-text='' animation='' 
 animation_duration='' animation_custom_bg_color='' animation_z_index_curta
 in='100' parallax_parallax='' parallax_parallax_speed='' av-desktop-parall
 ax_parallax='' av-desktop-parallax_parallax_speed='' av-medium-parallax_pa
 rallax='' av-medium-parallax_parallax_speed='' av-small-parallax_parallax=
 '' av-small-parallax_parallax_speed='' av-mini-parallax_parallax='' av-min
 i-parallax_parallax_speed='' fold_timer='' z_index_fold='' css_position=''
  css_position_location='' css_position_z_index='' av-desktop-css_position=
 '' av-desktop-css_position_location='' av-desktop-css_position_z_index='' 
 av-medium-css_position='' av-medium-css_position_location='' av-medium-css
 _position_z_index='' av-small-css_position='' av-small-css_position_locati
 on='' av-small-css_position_z_index='' av-mini-css_position='' av-mini-css
 _position_location='' av-mini-css_position_z_index='' link='' linktarget='
 ' link_hover='' title_attr='' alt_attr='' mobile_display='' mobile_col_pos
 ='0' id='' custom_class='' template_class='' aria_label='' av_uid='av-d04v
 u8' sc_version='1.0']\n\n[av_textblock fold_type='' fold_height='' fold_mo
 re='Weiterlesen' fold_less='Read less' fold_text_style='' fold_btn_align='
 ' textblock_styling_align='' textblock_styling='' textblock_styling_gap=''
  textblock_styling_mobile='' size='' av-desktop-font-size='' av-medium-fon
 t-size='' av-small-font-size='' av-mini-font-size='' font_color='' color='
 ' background='bg_color' background_color='' background_gradient_direction=
 'vertical' background_gradient_color1='#000000' background_gradient_color2
 ='#ffffff' background_gradient_color3='' padding='' padding_sync='true' av
 -desktop-padding='' av-desktop-padding_sync='true' av-medium-padding='' av
 -medium-padding_sync='true' av-small-padding='' av-small-padding_sync='tru
 e' av-mini-padding='' av-mini-padding_sync='true' fold_overlay_color='' fo
 ld_text_color='' fold_btn_color='theme-color' fold_btn_bg_color='' fold_bt
 n_font_color='' size-btn-text='' av-desktop-font-size-btn-text='' av-mediu
 m-font-size-btn-text='' av-small-font-size-btn-text='' av-mini-font-size-b
 tn-text='' fold_timer='' z_index_fold='' id='' custom_class='' template_cl
 ass='' av_uid='av-lr61av32' sc_version='1.0' admin_preview_bg='']\n[event]
 #_EVENTNAME[/event]\nFaszienmassage mit Cupping ist eine Mischtechnik\, di
 e sich aus traditionellen Elementen der Bindegewebsmassage\, GuaSha\, TuiN
 a und Schröpfen entwickelt hat. Mit Unterdruck wird Entschlackung\, Schme
 rzreduktion und Harmonisierung in diversen Gewebsstrukturen erreicht. Unte
 rschiedlich starke Reize setzen neue Impulse auf (Stoffwechsel-) Prozesse 
 in Faszien\, Bindegewebe\, innere Organe und Nervensystem.\nFür die prakt
 ischen Übungen ist bequeme Kleidung vorteilhaft. Die Cups werden freundli
 cherweise von BellaBambi ® zur Verfügung gestellt.\n\nDozentin: HP Beate
  Heydkamp\, Puchheim\n[/av_textblock]\n\n[av_table purpose='tabular' prici
 ng_table_design='avia_pricing_default' pricing_hidden_cells='' caption='' 
 responsive_styling='avia_responsive_table' alb_description='' id='' custom
 _class='' template_class='' av_uid='av-95d65s' sc_version='1.0']\n[av_row 
 row_style='' av_uid='av-3khjbs'][av_cell col_style='avia-highlight-col' av
 _uid='av-2hvd14']Veranstaltungen der Bezirke sind für Mitglieder kostenfr
 ei.\nDie Teilnahmegebühr für Nichtmitglieder (zugelassene Heilpraktiker 
 mit Nachweis) beträgt € 30\,00 (bei Veranstaltungen von mehr als 4 Stun
 den € 60\,00). Sollten Sie im Laufe des Kalenderjahres Mitglied im Heilp
 raktikerverband Bayern e.V. werden\, wird Ihnen die Teilnahmegebühr anger
 echnet.[/av_cell][/av_row]\n[/av_table]\n\n[/av_two_third][av_one_third mi
 n_height='' vertical_alignment='av-align-top' space='' row_boxshadow='' ro
 w_boxshadow_width='10' row_boxshadow_color='' custom_margin='' margin='0px
 ' av-desktop-margin='' av-medium-margin='' av-small-margin='' av-mini-marg
 in='' mobile_breaking='' mobile_column_order='' border='' border_style='so
 lid' border_color='' radius='' min_col_height='' padding='' av-desktop-pad
 ding='' av-medium-padding='' av-small-padding='' av-mini-padding='' svg_di
 v_top='' svg_div_top_color='#333333' svg_div_top_width='100' svg_div_top_h
 eight='50' svg_div_top_max_height='none' svg_div_top_flip='' svg_div_top_i
 nvert='' svg_div_top_front='' svg_div_top_opacity='' svg_div_top_preview='
 ' svg_div_bottom='' svg_div_bottom_color='#333333' svg_div_bottom_width='1
 00' svg_div_bottom_height='50' svg_div_bottom_max_height='none' svg_div_bo
 ttom_flip='' svg_div_bottom_invert='' svg_div_bottom_front='' svg_div_bott
 om_opacity='' svg_div_bottom_preview='' fold_type='' fold_height='' fold_m
 ore='Weiterlesen' fold_less='Read less' fold_text_style='' fold_btn_align=
 '' column_boxshadow='' column_boxshadow_width='10' column_boxshadow_color=
 '' background='bg_color' background_color='' background_gradient_direction
 ='vertical' background_gradient_color1='#000000' background_gradient_color
 2='#ffffff' background_gradient_color3='' src='' background_position='top 
 left' background_repeat='no-repeat' highlight='' highlight_size='' fold_ov
 erlay_color='' fold_text_color='' fold_btn_color='theme-color' fold_btn_bg
 _color='' fold_btn_font_color='' size-btn-text='' av-desktop-font-size-btn
 -text='' av-medium-font-size-btn-text='' av-small-font-size-btn-text='' av
 -mini-font-size-btn-text='' animation='' animation_duration='' animation_c
 ustom_bg_color='' animation_z_index_curtain='100' parallax_parallax='' par
 allax_parallax_speed='' av-desktop-parallax_parallax='' av-desktop-paralla
 x_parallax_speed='' av-medium-parallax_parallax='' av-medium-parallax_para
 llax_speed='' av-small-parallax_parallax='' av-small-parallax_parallax_spe
 ed='' av-mini-parallax_parallax='' av-mini-parallax_parallax_speed='' fold
 _timer='' z_index_fold='' css_position='' css_position_location='' css_pos
 ition_z_index='' av-desktop-css_position='' av-desktop-css_position_locati
 on='' av-desktop-css_position_z_index='' av-medium-css_position='' av-medi
 um-css_position_location='' av-medium-css_position_z_index='' av-small-css
 _position='' av-small-css_position_location='' av-small-css_position_z_ind
 ex='' av-mini-css_position='' av-mini-css_position_location='' av-mini-css
 _position_z_index='' link='' linktarget='' link_hover='' title_attr='' alt
 _attr='' mobile_display='' mobile_col_pos='0' id='' custom_class='' templa
 te_class='' aria_label='' av_uid='av-3zl2k0' sc_version='1.0']\n[av_textbl
 ock fold_type='' fold_height='' fold_more='Weiterlesen' fold_less='Read le
 ss' fold_text_style='' fold_btn_align='' textblock_styling_align='' textbl
 ock_styling='' textblock_styling_gap='' textblock_styling_mobile='' size='
 ' av-desktop-font-size='' av-medium-font-size='' av-small-font-size='' av-
 mini-font-size='' font_color='' color='' fold_overlay_color='' fold_text_c
 olor='' fold_btn_color='theme-color' fold_btn_bg_color='' fold_btn_font_co
 lor='' size-btn-text='' av-desktop-font-size-btn-text='' av-medium-font-si
 ze-btn-text='' av-small-font-size-btn-text='' av-mini-font-size-btn-text='
 ' fold_timer='' z_index_fold='' id='' custom_class='' template_class='' av
 _uid='av-23ikyo' sc_version='1.0' admin_preview_bg='']\n[event]Wann\n#_EVE
 NTDATES\n#_EVENTTIMES\n\nUnterrichtsumfang: 4\,5 US*\n\n#_EVENTADDTOCALEND
 AR\n\n\n\n[/event]\n[/av_textblock]\n[/av_one_third]\n\n[av_textblock fold
 _type='' fold_height='' fold_more='Weiterlesen' fold_less='Read less' fold
 _text_style='' fold_btn_align='' textblock_styling_align='' textblock_styl
 ing='' textblock_styling_gap='' textblock_styling_mobile='' size='' av-des
 ktop-font-size='' av-medium-font-size='' av-small-font-size='' av-mini-fon
 t-size='' font_color='' color='' fold_overlay_color='' fold_text_color='' 
 fold_btn_color='theme-color' fold_btn_bg_color='' fold_btn_font_color='' s
 ize-btn-text='' av-desktop-font-size-btn-text='' av-medium-font-size-btn-t
 ext='' av-small-font-size-btn-text='' av-mini-font-size-btn-text='' fold_t
 imer='' z_index_fold='' av-desktop-hide='' av-medium-hide='' av-small-hide
 ='' av-mini-hide='' id='' custom_class='' template_class='' av_uid='av-2sw
 39m' sc_version='1.0'][/av_textblock]\n\n
CATEGORIES:Bezirk Schwaben (Augsburg),Bezirksveranstaltung
LOCATION:BRK – Rettungswache Haunstetten\, Johann-Strauß-Str. 11\, Augsb
 urg\, 86179\, Deutschland
GEO:48.3015868;10.90158109999993
X-APPLE-STRUCTURED-LOCATION;VALUE=URI;X-ADDRESS=Johann-Strauß-Str. 11\, Au
 gsburg\, 86179\, Deutschland;X-APPLE-RADIUS=100;X-TITLE=BRK – Rettungswa
 che Haunstetten:geo:48.3015868,10.90158109999993
END:VEVENT
BEGIN:VTIMEZONE
TZID:Europe/Berlin
X-LIC-LOCATION:Europe/Berlin
BEGIN:STANDARD
DTSTART:20251026T020000
TZOFFSETFROM:+0200
TZOFFSETTO:+0100
TZNAME:CET
END:STANDARD
END:VTIMEZONE
END:VCALENDAR