BEGIN:VCALENDAR
VERSION:2.0
PRODID:-//wp-events-plugin.com//7.2.3.1//EN
TZID:Europe/Berlin
X-WR-TIMEZONE:Europe/Berlin
BEGIN:VEVENT
UID:822@heilpraktiker-akademie-bayern.de
DTSTART;TZID=Europe/Berlin:20260124T100000
DTEND;TZID=Europe/Berlin:20260124T130000
DTSTAMP:20250925T090715Z
URL:https://heilpraktiker-akademie-bayern.de/events/erschoepfungssyndrom/
SUMMARY:Ein Erschöpfungssyndrom erkennen und behandeln
DESCRIPTION:
CATEGORIES:Bezirk Unterfranken,Bezirksveranstaltung
LOCATION:Hotel Amberger\, Ludwigstr. 17\, Würzburg\, 97070\, Deutschland
GEO:49.796511;9.938457
X-APPLE-STRUCTURED-LOCATION;VALUE=URI;X-ADDRESS=Ludwigstr. 17\, Würzburg\,
  97070\, Deutschland;X-APPLE-RADIUS=100;X-TITLE=Hotel Amberger:geo:49.7965
 11,9.938457
END:VEVENT
BEGIN:VTIMEZONE
TZID:Europe/Berlin
X-LIC-LOCATION:Europe/Berlin
BEGIN:STANDARD
DTSTART:20251026T020000
TZOFFSETFROM:+0200
TZOFFSETTO:+0100
TZNAME:CET
END:STANDARD
END:VTIMEZONE
END:VCALENDAR