BEGIN:VCALENDAR
VERSION:2.0
PRODID:-//wp-events-plugin.com//7.2.3.1//EN
TZID:Europe/Berlin
X-WR-TIMEZONE:Europe/Berlin
BEGIN:VEVENT
UID:818@heilpraktiker-akademie-bayern.de
DTSTART;TZID=Europe/Berlin:20260614T090000
DTEND;TZID=Europe/Berlin:20260614T123000
DTSTAMP:20250925T085541Z
URL:https://heilpraktiker-akademie-bayern.de/events/erkrankungen-des-gemue
 ts-und-homoeopathische-begleitung/
SUMMARY:Erkrankungen des Gemüts und homöopathische Begleitung
DESCRIPTION:[av_two_third first min_height='' vertical_alignment='av-align-
 top' space='' row_boxshadow='' row_boxshadow_width='10' row_boxshadow_colo
 r='' custom_margin='' margin='0px' av-desktop-margin='' av-medium-margin='
 ' av-small-margin='' av-mini-margin='' mobile_breaking='' mobile_column_or
 der='' border='' border_style='solid' border_color='' radius='' min_col_he
 ight='' padding='' av-desktop-padding='' av-medium-padding='' av-small-pad
 ding='' av-mini-padding='' svg_div_top='' svg_div_top_color='#333333' svg_
 div_top_width='100' svg_div_top_height='50' svg_div_top_max_height='none' 
 svg_div_top_flip='' svg_div_top_invert='' svg_div_top_front='' svg_div_top
 _opacity='' svg_div_top_preview='' svg_div_bottom='' svg_div_bottom_color=
 '#333333' svg_div_bottom_width='100' svg_div_bottom_height='50' svg_div_bo
 ttom_max_height='none' svg_div_bottom_flip='' svg_div_bottom_invert='' svg
 _div_bottom_front='' svg_div_bottom_opacity='' svg_div_bottom_preview='' f
 old_type='' fold_height='' fold_more='Weiterlesen' fold_less='Read less' f
 old_text_style='' fold_btn_align='' column_boxshadow='' column_boxshadow_w
 idth='10' column_boxshadow_color='' background='bg_color' background_color
 ='' background_gradient_direction='vertical' background_gradient_color1='#
 000000' background_gradient_color2='#ffffff' background_gradient_color3=''
  src='' background_position='top left' background_repeat='no-repeat' highl
 ight='' highlight_size='' fold_overlay_color='' fold_text_color='' fold_bt
 n_color='theme-color' fold_btn_bg_color='' fold_btn_font_color='' size-btn
 -text='' av-desktop-font-size-btn-text='' av-medium-font-size-btn-text='' 
 av-small-font-size-btn-text='' av-mini-font-size-btn-text='' animation='' 
 animation_duration='' animation_custom_bg_color='' animation_z_index_curta
 in='100' parallax_parallax='' parallax_parallax_speed='' av-desktop-parall
 ax_parallax='' av-desktop-parallax_parallax_speed='' av-medium-parallax_pa
 rallax='' av-medium-parallax_parallax_speed='' av-small-parallax_parallax=
 '' av-small-parallax_parallax_speed='' av-mini-parallax_parallax='' av-min
 i-parallax_parallax_speed='' fold_timer='' z_index_fold='' css_position=''
  css_position_location='' css_position_z_index='' av-desktop-css_position=
 '' av-desktop-css_position_location='' av-desktop-css_position_z_index='' 
 av-medium-css_position='' av-medium-css_position_location='' av-medium-css
 _position_z_index='' av-small-css_position='' av-small-css_position_locati
 on='' av-small-css_position_z_index='' av-mini-css_position='' av-mini-css
 _position_location='' av-mini-css_position_z_index='' link='' linktarget='
 ' link_hover='' title_attr='' alt_attr='' mobile_display='' mobile_col_pos
 ='0' id='' custom_class='' template_class='' aria_label='' av_uid='av-d04v
 u8' sc_version='1.0']\n\n[av_textblock fold_type='' fold_height='' fold_mo
 re='Weiterlesen' fold_less='Read less' fold_text_style='' fold_btn_align='
 ' textblock_styling_align='' textblock_styling='' textblock_styling_gap=''
  textblock_styling_mobile='' size='' av-desktop-font-size='' av-medium-fon
 t-size='' av-small-font-size='' av-mini-font-size='' font_color='' color='
 ' background='bg_color' background_color='' background_gradient_direction=
 'vertical' background_gradient_color1='#000000' background_gradient_color2
 ='#ffffff' background_gradient_color3='' padding='' padding_sync='true' av
 -desktop-padding='' av-desktop-padding_sync='true' av-medium-padding='' av
 -medium-padding_sync='true' av-small-padding='' av-small-padding_sync='tru
 e' av-mini-padding='' av-mini-padding_sync='true' fold_overlay_color='' fo
 ld_text_color='' fold_btn_color='theme-color' fold_btn_bg_color='' fold_bt
 n_font_color='' size-btn-text='' av-desktop-font-size-btn-text='' av-mediu
 m-font-size-btn-text='' av-small-font-size-btn-text='' av-mini-font-size-b
 tn-text='' fold_timer='' z_index_fold='' id='' custom_class='' template_cl
 ass='' av_uid='av-lr61av32' sc_version='1.0' admin_preview_bg='']\n[event]
 #_EVENTNAME[/event]\nGemütserkrankungen haben eine große Bandbreite des 
 Erscheinungsbildes\, von "Ich bin beleidigt" bis hin zu tiefen Depressione
 n. Verschiedene Ursachen und Trigger als Auslöser lassen das Umfeld feind
 lich und dunkel erscheinen. In diesem Seminar wird die Referentin Wege und
  homöopathische Mittel zeigen\, die wieder Licht in die Seele lassen und 
 die Energie zurückbringen.\nIm Anschluss an die Fachfortbildung gibt es n
 och Zeit für Therapeutenaustausch mit "kleiner Bewirtung".\n\nDozentin: H
 P Anneliese Barthels\, München\n[/av_textblock]\n\n[av_table purpose='tab
 ular' pricing_table_design='avia_pricing_default' pricing_hidden_cells='' 
 caption='' responsive_styling='avia_responsive_table' alb_description='' i
 d='' custom_class='' template_class='' av_uid='av-95d65s' sc_version='1.0'
 ]\n[av_row row_style='' av_uid='av-3khjbs'][av_cell col_style='avia-highli
 ght-col' av_uid='av-2hvd14']Veranstaltungen der Bezirke sind für Mitglied
 er kostenfrei.\nDie Teilnahmegebühr für Nichtmitglieder (zugelassene Hei
 lpraktiker mit Nachweis) beträgt € 30\,00 (bei Veranstaltungen von mehr
  als 4 Stunden € 60\,00). Sollten Sie im Laufe des Kalenderjahres Mitgli
 ed im Heilpraktikerverband Bayern e.V. werden\, wird Ihnen die Teilnahmege
 bühr angerechnet.[/av_cell][/av_row]\n[/av_table]\n\n[/av_two_third][av_o
 ne_third min_height='' vertical_alignment='av-align-top' space='' row_boxs
 hadow='' row_boxshadow_width='10' row_boxshadow_color='' custom_margin='' 
 margin='0px' av-desktop-margin='' av-medium-margin='' av-small-margin='' a
 v-mini-margin='' mobile_breaking='' mobile_column_order='' border='' borde
 r_style='solid' border_color='' radius='' min_col_height='' padding='' av-
 desktop-padding='' av-medium-padding='' av-small-padding='' av-mini-paddin
 g='' svg_div_top='' svg_div_top_color='#333333' svg_div_top_width='100' sv
 g_div_top_height='50' svg_div_top_max_height='none' svg_div_top_flip='' sv
 g_div_top_invert='' svg_div_top_front='' svg_div_top_opacity='' svg_div_to
 p_preview='' svg_div_bottom='' svg_div_bottom_color='#333333' svg_div_bott
 om_width='100' svg_div_bottom_height='50' svg_div_bottom_max_height='none'
  svg_div_bottom_flip='' svg_div_bottom_invert='' svg_div_bottom_front='' s
 vg_div_bottom_opacity='' svg_div_bottom_preview='' fold_type='' fold_heigh
 t='' fold_more='Weiterlesen' fold_less='Read less' fold_text_style='' fold
 _btn_align='' column_boxshadow='' column_boxshadow_width='10' column_boxsh
 adow_color='' background='bg_color' background_color='' background_gradien
 t_direction='vertical' background_gradient_color1='#000000' background_gra
 dient_color2='#ffffff' background_gradient_color3='' src='' background_pos
 ition='top left' background_repeat='no-repeat' highlight='' highlight_size
 ='' fold_overlay_color='' fold_text_color='' fold_btn_color='theme-color' 
 fold_btn_bg_color='' fold_btn_font_color='' size-btn-text='' av-desktop-fo
 nt-size-btn-text='' av-medium-font-size-btn-text='' av-small-font-size-btn
 -text='' av-mini-font-size-btn-text='' animation='' animation_duration='' 
 animation_custom_bg_color='' animation_z_index_curtain='100' parallax_para
 llax='' parallax_parallax_speed='' av-desktop-parallax_parallax='' av-desk
 top-parallax_parallax_speed='' av-medium-parallax_parallax='' av-medium-pa
 rallax_parallax_speed='' av-small-parallax_parallax='' av-small-parallax_p
 arallax_speed='' av-mini-parallax_parallax='' av-mini-parallax_parallax_sp
 eed='' fold_timer='' z_index_fold='' css_position='' css_position_location
 ='' css_position_z_index='' av-desktop-css_position='' av-desktop-css_posi
 tion_location='' av-desktop-css_position_z_index='' av-medium-css_position
 ='' av-medium-css_position_location='' av-medium-css_position_z_index='' a
 v-small-css_position='' av-small-css_position_location='' av-small-css_pos
 ition_z_index='' av-mini-css_position='' av-mini-css_position_location='' 
 av-mini-css_position_z_index='' link='' linktarget='' link_hover='' title_
 attr='' alt_attr='' mobile_display='' mobile_col_pos='0' id='' custom_clas
 s='' template_class='' aria_label='' av_uid='av-3zl2k0' sc_version='1.0']\
 n[av_textblock fold_type='' fold_height='' fold_more='Weiterlesen' fold_le
 ss='Read less' fold_text_style='' fold_btn_align='' textblock_styling_alig
 n='' textblock_styling='' textblock_styling_gap='' textblock_styling_mobil
 e='' size='' av-desktop-font-size='' av-medium-font-size='' av-small-font-
 size='' av-mini-font-size='' font_color='' color='' fold_overlay_color='' 
 fold_text_color='' fold_btn_color='theme-color' fold_btn_bg_color='' fold_
 btn_font_color='' size-btn-text='' av-desktop-font-size-btn-text='' av-med
 ium-font-size-btn-text='' av-small-font-size-btn-text='' av-mini-font-size
 -btn-text='' fold_timer='' z_index_fold='' id='' custom_class='' template_
 class='' av_uid='av-23ikyo' sc_version='1.0' admin_preview_bg='']\n[event]
 Wann\n#_EVENTDATES\n#_EVENTTIMES\n\nUnterrichtsumfang: 4\,5 US*\n\n#_EVENT
 ADDTOCALENDAR\n\n\n\n[/event]\n[/av_textblock]\n[/av_one_third]\n\n[av_tex
 tblock fold_type='' fold_height='' fold_more='Weiterlesen' fold_less='Read
  less' fold_text_style='' fold_btn_align='' textblock_styling_align='' tex
 tblock_styling='' textblock_styling_gap='' textblock_styling_mobile='' siz
 e='' av-desktop-font-size='' av-medium-font-size='' av-small-font-size='' 
 av-mini-font-size='' font_color='' color='' fold_overlay_color='' fold_tex
 t_color='' fold_btn_color='theme-color' fold_btn_bg_color='' fold_btn_font
 _color='' size-btn-text='' av-desktop-font-size-btn-text='' av-medium-font
 -size-btn-text='' av-small-font-size-btn-text='' av-mini-font-size-btn-tex
 t='' fold_timer='' z_index_fold='' av-desktop-hide='' av-medium-hide='' av
 -small-hide='' av-mini-hide='' id='' custom_class='' template_class='' av_
 uid='av-2sw39m' sc_version='1.0'][/av_textblock]
CATEGORIES:Bezirk Schwaben (Augsburg),Bezirksveranstaltung
LOCATION:BRK – Rettungswache Haunstetten\, Johann-Strauß-Str. 11\, Augsb
 urg\, 86179\, Deutschland
GEO:48.3015868;10.90158109999993
X-APPLE-STRUCTURED-LOCATION;VALUE=URI;X-ADDRESS=Johann-Strauß-Str. 11\, Au
 gsburg\, 86179\, Deutschland;X-APPLE-RADIUS=100;X-TITLE=BRK – Rettungswa
 che Haunstetten:geo:48.3015868,10.90158109999993
END:VEVENT
BEGIN:VTIMEZONE
TZID:Europe/Berlin
X-LIC-LOCATION:Europe/Berlin
BEGIN:DAYLIGHT
DTSTART:20260329T030000
TZOFFSETFROM:+0100
TZOFFSETTO:+0200
TZNAME:CEST
END:DAYLIGHT
END:VTIMEZONE
END:VCALENDAR