BEGIN:VCALENDAR
VERSION:2.0
PRODID:-//wp-events-plugin.com//7.2.3.1//EN
TZID:Europe/Berlin
X-WR-TIMEZONE:Europe/Berlin
BEGIN:VEVENT
UID:808@heilpraktiker-akademie-bayern.de
DTSTART;TZID=Europe/Berlin:20261128T140000
DTEND;TZID=Europe/Berlin:20261128T170000
DTSTAMP:20250925T081346Z
URL:https://heilpraktiker-akademie-bayern.de/events/beckenverwringung-und-
 beinlaengendifferenz/
SUMMARY:Beckenverwringung und Beinlängendifferenz
DESCRIPTION:
CATEGORIES:Bezirk Oberfranken,Bezirksveranstaltung
LOCATION:HP Praxis Björn Huber\, Herzog-Max-Str. 36\, Bamberg\, 96047\, De
 utschland
GEO:49.8889;10.897059
X-APPLE-STRUCTURED-LOCATION;VALUE=URI;X-ADDRESS=Herzog-Max-Str. 36\, Bamber
 g\, 96047\, Deutschland;X-APPLE-RADIUS=100;X-TITLE=HP Praxis Björn Huber:
 geo:49.8889,10.897059
END:VEVENT
BEGIN:VTIMEZONE
TZID:Europe/Berlin
X-LIC-LOCATION:Europe/Berlin
BEGIN:STANDARD
DTSTART:20261025T020000
TZOFFSETFROM:+0200
TZOFFSETTO:+0100
TZNAME:CET
END:STANDARD
END:VTIMEZONE
END:VCALENDAR