BEGIN:VCALENDAR
VERSION:2.0
PRODID:-//wp-events-plugin.com//7.2.3.1//EN
TZID:Europe/Berlin
X-WR-TIMEZONE:Europe/Berlin
BEGIN:VEVENT
UID:821@heilpraktiker-akademie-bayern.de
DTSTART;TZID=Europe/Berlin:20261129T090000
DTEND;TZID=Europe/Berlin:20261129T123000
DTSTAMP:20250925T090101Z
URL:https://heilpraktiker-akademie-bayern.de/events/augendiagnose-und-die-
 direkte-umsetzung-in-traditionelle-therapieverfahren/
SUMMARY:Augendiagnose und die direkte Umsetzung in traditionelle Therapieve
 rfahren
DESCRIPTION:[av_two_third first min_height='' vertical_alignment='av-align-
 top' space='' row_boxshadow='' row_boxshadow_width='10' row_boxshadow_colo
 r='' custom_margin='' margin='0px' av-desktop-margin='' av-medium-margin='
 ' av-small-margin='' av-mini-margin='' mobile_breaking='' mobile_column_or
 der='' border='' border_style='solid' border_color='' radius='' min_col_he
 ight='' padding='' av-desktop-padding='' av-medium-padding='' av-small-pad
 ding='' av-mini-padding='' svg_div_top='' svg_div_top_color='#333333' svg_
 div_top_width='100' svg_div_top_height='50' svg_div_top_max_height='none' 
 svg_div_top_flip='' svg_div_top_invert='' svg_div_top_front='' svg_div_top
 _opacity='' svg_div_top_preview='' svg_div_bottom='' svg_div_bottom_color=
 '#333333' svg_div_bottom_width='100' svg_div_bottom_height='50' svg_div_bo
 ttom_max_height='none' svg_div_bottom_flip='' svg_div_bottom_invert='' svg
 _div_bottom_front='' svg_div_bottom_opacity='' svg_div_bottom_preview='' f
 old_type='' fold_height='' fold_more='Weiterlesen' fold_less='Read less' f
 old_text_style='' fold_btn_align='' column_boxshadow='' column_boxshadow_w
 idth='10' column_boxshadow_color='' background='bg_color' background_color
 ='' background_gradient_direction='vertical' background_gradient_color1='#
 000000' background_gradient_color2='#ffffff' background_gradient_color3=''
  src='' background_position='top left' background_repeat='no-repeat' highl
 ight='' highlight_size='' fold_overlay_color='' fold_text_color='' fold_bt
 n_color='theme-color' fold_btn_bg_color='' fold_btn_font_color='' size-btn
 -text='' av-desktop-font-size-btn-text='' av-medium-font-size-btn-text='' 
 av-small-font-size-btn-text='' av-mini-font-size-btn-text='' animation='' 
 animation_duration='' animation_custom_bg_color='' animation_z_index_curta
 in='100' parallax_parallax='' parallax_parallax_speed='' av-desktop-parall
 ax_parallax='' av-desktop-parallax_parallax_speed='' av-medium-parallax_pa
 rallax='' av-medium-parallax_parallax_speed='' av-small-parallax_parallax=
 '' av-small-parallax_parallax_speed='' av-mini-parallax_parallax='' av-min
 i-parallax_parallax_speed='' fold_timer='' z_index_fold='' css_position=''
  css_position_location='' css_position_z_index='' av-desktop-css_position=
 '' av-desktop-css_position_location='' av-desktop-css_position_z_index='' 
 av-medium-css_position='' av-medium-css_position_location='' av-medium-css
 _position_z_index='' av-small-css_position='' av-small-css_position_locati
 on='' av-small-css_position_z_index='' av-mini-css_position='' av-mini-css
 _position_location='' av-mini-css_position_z_index='' link='' linktarget='
 ' link_hover='' title_attr='' alt_attr='' mobile_display='' mobile_col_pos
 ='0' id='' custom_class='' template_class='' aria_label='' av_uid='av-d04v
 u8' sc_version='1.0']\n\n[av_textblock fold_type='' fold_height='' fold_mo
 re='Weiterlesen' fold_less='Read less' fold_text_style='' fold_btn_align='
 ' textblock_styling_align='' textblock_styling='' textblock_styling_gap=''
  textblock_styling_mobile='' size='' av-desktop-font-size='' av-medium-fon
 t-size='' av-small-font-size='' av-mini-font-size='' font_color='' color='
 ' background='bg_color' background_color='' background_gradient_direction=
 'vertical' background_gradient_color1='#000000' background_gradient_color2
 ='#ffffff' background_gradient_color3='' padding='' padding_sync='true' av
 -desktop-padding='' av-desktop-padding_sync='true' av-medium-padding='' av
 -medium-padding_sync='true' av-small-padding='' av-small-padding_sync='tru
 e' av-mini-padding='' av-mini-padding_sync='true' fold_overlay_color='' fo
 ld_text_color='' fold_btn_color='theme-color' fold_btn_bg_color='' fold_bt
 n_font_color='' size-btn-text='' av-desktop-font-size-btn-text='' av-mediu
 m-font-size-btn-text='' av-small-font-size-btn-text='' av-mini-font-size-b
 tn-text='' fold_timer='' z_index_fold='' id='' custom_class='' template_cl
 ass='' av_uid='av-lr61av32' sc_version='1.0' admin_preview_bg='']\n[event]
 #_EVENTNAME[/event]\nHinweise aus Konstitution\, Diathese\, Disposition un
 d der Zeichenlehre\, die uns anzeigen\, welches Therapieverfahren sinnvoll
  sein kann.\n\nDozent: HP Stefan Mair\, München\n[/av_textblock]\n\n[av_t
 able purpose='tabular' pricing_table_design='avia_pricing_default' pricing
 _hidden_cells='' caption='' responsive_styling='avia_responsive_table' alb
 _description='' id='' custom_class='' template_class='' av_uid='av-95d65s'
  sc_version='1.0']\n[av_row row_style='' av_uid='av-3khjbs'][av_cell col_s
 tyle='avia-highlight-col' av_uid='av-2hvd14']Veranstaltungen der Bezirke s
 ind für Mitglieder kostenfrei.\nDie Teilnahmegebühr für Nichtmitglieder
  (zugelassene Heilpraktiker mit Nachweis) beträgt € 30\,00 (bei Veranst
 altungen von mehr als 4 Stunden € 60\,00). Sollten Sie im Laufe des Kale
 nderjahres Mitglied im Heilpraktikerverband Bayern e.V. werden\, wird Ihne
 n die Teilnahmegebühr angerechnet.[/av_cell][/av_row]\n[/av_table]\n\n[/a
 v_two_third][av_one_third min_height='' vertical_alignment='av-align-top' 
 space='' row_boxshadow='' row_boxshadow_width='10' row_boxshadow_color='' 
 custom_margin='' margin='0px' av-desktop-margin='' av-medium-margin='' av-
 small-margin='' av-mini-margin='' mobile_breaking='' mobile_column_order='
 ' border='' border_style='solid' border_color='' radius='' min_col_height=
 '' padding='' av-desktop-padding='' av-medium-padding='' av-small-padding=
 '' av-mini-padding='' svg_div_top='' svg_div_top_color='#333333' svg_div_t
 op_width='100' svg_div_top_height='50' svg_div_top_max_height='none' svg_d
 iv_top_flip='' svg_div_top_invert='' svg_div_top_front='' svg_div_top_opac
 ity='' svg_div_top_preview='' svg_div_bottom='' svg_div_bottom_color='#333
 333' svg_div_bottom_width='100' svg_div_bottom_height='50' svg_div_bottom_
 max_height='none' svg_div_bottom_flip='' svg_div_bottom_invert='' svg_div_
 bottom_front='' svg_div_bottom_opacity='' svg_div_bottom_preview='' fold_t
 ype='' fold_height='' fold_more='Weiterlesen' fold_less='Read less' fold_t
 ext_style='' fold_btn_align='' column_boxshadow='' column_boxshadow_width=
 '10' column_boxshadow_color='' background='bg_color' background_color='' b
 ackground_gradient_direction='vertical' background_gradient_color1='#00000
 0' background_gradient_color2='#ffffff' background_gradient_color3='' src=
 '' background_position='top left' background_repeat='no-repeat' highlight=
 '' highlight_size='' fold_overlay_color='' fold_text_color='' fold_btn_col
 or='theme-color' fold_btn_bg_color='' fold_btn_font_color='' size-btn-text
 ='' av-desktop-font-size-btn-text='' av-medium-font-size-btn-text='' av-sm
 all-font-size-btn-text='' av-mini-font-size-btn-text='' animation='' anima
 tion_duration='' animation_custom_bg_color='' animation_z_index_curtain='1
 00' parallax_parallax='' parallax_parallax_speed='' av-desktop-parallax_pa
 rallax='' av-desktop-parallax_parallax_speed='' av-medium-parallax_paralla
 x='' av-medium-parallax_parallax_speed='' av-small-parallax_parallax='' av
 -small-parallax_parallax_speed='' av-mini-parallax_parallax='' av-mini-par
 allax_parallax_speed='' fold_timer='' z_index_fold='' css_position='' css_
 position_location='' css_position_z_index='' av-desktop-css_position='' av
 -desktop-css_position_location='' av-desktop-css_position_z_index='' av-me
 dium-css_position='' av-medium-css_position_location='' av-medium-css_posi
 tion_z_index='' av-small-css_position='' av-small-css_position_location=''
  av-small-css_position_z_index='' av-mini-css_position='' av-mini-css_posi
 tion_location='' av-mini-css_position_z_index='' link='' linktarget='' lin
 k_hover='' title_attr='' alt_attr='' mobile_display='' mobile_col_pos='0' 
 id='' custom_class='' template_class='' aria_label='' av_uid='av-3zl2k0' s
 c_version='1.0']\n[av_textblock fold_type='' fold_height='' fold_more='Wei
 terlesen' fold_less='Read less' fold_text_style='' fold_btn_align='' textb
 lock_styling_align='' textblock_styling='' textblock_styling_gap='' textbl
 ock_styling_mobile='' size='' av-desktop-font-size='' av-medium-font-size=
 '' av-small-font-size='' av-mini-font-size='' font_color='' color='' fold_
 overlay_color='' fold_text_color='' fold_btn_color='theme-color' fold_btn_
 bg_color='' fold_btn_font_color='' size-btn-text='' av-desktop-font-size-b
 tn-text='' av-medium-font-size-btn-text='' av-small-font-size-btn-text='' 
 av-mini-font-size-btn-text='' fold_timer='' z_index_fold='' id='' custom_c
 lass='' template_class='' av_uid='av-23ikyo' sc_version='1.0' admin_previe
 w_bg='']\n[event]Wann\n#_EVENTDATES\n#_EVENTTIMES\n\nUnterrichtsumfang: 4\
 ,5 US*\n\n#_EVENTADDTOCALENDAR\n\n\n\n[/event]\n[/av_textblock]\n[/av_one_
 third]\n\n[av_textblock fold_type='' fold_height='' fold_more='Weiterlesen
 ' fold_less='Read less' fold_text_style='' fold_btn_align='' textblock_sty
 ling_align='' textblock_styling='' textblock_styling_gap='' textblock_styl
 ing_mobile='' size='' av-desktop-font-size='' av-medium-font-size='' av-sm
 all-font-size='' av-mini-font-size='' font_color='' color='' fold_overlay_
 color='' fold_text_color='' fold_btn_color='theme-color' fold_btn_bg_color
 ='' fold_btn_font_color='' size-btn-text='' av-desktop-font-size-btn-text=
 '' av-medium-font-size-btn-text='' av-small-font-size-btn-text='' av-mini-
 font-size-btn-text='' fold_timer='' z_index_fold='' av-desktop-hide='' av-
 medium-hide='' av-small-hide='' av-mini-hide='' id='' custom_class='' temp
 late_class='' av_uid='av-2sw39m' sc_version='1.0'][/av_textblock]
CATEGORIES:Bezirk Schwaben (Augsburg),Bezirksveranstaltung
LOCATION:BRK – Rettungswache Haunstetten\, Johann-Strauß-Str. 11\, Augsb
 urg\, 86179\, Deutschland
GEO:48.3015868;10.90158109999993
X-APPLE-STRUCTURED-LOCATION;VALUE=URI;X-ADDRESS=Johann-Strauß-Str. 11\, Au
 gsburg\, 86179\, Deutschland;X-APPLE-RADIUS=100;X-TITLE=BRK – Rettungswa
 che Haunstetten:geo:48.3015868,10.90158109999993
END:VEVENT
BEGIN:VTIMEZONE
TZID:Europe/Berlin
X-LIC-LOCATION:Europe/Berlin
BEGIN:STANDARD
DTSTART:20261025T020000
TZOFFSETFROM:+0200
TZOFFSETTO:+0100
TZNAME:CET
END:STANDARD
END:VTIMEZONE
END:VCALENDAR