BEGIN:VCALENDAR
VERSION:2.0
PRODID:-//wp-events-plugin.com//7.2.3.1//EN
TZID:Europe/Berlin
X-WR-TIMEZONE:Europe/Berlin
BEGIN:VEVENT
UID:752@heilpraktiker-akademie-bayern.de
DTSTART;TZID=Europe/Berlin:20250125T090000
DTEND;TZID=Europe/Berlin:20250125T123000
DTSTAMP:20241123T205404Z
URL:https://heilpraktiker-akademie-bayern.de/events/armlaengenreflextest/
SUMMARY:Der Armlängenreflextest – ein ganzheitliches bioenergetisches Te
 stverfahren
DESCRIPTION:[av_two_third first min_height='' vertical_alignment='av-align-
 top' space='' row_boxshadow='' row_boxshadow_width='10' row_boxshadow_colo
 r='' custom_margin='' margin='0px' av-desktop-margin='' av-medium-margin='
 ' av-small-margin='' av-mini-margin='' mobile_breaking='' mobile_column_or
 der='' border='' border_style='solid' border_color='' radius='' min_col_he
 ight='' padding='' av-desktop-padding='' av-medium-padding='' av-small-pad
 ding='' av-mini-padding='' svg_div_top='' svg_div_top_color='#333333' svg_
 div_top_width='100' svg_div_top_height='50' svg_div_top_max_height='none' 
 svg_div_top_flip='' svg_div_top_invert='' svg_div_top_front='' svg_div_top
 _opacity='' svg_div_top_preview='' svg_div_bottom='' svg_div_bottom_color=
 '#333333' svg_div_bottom_width='100' svg_div_bottom_height='50' svg_div_bo
 ttom_max_height='none' svg_div_bottom_flip='' svg_div_bottom_invert='' svg
 _div_bottom_front='' svg_div_bottom_opacity='' svg_div_bottom_preview='' f
 old_type='' fold_height='' fold_more='Weiterlesen' fold_less='Read less' f
 old_text_style='' fold_btn_align='' column_boxshadow='' column_boxshadow_w
 idth='10' column_boxshadow_color='' background='bg_color' background_color
 ='' background_gradient_direction='vertical' background_gradient_color1='#
 000000' background_gradient_color2='#ffffff' background_gradient_color3=''
  src='' background_position='top left' background_repeat='no-repeat' highl
 ight='' highlight_size='' fold_overlay_color='' fold_text_color='' fold_bt
 n_color='theme-color' fold_btn_bg_color='' fold_btn_font_color='' size-btn
 -text='' av-desktop-font-size-btn-text='' av-medium-font-size-btn-text='' 
 av-small-font-size-btn-text='' av-mini-font-size-btn-text='' animation='' 
 animation_duration='' animation_custom_bg_color='' animation_z_index_curta
 in='100' parallax_parallax='' parallax_parallax_speed='' av-desktop-parall
 ax_parallax='' av-desktop-parallax_parallax_speed='' av-medium-parallax_pa
 rallax='' av-medium-parallax_parallax_speed='' av-small-parallax_parallax=
 '' av-small-parallax_parallax_speed='' av-mini-parallax_parallax='' av-min
 i-parallax_parallax_speed='' fold_timer='' z_index_fold='' css_position=''
  css_position_location='' css_position_z_index='' av-desktop-css_position=
 '' av-desktop-css_position_location='' av-desktop-css_position_z_index='' 
 av-medium-css_position='' av-medium-css_position_location='' av-medium-css
 _position_z_index='' av-small-css_position='' av-small-css_position_locati
 on='' av-small-css_position_z_index='' av-mini-css_position='' av-mini-css
 _position_location='' av-mini-css_position_z_index='' link='' linktarget='
 ' link_hover='' title_attr='' alt_attr='' mobile_display='' mobile_col_pos
 ='0' id='' custom_class='' template_class='' aria_label='' av_uid='av-d04v
 u8' sc_version='1.0']\n\n[av_textblock fold_type='' fold_height='' fold_mo
 re='Weiterlesen' fold_less='Read less' fold_text_style='' fold_btn_align='
 ' textblock_styling_align='' textblock_styling='' textblock_styling_gap=''
  textblock_styling_mobile='' size='' av-desktop-font-size='' av-medium-fon
 t-size='' av-small-font-size='' av-mini-font-size='' font_color='' color='
 ' fold_overlay_color='' fold_text_color='' fold_btn_color='theme-color' fo
 ld_btn_bg_color='' fold_btn_font_color='' size-btn-text='' av-desktop-font
 -size-btn-text='' av-medium-font-size-btn-text='' av-small-font-size-btn-t
 ext='' av-mini-font-size-btn-text='' fold_timer='' z_index_fold='' id='' c
 ustom_class='' template_class='' av_uid='av-lr61av32' sc_version='1.0' adm
 in_preview_bg='']\n[event]#_EVENTNAME[/event]\nPhysioenergetische Verfahre
 n wie der Armlängenreflextest sind manuelle Testverfahren\, die dazu beit
 ragen können\, umfangreiche Fragestellungen bzgl. eines Krankheitsprozess
 es zu beantworten\, um zu einer klaren Befunderhebung\, Diagnosestellung u
 nd Auswahl adäquater Therapiemethoden zu gelangen.\n\nDurch den diagnosti
 schen Dialog zwischen Behandler*in und Patient*in können Ursachen\, Einfl
 ussfaktoren und Ebenen\, auf denen krankhafte Veränderungen sowie Dysbala
 ncen stattfinden\, auch schon vor der Entstehung deutlicher Krankheitszeic
 hen aufgefunden werden.\n\nEbenso kann es dieses Testverfahren erleichtern
 \, geeignete Therapien und Medikamente zu finden und diese auf Effektivit
 ät\, Verträglichkeit und Wechselwirkungen zu überprüfen.\n\nIn dieser 
 Fachfortbildung wird diese wirkungsvolle und im Prinzip einfach zu erlerne
 nde Methode in all ihren Möglichkeiten als Gesamtüberblick vorgestellt u
 nd anhand praktischer Übungen erfahrbar gemacht.\n\nDozentin: HP Sabina B
 . Neumayr\, München\n\n\n\n[/av_textblock]\n\n[av_textblock fold_type='' 
 fold_height='' fold_more='Weiterlesen' fold_less='Read less' fold_text_sty
 le='' fold_btn_align='' textblock_styling_align='' textblock_styling='' te
 xtblock_styling_gap='' textblock_styling_mobile='' size='' av-desktop-font
 -size='' av-medium-font-size='' av-small-font-size='' av-mini-font-size=''
  font_color='' color='' fold_overlay_color='' fold_text_color='' fold_btn_
 color='theme-color' fold_btn_bg_color='' fold_btn_font_color='' size-btn-t
 ext='' av-desktop-font-size-btn-text='' av-medium-font-size-btn-text='' av
 -small-font-size-btn-text='' av-mini-font-size-btn-text='' fold_timer='' z
 _index_fold='' id='' custom_class='' template_class='' av_uid='av-lr61cego
 ' sc_version='1.0' admin_preview_bg='']\nVoranmeldung erforderlich unter:\
 n\n[av_font_icon icon='ue805' font='entypo-fontello' style='' caption='' l
 ink='manually\,info@naturheilpraxis-bachhuber.de' linktarget='' size='20px
 ' position='left' color='' av_uid='av-bdojo0' custom_class='inline_cal' ad
 min_preview_bg=''][/av_font_icon]info@naturheilpraxis-bachhuber.de - nur w
 enn nicht per E-Mail möglich: Tel. 089 55062936\n[/av_textblock]\n\n[av_t
 able purpose='tabular' pricing_table_design='avia_pricing_default' pricing
 _hidden_cells='' caption='' responsive_styling='avia_responsive_table' av_
 uid='av-95d65s' custom_class='']\n[av_row row_style='' av_uid='av-73v7j4']
 [av_cell col_style='avia-highlight-col' av_uid='av-6845u8']Veranstaltungen
  der Bezirke sind für Mitglieder kostenfrei.\nDie Teilnahmegebühr für N
 ichtmitglieder (zugelassene Heilpraktiker mit Nachweis) beträgt € 25\,0
 0 (bei Veranstaltungen von mehr als 4 Stunden € 50\,00). Sollten Sie im 
 Laufe des Kalenderjahres Mitglied im Heilpraktikerverband Bayern e.V. werd
 en\, wird Ihnen die Teilnahmegebühr angerechnet.[/av_cell][/av_row]\n[/av
 _table]\n\n[/av_two_third][av_one_third min_height='' vertical_alignment='
 av-align-top' space='' row_boxshadow='' row_boxshadow_width='10' row_boxsh
 adow_color='' custom_margin='' margin='0px' av-desktop-margin='' av-medium
 -margin='' av-small-margin='' av-mini-margin='' mobile_breaking='' mobile_
 column_order='' border='' border_style='solid' border_color='' radius='' m
 in_col_height='' padding='' av-desktop-padding='' av-medium-padding='' av-
 small-padding='' av-mini-padding='' svg_div_top='' svg_div_top_color='#333
 333' svg_div_top_width='100' svg_div_top_height='50' svg_div_top_max_heigh
 t='none' svg_div_top_flip='' svg_div_top_invert='' svg_div_top_front='' sv
 g_div_top_opacity='' svg_div_top_preview='' svg_div_bottom='' svg_div_bott
 om_color='#333333' svg_div_bottom_width='100' svg_div_bottom_height='50' s
 vg_div_bottom_max_height='none' svg_div_bottom_flip='' svg_div_bottom_inve
 rt='' svg_div_bottom_front='' svg_div_bottom_opacity='' svg_div_bottom_pre
 view='' fold_type='' fold_height='' fold_more='Weiterlesen' fold_less='Rea
 d less' fold_text_style='' fold_btn_align='' column_boxshadow='' column_bo
 xshadow_width='10' column_boxshadow_color='' background='bg_color' backgro
 und_color='' background_gradient_direction='vertical' background_gradient_
 color1='#000000' background_gradient_color2='#ffffff' background_gradient_
 color3='' src='' background_position='top left' background_repeat='no-repe
 at' highlight='' highlight_size='' fold_overlay_color='' fold_text_color='
 ' fold_btn_color='theme-color' fold_btn_bg_color='' fold_btn_font_color=''
  size-btn-text='' av-desktop-font-size-btn-text='' av-medium-font-size-btn
 -text='' av-small-font-size-btn-text='' av-mini-font-size-btn-text='' anim
 ation='' animation_duration='' animation_custom_bg_color='' animation_z_in
 dex_curtain='100' parallax_parallax='' parallax_parallax_speed='' av-deskt
 op-parallax_parallax='' av-desktop-parallax_parallax_speed='' av-medium-pa
 rallax_parallax='' av-medium-parallax_parallax_speed='' av-small-parallax_
 parallax='' av-small-parallax_parallax_speed='' av-mini-parallax_parallax=
 '' av-mini-parallax_parallax_speed='' fold_timer='' z_index_fold='' css_po
 sition='' css_position_location='' css_position_z_index='' av-desktop-css_
 position='' av-desktop-css_position_location='' av-desktop-css_position_z_
 index='' av-medium-css_position='' av-medium-css_position_location='' av-m
 edium-css_position_z_index='' av-small-css_position='' av-small-css_positi
 on_location='' av-small-css_position_z_index='' av-mini-css_position='' av
 -mini-css_position_location='' av-mini-css_position_z_index='' link='' lin
 ktarget='' link_hover='' title_attr='' alt_attr='' mobile_display='' mobil
 e_col_pos='0' id='' custom_class='' template_class='' aria_label='' av_uid
 ='av-3zl2k0' sc_version='1.0']\n\n[av_textblock fold_type='' fold_height='
 ' fold_more='Weiterlesen' fold_less='Read less' fold_text_style='' fold_bt
 n_align='' textblock_styling_align='' textblock_styling='' textblock_styli
 ng_gap='' textblock_styling_mobile='' size='' av-desktop-font-size='' av-m
 edium-font-size='' av-small-font-size='' av-mini-font-size='' font_color='
 ' color='' fold_overlay_color='' fold_text_color='' fold_btn_color='theme-
 color' fold_btn_bg_color='' fold_btn_font_color='' size-btn-text='' av-des
 ktop-font-size-btn-text='' av-medium-font-size-btn-text='' av-small-font-s
 ize-btn-text='' av-mini-font-size-btn-text='' fold_timer='' z_index_fold='
 ' id='' custom_class='' template_class='' av_uid='av-23ikyo' sc_version='1
 .0' admin_preview_bg='']\n[event]Wann\n#_EVENTDATES\n#_EVENTTIMES\n\nUnter
 richtsumfang: 4\,5 US*\n\n#_EVENTADDTOCALENDAR\n\n\n\n[/event]\n[/av_textb
 lock]\n\n[/av_one_third][av_textblock fold_type='' fold_height='' fold_mor
 e='Weiterlesen' fold_less='Read less' fold_text_style='' fold_btn_align=''
  textblock_styling_align='' textblock_styling='' textblock_styling_gap='' 
 textblock_styling_mobile='' size='' av-desktop-font-size='' av-medium-font
 -size='' av-small-font-size='' av-mini-font-size='' font_color='' color=''
  fold_overlay_color='' fold_text_color='' fold_btn_color='theme-color' fol
 d_btn_bg_color='' fold_btn_font_color='' size-btn-text='' av-desktop-font-
 size-btn-text='' av-medium-font-size-btn-text='' av-small-font-size-btn-te
 xt='' av-mini-font-size-btn-text='' fold_timer='' z_index_fold='' av-deskt
 op-hide='' av-medium-hide='' av-small-hide='' av-mini-hide='' id='' custom
 _class='' template_class='' av_uid='' sc_version='1.0'][/av_textblock]
CATEGORIES:Bezirk Oberbayern West,Bezirksveranstaltung
LOCATION:Heilpraktiker Schule »Josef Angerer«\, Berufsfachschule für Nat
 urheilweisen\, Baumkirchner Straße 20/Rgb\, München\, 81673 \, Deutschla
 nd
GEO:48.128721;11.631176200000027
X-APPLE-STRUCTURED-LOCATION;VALUE=URI;X-ADDRESS=Baumkirchner Straße 20/Rgb
 \, München\, 81673 \, Deutschland;X-APPLE-RADIUS=100;X-TITLE=Heilpraktike
 r Schule »Josef Angerer«\, Berufsfachschule für Naturheilweisen:geo:48.
 128721,11.631176200000027
END:VEVENT
BEGIN:VTIMEZONE
TZID:Europe/Berlin
X-LIC-LOCATION:Europe/Berlin
BEGIN:STANDARD
DTSTART:20241027T020000
TZOFFSETFROM:+0200
TZOFFSETTO:+0100
TZNAME:CET
END:STANDARD
END:VTIMEZONE
END:VCALENDAR